PDS_VERSION_ID = PDS3
/* FILE DATA ELEMENTS */
RECORD_TYPE = STREAM
/* POINTERS TO DATA OBJECTS */
^COMPRESSED_FILE = "HH934_0000_BL3.JP2"
/* IDENTIFICATION DATA ELEMENTS */
DATA_SET_ID = "MEX-M-HRSC-5-REFDR-MAPPROJECTED-V3.0"
DATA_SET_NAME = "MARS EXPRESS HRSC MAP PROJECTED REFDR V3.0"
DETECTOR_ID = MEX_HRSC_BLUE
EVENT_TYPE = "MARS-REGIONAL-MAPPING-Im-Gl-Pf"
INSTRUMENT_HOST_ID = MEX
INSTRUMENT_HOST_NAME = "MARS EXPRESS"
INSTRUMENT_ID = HRSC
INSTRUMENT_NAME = "HIGH RESOLUTION STEREO CAMERA"
MISSION_NAME = "MARS EXPRESS"
MISSION_PHASE_NAME = ME_Phase_38
PROCESSING_LEVEL_ID = 3
PRODUCT_CREATION_TIME = 2018-09-04T13:05:27.000Z
PRODUCT_ID = "HH934_0000_BL3.JP2"
RELEASE_ID = 0140
REVISION_ID = 0000
/* QUALITY DATA ELEMENTS */
DATA_QUALITY_ID = 1
DATA_QUALITY_DESC = "Data calculated based on original SPICE kernels"
/* TIME DATA ELEMENTS */
SPACECRAFT_CLOCK_START_COUNT = "1/0468197178.09045"
SPACECRAFT_CLOCK_STOP_COUNT = "1/0468197398.08858"
START_TIME = 2018-03-03T22:47:08.713Z
STOP_TIME = 2018-03-03T22:49:34.066Z
/* ORBITAL DATA ELEMENTS */
ASCENDING_NODE_LONGITUDE = 237.44
MAXIMUM_RESOLUTION = 60.7
FOOTPRINT_POINT_LATITUDE = (50.45,50.441,50.4311,50.4203,50.4085, 50.3957,50.3789,50.1097,49.8315,49.6461 ,49.368,49.1827,48.9973,48.8118,48.6265 ,48.4412,48.2559,48.0706,47.8853, 47.6075,47.4223,47.1445,46.9594,46.7742 ,46.5892,46.3117,46.1264,45.9417, 45.7566,45.479,45.294,45.0172,44.8329, 44.5561,44.3715,44.187,44.0024,43.8176, 43.632,43.2645,43.0792,42.8956,42.7118, 42.4362,42.2524,41.9767,41.7012,41.3347 ,41.1543,41.1609,41.1687,41.1757,41.181 ,41.1869,41.3708,41.5551,41.7393, 41.9236,42.1079,42.2921,42.4764,42.6609 ,42.9376,43.1223,43.3993,43.584,43.769, 43.954,44.139,44.324,44.5097,44.6965, 44.8817,45.0673,45.2524,45.4365,45.6233 ,45.8101,45.9958,46.1816,46.3663, 46.5524,46.8319,47.0182,47.2971,47.4831 ,47.6691,47.8552,48.0412,48.2271, 48.4134,48.6928,48.879,49.0652,49.2516, 49.4379,49.7174,49.9037,50.1827,50.45)
FOOTPRINT_POINT_LONGITUDE = (38.6693,38.3683,38.0625,37.7516, 37.4361,37.1152,36.7267,36.6161,36.6549 ,36.6803,36.7176,36.7417,36.7665, 36.7917,36.8141,36.8371,36.8597,36.8831 ,36.9049,36.9372,36.9584,36.9899, 37.0111,37.0319,37.0517,37.0805,37.1039 ,37.1196,37.1402,37.1715,37.1926, 37.2153,37.2284,37.2534,37.2707,37.287, 37.3057,37.3251,37.3546,37.3755,37.4013 ,37.4117,37.4241,37.4434,37.4567, 37.4778,37.4982,37.5201,37.8501,38.1087 ,38.4537,38.8295,39.1251,39.4561, 39.4459,39.4352,39.4245,39.4136,39.4029 ,39.3926,39.3821,39.3712,39.3549, 39.3437,39.3269,39.3157,39.304,39.2921, 39.2801,39.2685,39.2547,39.2379,39.2256 ,39.2124,39.2003,39.1913,39.1745, 39.1576,39.1439,39.13,39.119,39.1042, 39.0809,39.0651,39.0432,39.0284,39.0135 ,38.9984,38.9832,38.9685,38.9522, 38.9283,38.9122,38.8958,38.8791,38.8623 ,38.8369,38.8197,38.7957,38.6693)
ORBIT_NUMBER = 17934
ORBITAL_ECCENTRICITY = 0.573
ORBITAL_INCLINATION = 86.97
ORBITAL_SEMIMAJOR_AXIS = 8793.4
PERIAPSIS_ALTITUDE = 374.3
PERIAPSIS_ARGUMENT_ANGLE = 129.29
PERIAPSIS_TIME = 2018-03-03T22:47:01.000Z
SPACECRAFT_ORIENTATION = (0.0,-1.0,0.0)
^MEX_ORIENTATION_DESC = "MEX_ORIENTATION_DESC.TXT"
SPACECRAFT_POINTING_MODE = ACROSSTRACK
^MEX_POINTING_DESC = "MEX_POINTING_DESC.TXT"
RIGHT_ASCENSION = -1e+32
DECLINATION = -1e+32
OFFSET_ANGLE = -1.4
SPACECRAFT_SOLAR_DISTANCE = 2.34543e+08
TARGET_NAME = MARS
/* CAMERA DATA ELEMENTS */
DETECTOR_TEMPERATURE = 18.9822
FOCAL_PLANE_TEMPERATURE = 10.0106
INST_CMPRS_NAME = "DISCRETE COSINE TRANSFORMATION (DCT)"
INST_CMPRS_RATIO = 7.47645
INST_CMPRS_QUALITY = 0
INST_CMPRS_QUANTZ_TBL_ID = 0
INSTRUMENT_TEMPERATURE = 12.6613
LENS_TEMPERATURE = 10.2145
MACROPIXEL_SIZE = 4
MISSING_FRAMES = 0
PIXEL_SUBSAMPLING_FLAG = N
SIGNAL_CHAIN_ID = 2
/* RADIOMETRIC DATA ELEMENTS */
BANDWIDTH = 76.0
CENTER_FILTER_WAVELENGTH = 444.0
RADIANCE_OFFSET = 0.347123
RADIANCE_SCALING_FACTOR = 0.00244409
REFLECTANCE_SCALING_FACTOR = 0.000138139
MEX:REFLECTANCE_OFFSET = 0.0196192
/* IMAGE OBJECT DEFINITIONS */
OBJECT = IMAGE
  INTERCHANGE_FORMAT = BINARY
  LINES = 11071
  LINE_SAMPLES = 2420
  SAMPLE_TYPE = UNSIGNED_INTEGER
  SAMPLE_BITS = 8
  BANDS = 1
  BAND_STORAGE_TYPE = BAND_SEQUENTIAL
  MAXIMUM = 255
  MEAN = 141.073
  MINIMUM = 1
  STANDARD_DEVIATION = 17.6215
END_OBJECT = IMAGE
/* MAP OBJECT DEFINITIONS */
OBJECT = IMAGE_MAP_PROJECTION
  ^DATA_SET_MAP_PROJECTION_CATALOG= "DSMAP.CAT"
  A_AXIS_RADIUS = 3396.0
  B_AXIS_RADIUS = 3396.0
  C_AXIS_RADIUS = 3396.0
  CENTER_LATITUDE = 0.0
  CENTER_LONGITUDE = 38.0
  COORDINATE_SYSTEM_NAME = PLANETOGRAPHIC
  COORDINATE_SYSTEM_TYPE = "BODY-FIXED ROTATING"
  EASTERNMOST_LONGITUDE = 39.4561
  FIRST_STANDARD_PARALLEL = "N/A"
  LINE_FIRST_PIXEL = 1
  LINE_LAST_PIXEL = 11071
  LINE_PROJECTION_OFFSET = 59847.875
  MAP_PROJECTION_ROTATION = 0.0
  MAP_PROJECTION_TYPE = SINUSOIDAL
  MAP_RESOLUTION = 1185.42760773333
  MAP_SCALE = 0.05
  MAXIMUM_LATITUDE = 50.45
  MINIMUM_LATITUDE = 41.1543
  POSITIVE_LONGITUDE_DIRECTION = EAST
  REFERENCE_LATITUDE = "N/A"
  REFERENCE_LONGITUDE = "N/A"
  SAMPLE_FIRST_PIXEL = 1
  SAMPLE_LAST_PIXEL = 2420
  SAMPLE_PROJECTION_OFFSET = 1101.375
  SECOND_STANDARD_PARALLEL = "N/A"
  WESTERNMOST_LONGITUDE = 36.6161
END_OBJECT = IMAGE_MAP_PROJECTION
/* The JPEG2000 image data file associated with this label. */
OBJECT = COMPRESSED_FILE
  FILE_NAME = "HH934_0000_BL3.JP2"
  RECORD_TYPE = UNDEFINED
  FILE_RECORDS = UNK
  ENCODING_TYPE = "JP2"
  INTERCHANGE_FORMAT = BINARY
  UNCOMPRESSED_FILE_NAME = "HH934_0000_BL3.IMG"
  REQUIRED_STORAGE_BYTES = "26811180"
  ^DESCRIPTION = "JP2INFO.TXT"
END_OBJECT = COMPRESSED_FILE
END
