PDS_VERSION_ID = PDS3
/* FILE DATA ELEMENTS */
RECORD_TYPE = STREAM
/* POINTERS TO DATA OBJECTS */
^COMPRESSED_FILE = "HH936_0000_P23.JP2"
/* IDENTIFICATION DATA ELEMENTS */
DATA_SET_ID = "MEX-M-HRSC-5-REFDR-MAPPROJECTED-V3.0"
DATA_SET_NAME = "MARS EXPRESS HRSC MAP PROJECTED REFDR V3.0"
DETECTOR_ID = MEX_HRSC_P2
EVENT_TYPE = "MARS-REGIONAL-MAPPING-Vo-Im-Pf"
INSTRUMENT_HOST_ID = MEX
INSTRUMENT_HOST_NAME = "MARS EXPRESS"
INSTRUMENT_ID = HRSC
INSTRUMENT_NAME = "HIGH RESOLUTION STEREO CAMERA"
MISSION_NAME = "MARS EXPRESS"
MISSION_PHASE_NAME = ME_Phase_38
PROCESSING_LEVEL_ID = 3
PRODUCT_CREATION_TIME = 2018-09-04T13:05:27.000Z
PRODUCT_ID = "HH936_0000_P23.JP2"
RELEASE_ID = 0140
REVISION_ID = 0000
/* QUALITY DATA ELEMENTS */
DATA_QUALITY_ID = 1
DATA_QUALITY_DESC = "Data calculated based on original SPICE kernels"
/* TIME DATA ELEMENTS */
SPACECRAFT_CLOCK_START_COUNT = "1/0468247304.08272"
SPACECRAFT_CLOCK_STOP_COUNT = "1/0468247573.64364"
START_TIME = 2018-03-04T12:42:54.635Z
STOP_TIME = 2018-03-04T12:46:09.505Z
/* ORBITAL DATA ELEMENTS */
ASCENDING_NODE_LONGITUDE = 237.41
MAXIMUM_RESOLUTION = 31.2
FOOTPRINT_POINT_LATITUDE = (60.3166,60.3015,60.2894,60.2617, 60.2339,59.9286,59.6785,59.4281,59.1777 ,58.9278,58.6775,58.302,57.9267,57.6765 ,57.4261,57.0506,56.8002,56.5498, 56.1745,55.9242,55.5488,55.2988,55.0487 ,54.7984,54.5483,54.2983,54.0486, 53.6738,53.4241,53.1744,52.9246,52.6747 ,52.4251,52.1757,51.9265,51.6772, 51.3034,51.0545,50.6811,50.4324,50.1837 ,49.9352,49.6868,49.4385,49.1904, 48.9425,48.6946,48.4468,48.1992,47.8279 ,47.8005,47.8137,47.8202,47.8282, 48.2033,48.5759,48.9489,49.1976,49.4464 ,49.6954,49.9444,50.1938,50.4434, 50.6931,51.0679,51.3177,51.6927,51.9428 ,52.193,52.4434,52.6938,53.0698,53.3205 ,53.5712,53.8221,54.1986,54.4494, 54.7007,54.9519,55.2031,55.4548,55.8314 ,56.0826,56.3343,56.5856,56.8373,57.089 ,57.3406,57.5924,57.844,58.0958,58.3476 ,58.5992,58.9768,59.2286,59.6063, 59.8581,60.1098,60.3615,60.3166)
FOOTPRINT_POINT_LONGITUDE = (195.795,195.307,194.948,194.205, 193.539,193.42,193.47,193.519,193.567, 193.613,193.659,193.726,193.79,193.832, 193.873,193.933,193.972,194.01,194.065, 194.101,194.154,194.188,194.221,194.254 ,194.286,194.317,194.348,194.392, 194.421,194.45,194.477,194.505,194.531, 194.557,194.583,194.607,194.644,194.667 ,194.701,194.723,194.745,194.766, 194.787,194.807,194.827,194.846,194.865 ,194.884,194.902,194.928,195.51,196.052 ,196.361,196.787,196.915,196.9,196.884, 196.874,196.863,196.852,196.84,196.829, 196.818,196.806,196.788,196.776,196.757 ,196.744,196.731,196.718,196.705, 196.684,196.67,196.655,196.641,196.618, 196.603,196.587,196.572,196.555,196.539 ,196.513,196.496,196.478,196.46,196.442 ,196.424,196.405,196.385,196.366, 196.345,196.325,196.304,196.272,196.25, 196.216,196.193,196.169,196.145, 195.795)
ORBIT_NUMBER = 17936
ORBITAL_ECCENTRICITY = 0.572
ORBITAL_INCLINATION = 86.98
ORBITAL_SEMIMAJOR_AXIS = 8786.58
PERIAPSIS_ALTITUDE = 374.33
PERIAPSIS_ARGUMENT_ANGLE = 128.93
PERIAPSIS_TIME = 2018-03-04T12:44:57.000Z
SPACECRAFT_ORIENTATION = (0.0,-1.0,0.0)
^MEX_ORIENTATION_DESC = "MEX_ORIENTATION_DESC.TXT"
SPACECRAFT_POINTING_MODE = NADIR
^MEX_POINTING_DESC = "MEX_POINTING_DESC.TXT"
RIGHT_ASCENSION = -1e+32
DECLINATION = -1e+32
OFFSET_ANGLE = -1e+32
SPACECRAFT_SOLAR_DISTANCE = 2.34438e+08
TARGET_NAME = MARS
/* CAMERA DATA ELEMENTS */
DETECTOR_TEMPERATURE = 18.5744
FOCAL_PLANE_TEMPERATURE = 8.3794
INST_CMPRS_NAME = "DISCRETE COSINE TRANSFORMATION (DCT)"
INST_CMPRS_RATIO = 7.42633
INST_CMPRS_QUALITY = 0
INST_CMPRS_QUANTZ_TBL_ID = 0
INSTRUMENT_TEMPERATURE = 11.234
LENS_TEMPERATURE = 8.5833
MACROPIXEL_SIZE = 2
MISSING_FRAMES = 0
PIXEL_SUBSAMPLING_FLAG = N
SIGNAL_CHAIN_ID = 3
/* RADIOMETRIC DATA ELEMENTS */
BANDWIDTH = 177.0
CENTER_FILTER_WAVELENGTH = 676.5
RADIANCE_OFFSET = 2.80736
RADIANCE_SCALING_FACTOR = 0.0233247
REFLECTANCE_SCALING_FACTOR = 0.000679721
MEX:REFLECTANCE_OFFSET = 0.0818112
/* IMAGE OBJECT DEFINITIONS */
OBJECT = IMAGE
  INTERCHANGE_FORMAT = BINARY
  LINES = 29954
  LINE_SAMPLES = 4989
  SAMPLE_TYPE = UNSIGNED_INTEGER
  SAMPLE_BITS = 8
  BANDS = 1
  BAND_STORAGE_TYPE = BAND_SEQUENTIAL
  MAXIMUM = 255
  MEAN = 108.423
  MINIMUM = 1
  STANDARD_DEVIATION = 43.6831
END_OBJECT = IMAGE
/* MAP OBJECT DEFINITIONS */
OBJECT = IMAGE_MAP_PROJECTION
  ^DATA_SET_MAP_PROJECTION_CATALOG= "DSMAP.CAT"
  A_AXIS_RADIUS = 3396.0
  B_AXIS_RADIUS = 3396.0
  C_AXIS_RADIUS = 3396.0
  CENTER_LATITUDE = 0.0
  CENTER_LONGITUDE = 195.0
  COORDINATE_SYSTEM_NAME = PLANETOGRAPHIC
  COORDINATE_SYSTEM_TYPE = "BODY-FIXED ROTATING"
  EASTERNMOST_LONGITUDE = 196.915
  FIRST_STANDARD_PARALLEL = "N/A"
  LINE_FIRST_PIXEL = 1
  LINE_LAST_PIXEL = 29954
  LINE_PROJECTION_OFFSET = 143207.25
  MAP_PROJECTION_ROTATION = 0.0
  MAP_PROJECTION_TYPE = SINUSOIDAL
  MAP_RESOLUTION = 2370.85521546667
  MAP_SCALE = 0.025
  MAXIMUM_LATITUDE = 60.3615
  MINIMUM_LATITUDE = 47.8005
  POSITIVE_LONGITUDE_DIRECTION = EAST
  REFERENCE_LATITUDE = "N/A"
  REFERENCE_LONGITUDE = "N/A"
  SAMPLE_FIRST_PIXEL = 1
  SAMPLE_LAST_PIXEL = 4989
  SAMPLE_PROJECTION_OFFSET = 1922.25
  SECOND_STANDARD_PARALLEL = "N/A"
  WESTERNMOST_LONGITUDE = 193.42
END_OBJECT = IMAGE_MAP_PROJECTION
/* The JPEG2000 image data file associated with this label. */
OBJECT = COMPRESSED_FILE
  FILE_NAME = "HH936_0000_P23.JP2"
  RECORD_TYPE = UNDEFINED
  FILE_RECORDS = UNK
  ENCODING_TYPE = "JP2"
  INTERCHANGE_FORMAT = BINARY
  UNCOMPRESSED_FILE_NAME = "HH936_0000_P23.IMG"
  REQUIRED_STORAGE_BYTES = "149465451"
  ^DESCRIPTION = "JP2INFO.TXT"
END_OBJECT = COMPRESSED_FILE
END
