PDS_VERSION_ID = PDS3
/* FILE DATA ELEMENTS */
RECORD_TYPE = STREAM
/* POINTERS TO DATA OBJECTS */
^COMPRESSED_FILE = "HH939_0000_GR3.JP2"
/* IDENTIFICATION DATA ELEMENTS */
DATA_SET_ID = "MEX-M-HRSC-5-REFDR-MAPPROJECTED-V3.0"
DATA_SET_NAME = "MARS EXPRESS HRSC MAP PROJECTED REFDR V3.0"
DETECTOR_ID = MEX_HRSC_GREEN
EVENT_TYPE = "MARS-REGIONAL-MAPPING-Vo-Im-Pf"
INSTRUMENT_HOST_ID = MEX
INSTRUMENT_HOST_NAME = "MARS EXPRESS"
INSTRUMENT_ID = HRSC
INSTRUMENT_NAME = "HIGH RESOLUTION STEREO CAMERA"
MISSION_NAME = "MARS EXPRESS"
MISSION_PHASE_NAME = ME_Phase_38
PROCESSING_LEVEL_ID = 3
PRODUCT_CREATION_TIME = 2018-09-04T13:05:27.000Z
PRODUCT_ID = "HH939_0000_GR3.JP2"
RELEASE_ID = 0140
REVISION_ID = 0000
/* QUALITY DATA ELEMENTS */
DATA_QUALITY_ID = 1
DATA_QUALITY_DESC = "Data calculated based on original SPICE kernels"
/* TIME DATA ELEMENTS */
SPACECRAFT_CLOCK_START_COUNT = "1/0468322686.09064"
SPACECRAFT_CLOCK_STOP_COUNT = "1/0468322951.08923"
START_TIME = 2018-03-05T09:38:47.920Z
STOP_TIME = 2018-03-05T09:41:58.614Z
/* ORBITAL DATA ELEMENTS */
ASCENDING_NODE_LONGITUDE = 237.36
MAXIMUM_RESOLUTION = 59.9
FOOTPRINT_POINT_LATITUDE = (63.0257,63.0053,62.9656,62.908,62.4343 ,61.9596,61.4841,61.0079,60.7694, 60.5309,60.292,60.0531,59.814,59.5746, 59.3352,59.0955,58.8557,58.6158,58.3757 ,58.1354,57.895,57.6544,57.4136,57.1728 ,56.9318,56.6906,56.4493,56.208,55.9665 ,55.725,55.4832,55.2414,54.9995,54.7575 ,54.5153,54.2731,54.0308,53.7884,53.546 ,53.1821,52.9395,52.6969,52.4541, 52.2113,51.9684,51.7254,51.4824,51.2394 ,50.9963,50.8167,50.8312,50.8409, 50.9758,51.3417,51.5857,51.8296,52.0734 ,52.4391,52.6829,52.9266,53.1702, 53.5356,53.7791,54.0226,54.2659,54.5093 ,54.7525,54.9957,55.2387,55.4817, 55.7246,55.9675,56.2102,56.4528,56.6954 ,56.9379,57.1802,57.4224,57.6645, 57.9065,58.1484,58.3902,58.6317,58.8732 ,59.1146,59.3559,59.597,59.838,60.0788, 60.3195,60.56,60.8003,61.0406,61.2807, 61.5206,61.7603,61.9999,62.4786,62.9565 ,63.0257)
FOOTPRINT_POINT_LONGITUDE = (248.647,248.089,247.143,246.344, 246.468,246.588,246.702,246.812,246.865 ,246.917,246.968,247.019,247.068, 247.116,247.163,247.209,247.255,247.299 ,247.343,247.385,247.427,247.468, 247.508,247.547,247.586,247.623,247.66, 247.696,247.732,247.767,247.801,247.834 ,247.867,247.899,247.93,247.961,247.991 ,248.021,248.05,248.092,248.12,248.147, 248.173,248.199,248.225,248.249,248.274 ,248.297,248.321,248.953,249.452, 249.837,250.396,250.379,250.367,250.355 ,250.343,250.324,250.311,250.298, 250.285,250.264,250.25,250.236,250.222, 250.207,250.193,250.178,250.162,250.147 ,250.131,250.115,250.098,250.081, 250.064,250.047,250.029,250.011,249.992 ,249.974,249.955,249.936,249.916, 249.896,249.875,249.855,249.833,249.811 ,249.789,249.767,249.744,249.721, 249.697,249.673,249.648,249.623,249.597 ,249.544,249.489,248.647)
ORBIT_NUMBER = 17939
ORBITAL_ECCENTRICITY = 0.573
ORBITAL_INCLINATION = 86.97
ORBITAL_SEMIMAJOR_AXIS = 8792.62
PERIAPSIS_ALTITUDE = 374.06
PERIAPSIS_ARGUMENT_ANGLE = 128.39
PERIAPSIS_TIME = 2018-03-05T09:41:53.000Z
SPACECRAFT_ORIENTATION = (0.0,-1.0,0.0)
^MEX_ORIENTATION_DESC = "MEX_ORIENTATION_DESC.TXT"
SPACECRAFT_POINTING_MODE = NADIR
^MEX_POINTING_DESC = "MEX_POINTING_DESC.TXT"
RIGHT_ASCENSION = -1e+32
DECLINATION = -1e+32
OFFSET_ANGLE = -1e+32
SPACECRAFT_SOLAR_DISTANCE = 2.3428e+08
TARGET_NAME = MARS
/* CAMERA DATA ELEMENTS */
DETECTOR_TEMPERATURE = 18.5744
FOCAL_PLANE_TEMPERATURE = 8.1755
INST_CMPRS_NAME = "DISCRETE COSINE TRANSFORMATION (DCT)"
INST_CMPRS_RATIO = 18.7638
INST_CMPRS_QUALITY = 0
INST_CMPRS_QUANTZ_TBL_ID = 0
INSTRUMENT_TEMPERATURE = 11.234
LENS_TEMPERATURE = 8.5833
MACROPIXEL_SIZE = 4
MISSING_FRAMES = 0
PIXEL_SUBSAMPLING_FLAG = N
SIGNAL_CHAIN_ID = 2
/* RADIOMETRIC DATA ELEMENTS */
BANDWIDTH = 88.0
CENTER_FILTER_WAVELENGTH = 538.0
RADIANCE_OFFSET = 1.06358
RADIANCE_SCALING_FACTOR = 0.00355554
REFLECTANCE_SCALING_FACTOR = 0.000168023
MEX:REFLECTANCE_OFFSET = 0.0502614
/* IMAGE OBJECT DEFINITIONS */
OBJECT = IMAGE
  INTERCHANGE_FORMAT = BINARY
  LINES = 14502
  LINE_SAMPLES = 2469
  SAMPLE_TYPE = UNSIGNED_INTEGER
  SAMPLE_BITS = 8
  BANDS = 1
  BAND_STORAGE_TYPE = BAND_SEQUENTIAL
  MAXIMUM = 255
  MEAN = 145.992
  MINIMUM = 1
  STANDARD_DEVIATION = 35.4504
END_OBJECT = IMAGE
/* MAP OBJECT DEFINITIONS */
OBJECT = IMAGE_MAP_PROJECTION
  ^DATA_SET_MAP_PROJECTION_CATALOG= "DSMAP.CAT"
  A_AXIS_RADIUS = 3396.0
  B_AXIS_RADIUS = 3396.0
  C_AXIS_RADIUS = 3396.0
  CENTER_LATITUDE = 0.0
  CENTER_LONGITUDE = 249.0
  COORDINATE_SYSTEM_NAME = PLANETOGRAPHIC
  COORDINATE_SYSTEM_TYPE = "BODY-FIXED ROTATING"
  EASTERNMOST_LONGITUDE = 250.396
  FIRST_STANDARD_PARALLEL = "N/A"
  LINE_FIRST_PIXEL = 1
  LINE_LAST_PIXEL = 14502
  LINE_PROJECTION_OFFSET = 74714.125
  MAP_PROJECTION_ROTATION = 0.0
  MAP_PROJECTION_TYPE = SINUSOIDAL
  MAP_RESOLUTION = 1185.42760773333
  MAP_SCALE = 0.05
  MAXIMUM_LATITUDE = 63.0257
  MINIMUM_LATITUDE = 50.8167
  POSITIVE_LONGITUDE_DIRECTION = EAST
  REFERENCE_LATITUDE = "N/A"
  REFERENCE_LONGITUDE = "N/A"
  SAMPLE_FIRST_PIXEL = 1
  SAMPLE_LAST_PIXEL = 2469
  SAMPLE_PROJECTION_OFFSET = 1406.375
  SECOND_STANDARD_PARALLEL = "N/A"
  WESTERNMOST_LONGITUDE = 246.344
END_OBJECT = IMAGE_MAP_PROJECTION
/* The JPEG2000 image data file associated with this label. */
OBJECT = COMPRESSED_FILE
  FILE_NAME = "HH939_0000_GR3.JP2"
  RECORD_TYPE = UNDEFINED
  FILE_RECORDS = UNK
  ENCODING_TYPE = "JP2"
  INTERCHANGE_FORMAT = BINARY
  UNCOMPRESSED_FILE_NAME = "HH939_0000_GR3.IMG"
  REQUIRED_STORAGE_BYTES = "35825190"
  ^DESCRIPTION = "JP2INFO.TXT"
END_OBJECT = COMPRESSED_FILE
END
