PDS_VERSION_ID = PDS3
/* FILE DATA ELEMENTS */
RECORD_TYPE = STREAM
/* POINTERS TO DATA OBJECTS */
^COMPRESSED_FILE = "HH943_0000_P13.JP2"
/* IDENTIFICATION DATA ELEMENTS */
DATA_SET_ID = "MEX-M-HRSC-5-REFDR-MAPPROJECTED-V3.0"
DATA_SET_NAME = "MARS EXPRESS HRSC MAP PROJECTED REFDR V3.0"
DETECTOR_ID = MEX_HRSC_P1
EVENT_TYPE = "MARS-REGIONAL-MAPPING-Vo-Im-Pf"
INSTRUMENT_HOST_ID = MEX
INSTRUMENT_HOST_NAME = "MARS EXPRESS"
INSTRUMENT_ID = HRSC
INSTRUMENT_NAME = "HIGH RESOLUTION STEREO CAMERA"
MISSION_NAME = "MARS EXPRESS"
MISSION_PHASE_NAME = ME_Phase_38
PROCESSING_LEVEL_ID = 3
PRODUCT_CREATION_TIME = 2018-09-04T13:05:27.000Z
PRODUCT_ID = "HH943_0000_P13.JP2"
RELEASE_ID = 0140
REVISION_ID = 0000
/* QUALITY DATA ELEMENTS */
DATA_QUALITY_ID = 1
DATA_QUALITY_DESC = "Data calculated based on original SPICE kernels"
/* TIME DATA ELEMENTS */
SPACECRAFT_CLOCK_START_COUNT = "1/0468423289.07315"
SPACECRAFT_CLOCK_STOP_COUNT = "1/0468423562.15706"
START_TIME = 2018-03-06T13:35:11.375Z
STOP_TIME = 2018-03-06T13:38:31.991Z
/* ORBITAL DATA ELEMENTS */
ASCENDING_NODE_LONGITUDE = 237.28
MAXIMUM_RESOLUTION = 31
FOOTPRINT_POINT_LATITUDE = (60.6205,60.5981,60.5742,60.5485, 60.5211,60.4093,60.161,59.9123,59.6633, 59.2893,59.0398,58.6649,58.4148,58.1643 ,57.7877,57.5368,57.2854,57.0336, 56.7818,56.5294,56.1508,55.7715,55.3917 ,55.1384,54.8848,54.6309,54.2501, 53.9958,53.7411,53.3591,52.9766,52.7215 ,52.3387,52.0829,51.6989,51.4429, 51.1864,50.9299,50.674,50.4177,50.0328, 49.7759,49.3901,49.0045,48.6185,48.3612 ,48.1037,47.846,47.7365,47.7527,47.7815 ,47.8064,48.0649,48.3234,48.5818, 48.8402,49.0985,49.3567,49.6147,49.8728 ,50.1307,50.3885,50.6462,50.9037, 51.2898,51.5471,51.8042,52.1897,52.5749 ,52.9596,53.2161,53.4722,53.7284, 53.9843,54.2401,54.4957,54.751,55.0064, 55.2615,55.5164,55.7711,56.0256,56.2799 ,56.534,56.788,57.0419,57.2946,57.5485, 57.9281,58.1806,58.4331,58.6853,58.9373 ,59.1893,59.4409,59.6923,59.9435, 60.1943,60.5701,60.6205)
FOOTPRINT_POINT_LONGITUDE = (199.474,199.053,198.63,198.206,197.778 ,197.256,197.318,197.379,197.438, 197.525,197.582,197.664,197.718,197.771 ,197.848,197.899,197.948,197.996, 198.043,198.089,198.157,198.223,198.286 ,198.328,198.369,198.408,198.467, 198.505,198.542,198.596,198.649,198.683 ,198.734,198.766,198.814,198.845, 198.874,198.904,198.934,198.962,199.004 ,199.031,199.071,199.109,199.146,199.17 ,199.194,199.217,199.698,200.009, 200.625,201.221,201.207,201.193,201.178 ,201.163,201.148,201.133,201.117, 201.102,201.086,201.069,201.053,201.036 ,201.01,200.992,200.974,200.947,200.919 ,200.89,200.87,200.851,200.83,200.81, 200.789,200.767,200.746,200.724,200.701 ,200.679,200.655,200.632,200.608, 200.583,200.559,200.533,200.508,200.481 ,200.441,200.414,200.386,200.358, 200.329,200.3,200.27,200.239,200.208, 200.177,200.128,199.474)
ORBIT_NUMBER = 17943
ORBITAL_ECCENTRICITY = 0.572
ORBITAL_INCLINATION = 86.98
ORBITAL_SEMIMAJOR_AXIS = 8784.93
PERIAPSIS_ALTITUDE = 374.82
PERIAPSIS_ARGUMENT_ANGLE = 127.72
PERIAPSIS_TIME = 2018-03-06T13:37:46.000Z
SPACECRAFT_ORIENTATION = (0.0,-1.0,0.0)
^MEX_ORIENTATION_DESC = "MEX_ORIENTATION_DESC.TXT"
SPACECRAFT_POINTING_MODE = ACROSSTRACK
^MEX_POINTING_DESC = "MEX_POINTING_DESC.TXT"
RIGHT_ASCENSION = -1e+32
DECLINATION = -1e+32
OFFSET_ANGLE = -0.539
SPACECRAFT_SOLAR_DISTANCE = 2.34069e+08
TARGET_NAME = MARS
/* CAMERA DATA ELEMENTS */
DETECTOR_TEMPERATURE = 17.1471
FOCAL_PLANE_TEMPERATURE = 7.3599
INST_CMPRS_NAME = "DISCRETE COSINE TRANSFORMATION (DCT)"
INST_CMPRS_RATIO = 11.6109
INST_CMPRS_QUALITY = 0
INST_CMPRS_QUANTZ_TBL_ID = 0
INSTRUMENT_TEMPERATURE = 11.0301
LENS_TEMPERATURE = 8.3794
MACROPIXEL_SIZE = 2
MISSING_FRAMES = 0
PIXEL_SUBSAMPLING_FLAG = N
SIGNAL_CHAIN_ID = 3
/* RADIOMETRIC DATA ELEMENTS */
BANDWIDTH = 174.0
CENTER_FILTER_WAVELENGTH = 675.0
RADIANCE_OFFSET = 2.91008
RADIANCE_SCALING_FACTOR = 0.0194005
REFLECTANCE_SCALING_FACTOR = 0.000571728
MEX:REFLECTANCE_OFFSET = 0.0857592
/* IMAGE OBJECT DEFINITIONS */
OBJECT = IMAGE
  INTERCHANGE_FORMAT = BINARY
  LINES = 30407
  LINE_SAMPLES = 5075
  SAMPLE_TYPE = UNSIGNED_INTEGER
  SAMPLE_BITS = 8
  BANDS = 1
  BAND_STORAGE_TYPE = BAND_SEQUENTIAL
  MAXIMUM = 255
  MEAN = 129.966
  MINIMUM = 1
  STANDARD_DEVIATION = 50.2602
END_OBJECT = IMAGE
/* MAP OBJECT DEFINITIONS */
OBJECT = IMAGE_MAP_PROJECTION
  ^DATA_SET_MAP_PROJECTION_CATALOG= "DSMAP.CAT"
  A_AXIS_RADIUS = 3396.0
  B_AXIS_RADIUS = 3396.0
  C_AXIS_RADIUS = 3396.0
  CENTER_LATITUDE = 0.0
  CENTER_LONGITUDE = 200.0
  COORDINATE_SYSTEM_NAME = PLANETOGRAPHIC
  COORDINATE_SYSTEM_TYPE = "BODY-FIXED ROTATING"
  EASTERNMOST_LONGITUDE = 201.221
  FIRST_STANDARD_PARALLEL = "N/A"
  LINE_FIRST_PIXEL = 1
  LINE_LAST_PIXEL = 30407
  LINE_PROJECTION_OFFSET = 143605.25
  MAP_PROJECTION_ROTATION = 0.0
  MAP_PROJECTION_TYPE = SINUSOIDAL
  MAP_RESOLUTION = 2370.85521546667
  MAP_SCALE = 0.025
  MAXIMUM_LATITUDE = 60.6205
  MINIMUM_LATITUDE = 47.7365
  POSITIVE_LONGITUDE_DIRECTION = EAST
  REFERENCE_LATITUDE = "N/A"
  REFERENCE_LONGITUDE = "N/A"
  SAMPLE_FIRST_PIXEL = 1
  SAMPLE_LAST_PIXEL = 5075
  SAMPLE_PROJECTION_OFFSET = 3134.75
  SECOND_STANDARD_PARALLEL = "N/A"
  WESTERNMOST_LONGITUDE = 197.256
END_OBJECT = IMAGE_MAP_PROJECTION
/* The JPEG2000 image data file associated with this label. */
OBJECT = COMPRESSED_FILE
  FILE_NAME = "HH943_0000_P13.JP2"
  RECORD_TYPE = UNDEFINED
  FILE_RECORDS = UNK
  ENCODING_TYPE = "JP2"
  INTERCHANGE_FORMAT = BINARY
  UNCOMPRESSED_FILE_NAME = "HH943_0000_P13.IMG"
  REQUIRED_STORAGE_BYTES = "154340900"
  ^DESCRIPTION = "JP2INFO.TXT"
END_OBJECT = COMPRESSED_FILE
END
