PDS_VERSION_ID = PDS3
/* FILE DATA ELEMENTS */
RECORD_TYPE = STREAM
/* POINTERS TO DATA OBJECTS */
^COMPRESSED_FILE = "HH951_0000_IR3.JP2"
/* IDENTIFICATION DATA ELEMENTS */
DATA_SET_ID = "MEX-M-HRSC-5-REFDR-MAPPROJECTED-V3.0"
DATA_SET_NAME = "MARS EXPRESS HRSC MAP PROJECTED REFDR V3.0"
DETECTOR_ID = MEX_HRSC_IR
EVENT_TYPE = "MARS-REGIONAL-MAPPING-Vo-Im-Pf"
INSTRUMENT_HOST_ID = MEX
INSTRUMENT_HOST_NAME = "MARS EXPRESS"
INSTRUMENT_ID = HRSC
INSTRUMENT_NAME = "HIGH RESOLUTION STEREO CAMERA"
MISSION_NAME = "MARS EXPRESS"
MISSION_PHASE_NAME = ME_Phase_38
PROCESSING_LEVEL_ID = 3
PRODUCT_CREATION_TIME = 2018-09-04T13:05:27.000Z
PRODUCT_ID = "HH951_0000_IR3.JP2"
RELEASE_ID = 0140
REVISION_ID = 0000
/* QUALITY DATA ELEMENTS */
DATA_QUALITY_ID = 1
DATA_QUALITY_DESC = "Data calculated based on original SPICE kernels"
/* TIME DATA ELEMENTS */
SPACECRAFT_CLOCK_START_COUNT = "1/0468624501.07358"
SPACECRAFT_CLOCK_STOP_COUNT = "1/0468624712.15279"
START_TIME = 2018-03-08T21:28:35.370Z
STOP_TIME = 2018-03-08T21:31:01.986Z
/* ORBITAL DATA ELEMENTS */
ASCENDING_NODE_LONGITUDE = 237.13
MAXIMUM_RESOLUTION = 61
FOOTPRINT_POINT_LATITUDE = (56.9817,56.9763,56.965,56.9501,56.9204 ,56.7135,56.5067,56.1963,55.8858, 55.6787,55.4716,55.1609,54.9537,54.6429 ,54.4356,54.2282,54.0209,53.8135,53.606 ,53.2949,52.9835,52.672,52.3604,52.0487 ,51.8409,51.6329,51.3209,51.1127, 50.9046,50.6963,50.4881,50.2797,50.0713 ,49.8629,49.6544,49.4457,49.237,49.0283 ,48.8194,48.6106,48.4016,48.0879, 47.7742,47.5649,47.3555,47.1459,46.9363 ,46.7268,46.517,46.4252,46.4331,46.436, 46.4381,46.44,46.6501,46.8602,47.1754, 47.3852,47.595,47.8047,48.0144,48.2238, 48.4333,48.6428,48.8521,49.0613,49.2705 ,49.4796,49.7932,50.0021,50.3154, 50.6285,50.8372,51.0459,51.2545,51.4632 ,51.6717,51.8802,52.0885,52.401,52.6093 ,52.8175,53.0256,53.2338,53.4419, 53.6499,53.8579,54.066,54.2739,54.4817, 54.7935,55.1052,55.3129,55.5206,55.7285 ,56.0399,56.2475,56.4551,56.6627, 56.9817)
FOOTPRINT_POINT_LONGITUDE = (104.973,104.528,103.854,103.186, 102.693,102.722,102.751,102.793,102.834 ,102.861,102.887,102.926,102.951, 102.988,103.013,103.036,103.06,103.083, 103.106,103.139,103.172,103.203,103.234 ,103.265,103.284,103.304,103.332, 103.351,103.369,103.387,103.405,103.422 ,103.44,103.457,103.473,103.49,103.506, 103.521,103.537,103.552,103.567,103.589 ,103.611,103.625,103.639,103.653, 103.666,103.679,103.692,104.034,104.605 ,104.929,105.308,105.622,105.613, 105.604,105.591,105.582,105.572,105.563 ,105.554,105.545,105.535,105.526, 105.516,105.506,105.497,105.487,105.472 ,105.462,105.447,105.431,105.421,105.41 ,105.399,105.389,105.378,105.366, 105.355,105.339,105.327,105.316,105.304 ,105.292,105.28,105.269,105.256,105.244 ,105.231,105.219,105.2,105.181,105.167, 105.154,105.14,105.12,105.106,105.092, 105.078,104.973)
ORBIT_NUMBER = 17951
ORBITAL_ECCENTRICITY = 0.572
ORBITAL_INCLINATION = 86.97
ORBITAL_SEMIMAJOR_AXIS = 8790.8
PERIAPSIS_ALTITUDE = 375.02
PERIAPSIS_ARGUMENT_ANGLE = 126.33
PERIAPSIS_TIME = 2018-03-08T21:29:33.000Z
SPACECRAFT_ORIENTATION = (0.0,-1.0,0.0)
^MEX_ORIENTATION_DESC = "MEX_ORIENTATION_DESC.TXT"
SPACECRAFT_POINTING_MODE = INERT
^MEX_POINTING_DESC = "MEX_POINTING_DESC.TXT"
RIGHT_ASCENSION = 211.018
DECLINATION = -68.1
OFFSET_ANGLE = -1e+32
SPACECRAFT_SOLAR_DISTANCE = 2.33645e+08
TARGET_NAME = MARS
/* CAMERA DATA ELEMENTS */
DETECTOR_TEMPERATURE = 17.7588
FOCAL_PLANE_TEMPERATURE = 8.3794
INST_CMPRS_NAME = "DISCRETE COSINE TRANSFORMATION (DCT)"
INST_CMPRS_RATIO = 15.2839
INST_CMPRS_QUALITY = 0
INST_CMPRS_QUANTZ_TBL_ID = 0
INSTRUMENT_TEMPERATURE = 11.6418
LENS_TEMPERATURE = 8.7872
MACROPIXEL_SIZE = 4
MISSING_FRAMES = 0
PIXEL_SUBSAMPLING_FLAG = N
SIGNAL_CHAIN_ID = 2
/* RADIOMETRIC DATA ELEMENTS */
BANDWIDTH = 81.0
CENTER_FILTER_WAVELENGTH = 955.5
RADIANCE_OFFSET = 0.743005
RADIANCE_SCALING_FACTOR = 0.00326339
REFLECTANCE_SCALING_FACTOR = 0.000384338
MEX:REFLECTANCE_OFFSET = 0.0875055
/* IMAGE OBJECT DEFINITIONS */
OBJECT = IMAGE
  INTERCHANGE_FORMAT = BINARY
  LINES = 12551
  LINE_SAMPLES = 2209
  SAMPLE_TYPE = UNSIGNED_INTEGER
  SAMPLE_BITS = 8
  BANDS = 1
  BAND_STORAGE_TYPE = BAND_SEQUENTIAL
  MAXIMUM = 255
  MEAN = 89.2049
  MINIMUM = 1
  STANDARD_DEVIATION = 27.0998
END_OBJECT = IMAGE
/* MAP OBJECT DEFINITIONS */
OBJECT = IMAGE_MAP_PROJECTION
  ^DATA_SET_MAP_PROJECTION_CATALOG= "DSMAP.CAT"
  A_AXIS_RADIUS = 3396.0
  B_AXIS_RADIUS = 3396.0
  C_AXIS_RADIUS = 3396.0
  CENTER_LATITUDE = 0.0
  CENTER_LONGITUDE = 104.0
  COORDINATE_SYSTEM_NAME = PLANETOGRAPHIC
  COORDINATE_SYSTEM_TYPE = "BODY-FIXED ROTATING"
  EASTERNMOST_LONGITUDE = 105.622
  FIRST_STANDARD_PARALLEL = "N/A"
  LINE_FIRST_PIXEL = 1
  LINE_LAST_PIXEL = 12551
  LINE_PROJECTION_OFFSET = 67571.625
  MAP_PROJECTION_ROTATION = 0.0
  MAP_PROJECTION_TYPE = SINUSOIDAL
  MAP_RESOLUTION = 1185.42760773333
  MAP_SCALE = 0.05
  MAXIMUM_LATITUDE = 56.9817
  MINIMUM_LATITUDE = 46.4252
  POSITIVE_LONGITUDE_DIRECTION = EAST
  REFERENCE_LATITUDE = "N/A"
  REFERENCE_LONGITUDE = "N/A"
  SAMPLE_FIRST_PIXEL = 1
  SAMPLE_LAST_PIXEL = 2209
  SAMPLE_PROJECTION_OFFSET = 828.125
  SECOND_STANDARD_PARALLEL = "N/A"
  WESTERNMOST_LONGITUDE = 102.693
END_OBJECT = IMAGE_MAP_PROJECTION
/* The JPEG2000 image data file associated with this label. */
OBJECT = COMPRESSED_FILE
  FILE_NAME = "HH951_0000_IR3.JP2"
  RECORD_TYPE = UNDEFINED
  FILE_RECORDS = UNK
  ENCODING_TYPE = "JP2"
  INTERCHANGE_FORMAT = BINARY
  UNCOMPRESSED_FILE_NAME = "HH951_0000_IR3.IMG"
  REQUIRED_STORAGE_BYTES = "27747249"
  ^DESCRIPTION = "JP2INFO.TXT"
END_OBJECT = COMPRESSED_FILE
END
