PDS_VERSION_ID = PDS3
/* FILE DATA ELEMENTS */
RECORD_TYPE = STREAM
/* POINTERS TO DATA OBJECTS */
^COMPRESSED_FILE = "HH953_0009_S23.JP2"
/* IDENTIFICATION DATA ELEMENTS */
DATA_SET_ID = "MEX-M-HRSC-5-REFDR-MAPPROJECTED-V3.0"
DATA_SET_NAME = "MARS EXPRESS HRSC MAP PROJECTED REFDR V3.0"
DETECTOR_ID = MEX_HRSC_S2
EVENT_TYPE = "MARS-REGIONAL-STEREO-Vo-Te-Pf"
INSTRUMENT_HOST_ID = MEX
INSTRUMENT_HOST_NAME = "MARS EXPRESS"
INSTRUMENT_ID = HRSC
INSTRUMENT_NAME = "HIGH RESOLUTION STEREO CAMERA"
MISSION_NAME = "MARS EXPRESS"
MISSION_PHASE_NAME = ME_Phase_38
PROCESSING_LEVEL_ID = 3
PRODUCT_CREATION_TIME = 2018-09-04T13:05:27.000Z
PRODUCT_ID = "HH953_0009_S23.JP2"
RELEASE_ID = 0140
REVISION_ID = 0000
/* QUALITY DATA ELEMENTS */
DATA_QUALITY_ID = 1
DATA_QUALITY_DESC = "Data calculated based on original SPICE kernels"
/* TIME DATA ELEMENTS */
SPACECRAFT_CLOCK_START_COUNT = "1/0468674750.09036"
SPACECRAFT_CLOCK_STOP_COUNT = "1/0468674942.02473"
START_TIME = 2018-03-09T11:27:08.919Z
STOP_TIME = 2018-03-09T11:29:09.404Z
/* ORBITAL DATA ELEMENTS */
ASCENDING_NODE_LONGITUDE = 237.1
MAXIMUM_RESOLUTION = 16.1
FOOTPRINT_POINT_LATITUDE = (57.4985,57.4872,57.4657,57.4522, 57.4351,57.2205,57.0655,56.9105,56.7552 ,56.5227,56.368,56.2132,56.0585,55.9034 ,55.7486,55.5939,55.4395,55.2074, 55.0527,54.898,54.7436,54.5894,54.4351, 54.2038,54.0495,53.8953,53.7415,53.5109 ,53.357,53.1261,52.9726,52.7425,52.589, 52.3583,52.2052,52.0518,51.822,51.6691, 51.4398,51.2106,51.0578,50.9051,50.6003 ,50.4478,50.2954,49.9912,49.8369,49.844 ,49.8518,49.8578,49.8659,49.8717, 49.8789,49.9599,50.1131,50.3409,50.6463 ,50.7992,50.9522,51.1819,51.335,51.4884 ,51.642,51.7958,51.9496,52.103,52.2567, 52.4107,52.5645,52.7952,52.9492,53.1035 ,53.258,53.4122,53.5666,53.7213,53.953, 54.1077,54.2628,54.4178,54.5728,54.7275 ,54.883,55.0383,55.1936,55.4265,55.6592 ,55.8145,55.97,56.2036,56.3592,56.5146, 56.6703,56.826,56.9819,57.1378,57.2938, 57.4494,57.6054,57.4985)
FOOTPRINT_POINT_LONGITUDE = (259.702,259.327,258.672,258.297, 257.853,257.821,257.845,257.869,257.892 ,257.926,257.949,257.971,257.993, 258.015,258.036,258.057,258.078,258.108 ,258.128,258.148,258.168,258.187, 258.206,258.234,258.252,258.27,258.288, 258.314,258.331,258.357,258.373,258.397 ,258.414,258.437,258.453,258.468, 258.491,258.505,258.527,258.548,258.562 ,258.576,258.602,258.615,258.628, 258.653,258.81,259.058,259.347,259.594, 259.944,260.212,260.522,260.755,260.748 ,260.736,260.72,260.713,260.705,260.693 ,260.684,260.676,260.668,260.659, 260.651,260.642,260.633,260.625,260.616 ,260.602,260.593,260.584,260.574, 260.565,260.555,260.546,260.531,260.521 ,260.511,260.501,260.491,260.48,260.47, 260.459,260.449,260.432,260.416,260.404 ,260.393,260.376,260.364,260.352,260.34 ,260.328,260.315,260.303,260.29,260.277 ,260.265,259.702)
ORBIT_NUMBER = 17953
ORBITAL_ECCENTRICITY = 0.572
ORBITAL_INCLINATION = 86.97
ORBITAL_SEMIMAJOR_AXIS = 8788.27
PERIAPSIS_ALTITUDE = 375.49
PERIAPSIS_ARGUMENT_ANGLE = 125.98
PERIAPSIS_TIME = 2018-03-09T11:27:31.000Z
SPACECRAFT_ORIENTATION = (0.0,-1.0,0.0)
^MEX_ORIENTATION_DESC = "MEX_ORIENTATION_DESC.TXT"
SPACECRAFT_POINTING_MODE = NADIR
^MEX_POINTING_DESC = "MEX_POINTING_DESC.TXT"
RIGHT_ASCENSION = -1e+32
DECLINATION = -1e+32
OFFSET_ANGLE = -1e+32
SPACECRAFT_SOLAR_DISTANCE = 2.33538e+08
TARGET_NAME = MARS
/* CAMERA DATA ELEMENTS */
DETECTOR_TEMPERATURE = 19.1861
FOCAL_PLANE_TEMPERATURE = 8.5833
INST_CMPRS_NAME = "DISCRETE COSINE TRANSFORMATION (DCT)"
INST_CMPRS_RATIO = 8.69144
INST_CMPRS_QUALITY = 0
INST_CMPRS_QUANTZ_TBL_ID = 0
INSTRUMENT_TEMPERATURE = 11.8457
LENS_TEMPERATURE = 9.3989
MACROPIXEL_SIZE = 1
MISSING_FRAMES = 0
PIXEL_SUBSAMPLING_FLAG = N
SIGNAL_CHAIN_ID = 1
/* RADIOMETRIC DATA ELEMENTS */
BANDWIDTH = 178.0
CENTER_FILTER_WAVELENGTH = 679.0
RADIANCE_OFFSET = 4.86537
RADIANCE_SCALING_FACTOR = 0.0118969
REFLECTANCE_SCALING_FACTOR = 0.000343621
MEX:REFLECTANCE_OFFSET = 0.140528
/* IMAGE OBJECT DEFINITIONS */
OBJECT = IMAGE
  INTERCHANGE_FORMAT = BINARY
  LINES = 36856
  LINE_SAMPLES = 8535
  SAMPLE_TYPE = UNSIGNED_INTEGER
  SAMPLE_BITS = 8
  BANDS = 1
  BAND_STORAGE_TYPE = BAND_SEQUENTIAL
  MAXIMUM = 255
  MEAN = 106.16
  MINIMUM = 1
  STANDARD_DEVIATION = 32.179
END_OBJECT = IMAGE
/* MAP OBJECT DEFINITIONS */
OBJECT = IMAGE_MAP_PROJECTION
  ^DATA_SET_MAP_PROJECTION_CATALOG= "DSMAP.CAT"
  A_AXIS_RADIUS = 3396.0
  B_AXIS_RADIUS = 3396.0
  C_AXIS_RADIUS = 3396.0
  CENTER_LATITUDE = 0.0
  CENTER_LONGITUDE = 259.0
  COORDINATE_SYSTEM_NAME = PLANETOGRAPHIC
  COORDINATE_SYSTEM_TYPE = "BODY-FIXED ROTATING"
  EASTERNMOST_LONGITUDE = 260.755
  FIRST_STANDARD_PARALLEL = "N/A"
  LINE_FIRST_PIXEL = 1
  LINE_LAST_PIXEL = 36856
  LINE_PROJECTION_OFFSET = 273110.0
  MAP_PROJECTION_ROTATION = 0.0
  MAP_PROJECTION_TYPE = SINUSOIDAL
  MAP_RESOLUTION = 4741.71043093333
  MAP_SCALE = 0.0125
  MAXIMUM_LATITUDE = 57.6054
  MINIMUM_LATITUDE = 49.8369
  POSITIVE_LONGITUDE_DIRECTION = EAST
  REFERENCE_LATITUDE = "N/A"
  REFERENCE_LONGITUDE = "N/A"
  SAMPLE_FIRST_PIXEL = 1
  SAMPLE_LAST_PIXEL = 8535
  SAMPLE_PROJECTION_OFFSET = 3174.0
  SECOND_STANDARD_PARALLEL = "N/A"
  WESTERNMOST_LONGITUDE = 257.821
END_OBJECT = IMAGE_MAP_PROJECTION
/* The JPEG2000 image data file associated with this label. */
OBJECT = COMPRESSED_FILE
  FILE_NAME = "HH953_0009_S23.JP2"
  RECORD_TYPE = UNDEFINED
  FILE_RECORDS = UNK
  ENCODING_TYPE = "JP2"
  INTERCHANGE_FORMAT = BINARY
  UNCOMPRESSED_FILE_NAME = "HH953_0009_S23.IMG"
  REQUIRED_STORAGE_BYTES = "314600100"
  ^DESCRIPTION = "JP2INFO.TXT"
END_OBJECT = COMPRESSED_FILE
END
