PDS_VERSION_ID = PDS3
/* FILE DATA ELEMENTS */
RECORD_TYPE = STREAM
/* POINTERS TO DATA OBJECTS */
^COMPRESSED_FILE = "HH955_0000_GR3.JP2"
/* IDENTIFICATION DATA ELEMENTS */
DATA_SET_ID = "MEX-M-HRSC-5-REFDR-MAPPROJECTED-V3.0"
DATA_SET_NAME = "MARS EXPRESS HRSC MAP PROJECTED REFDR V3.0"
DETECTOR_ID = MEX_HRSC_GREEN
EVENT_TYPE = "MARS-REGIONAL-MAPPING-Im-Gl-Pf"
INSTRUMENT_HOST_ID = MEX
INSTRUMENT_HOST_NAME = "MARS EXPRESS"
INSTRUMENT_ID = HRSC
INSTRUMENT_NAME = "HIGH RESOLUTION STEREO CAMERA"
MISSION_NAME = "MARS EXPRESS"
MISSION_PHASE_NAME = ME_Phase_38
PROCESSING_LEVEL_ID = 3
PRODUCT_CREATION_TIME = 2018-09-04T13:05:27.000Z
PRODUCT_ID = "HH955_0000_GR3.JP2"
RELEASE_ID = 0140
REVISION_ID = 0000
/* QUALITY DATA ELEMENTS */
DATA_QUALITY_ID = 1
DATA_QUALITY_DESC = "Data calculated based on original SPICE kernels"
/* TIME DATA ELEMENTS */
SPACECRAFT_CLOCK_START_COUNT = "1/0468724966.09031"
SPACECRAFT_CLOCK_STOP_COUNT = "1/0468725216.23855"
START_TIME = 2018-03-10T01:23:26.373Z
STOP_TIME = 2018-03-10T01:26:22.795Z
/* ORBITAL DATA ELEMENTS */
ASCENDING_NODE_LONGITUDE = 237.05
MAXIMUM_RESOLUTION = 60.5
FOOTPRINT_POINT_LATITUDE = (61.4934,61.4513,61.4034,61.3719, 61.0116,60.7909,60.57,60.3489,60.1278, 59.9065,59.6851,59.4635,59.2417,58.9089 ,58.6871,58.4649,58.2426,58.0202, 57.7977,57.5752,57.3525,57.1297,56.7955 ,56.5725,56.3495,56.1263,55.7914, 55.5681,55.3446,55.1212,54.7859,54.4504 ,54.1149,53.8911,53.6672,53.4434, 53.2194,52.9954,52.7715,52.5474,52.3234 ,52.0993,51.7631,51.4269,51.2027, 50.9785,50.7544,50.5301,50.1191,50.1487 ,50.1656,50.1787,50.1909,50.2098,50.435 ,50.6602,50.8854,51.1105,51.3358,51.561 ,51.786,52.1237,52.3488,52.574,52.7991, 53.1368,53.4744,53.6995,53.9245,54.1495 ,54.4869,54.8243,55.1615,55.4987, 55.8357,56.1726,56.3972,56.7339,56.9583 ,57.1826,57.4069,57.6311,57.8551, 58.0792,58.3032,58.527,58.7508,58.9745, 59.1981,59.4217,59.6451,59.8684,60.0916 ,60.3147,60.5378,60.7607,60.9835, 61.2063,61.4288,61.4934)
FOOTPRINT_POINT_LONGITUDE = (53.3538,52.5355,51.7053,51.2055, 51.1391,51.1995,51.2589,51.3171,51.3746 ,51.4308,51.4864,51.5405,51.5936, 51.6718,51.7235,51.7733,51.8221,51.8701 ,51.9174,51.964,52.0095,52.0545,52.1204 ,52.1637,52.2058,52.2473,52.3079, 52.3478,52.3863,52.4249,52.4812,52.5358 ,52.5894,52.6243,52.6579,52.6917, 52.7244,52.7568,52.7886,52.8197,52.8506 ,52.8807,52.9249,52.968,52.9956,53.0231 ,53.0503,53.0765,53.1241,53.7227, 54.0974,54.4103,54.7206,55.2255,55.2084 ,55.1911,55.1736,55.1557,55.1377, 55.1193,55.1006,55.0721,55.0528,55.0333 ,55.0134,54.983,54.9519,54.9308,54.9094 ,54.8877,54.8545,54.8205,54.7857, 54.7502,54.7138,54.6766,54.6513,54.6126 ,54.5863,54.5596,54.5325,54.5049, 54.4769,54.4485,54.4196,54.3902,54.3603 ,54.33,54.2992,54.2679,54.236,54.2037, 54.1707,54.1373,54.1033,54.0687,54.0335 ,53.9978,53.9614,53.3538)
ORBIT_NUMBER = 17955
ORBITAL_ECCENTRICITY = 0.572
ORBITAL_INCLINATION = 86.98
ORBITAL_SEMIMAJOR_AXIS = 8787.86
PERIAPSIS_ALTITUDE = 375.86
PERIAPSIS_ARGUMENT_ANGLE = 125.66
PERIAPSIS_TIME = 2018-03-10T01:25:26.000Z
SPACECRAFT_ORIENTATION = (0.0,-1.0,0.0)
^MEX_ORIENTATION_DESC = "MEX_ORIENTATION_DESC.TXT"
SPACECRAFT_POINTING_MODE = ACROSSTRACK
^MEX_POINTING_DESC = "MEX_POINTING_DESC.TXT"
RIGHT_ASCENSION = -1e+32
DECLINATION = -1e+32
OFFSET_ANGLE = -0.78
SPACECRAFT_SOLAR_DISTANCE = 2.33432e+08
TARGET_NAME = MARS
/* CAMERA DATA ELEMENTS */
DETECTOR_TEMPERATURE = 18.9822
FOCAL_PLANE_TEMPERATURE = 10.2145
INST_CMPRS_NAME = "DISCRETE COSINE TRANSFORMATION (DCT)"
INST_CMPRS_RATIO = 13.5996
INST_CMPRS_QUALITY = 0
INST_CMPRS_QUANTZ_TBL_ID = 0
INSTRUMENT_TEMPERATURE = 12.6613
LENS_TEMPERATURE = 10.8262
MACROPIXEL_SIZE = 4
MISSING_FRAMES = 0
PIXEL_SUBSAMPLING_FLAG = N
SIGNAL_CHAIN_ID = 2
/* RADIOMETRIC DATA ELEMENTS */
BANDWIDTH = 88.0
CENTER_FILTER_WAVELENGTH = 538.0
RADIANCE_OFFSET = 0.906662
RADIANCE_SCALING_FACTOR = 0.00608544
REFLECTANCE_SCALING_FACTOR = 0.000285498
MEX:REFLECTANCE_OFFSET = 0.0425359
/* IMAGE OBJECT DEFINITIONS */
OBJECT = IMAGE
  INTERCHANGE_FORMAT = BINARY
  LINES = 13465
  LINE_SAMPLES = 2601
  SAMPLE_TYPE = UNSIGNED_INTEGER
  SAMPLE_BITS = 8
  BANDS = 1
  BAND_STORAGE_TYPE = BAND_SEQUENTIAL
  MAXIMUM = 255
  MEAN = 85.345
  MINIMUM = 1
  STANDARD_DEVIATION = 26.2927
END_OBJECT = IMAGE
/* MAP OBJECT DEFINITIONS */
OBJECT = IMAGE_MAP_PROJECTION
  ^DATA_SET_MAP_PROJECTION_CATALOG= "DSMAP.CAT"
  A_AXIS_RADIUS = 3396.0
  B_AXIS_RADIUS = 3396.0
  C_AXIS_RADIUS = 3396.0
  CENTER_LATITUDE = 0.0
  CENTER_LONGITUDE = 54.0
  COORDINATE_SYSTEM_NAME = PLANETOGRAPHIC
  COORDINATE_SYSTEM_TYPE = "BODY-FIXED ROTATING"
  EASTERNMOST_LONGITUDE = 55.2255
  FIRST_STANDARD_PARALLEL = "N/A"
  LINE_FIRST_PIXEL = 1
  LINE_LAST_PIXEL = 13465
  LINE_PROJECTION_OFFSET = 72899.625
  MAP_PROJECTION_ROTATION = 0.0
  MAP_PROJECTION_TYPE = SINUSOIDAL
  MAP_RESOLUTION = 1185.42760773333
  MAP_SCALE = 0.05
  MAXIMUM_LATITUDE = 61.4934
  MINIMUM_LATITUDE = 50.1191
  POSITIVE_LONGITUDE_DIRECTION = EAST
  REFERENCE_LATITUDE = "N/A"
  REFERENCE_LONGITUDE = "N/A"
  SAMPLE_FIRST_PIXEL = 1
  SAMPLE_LAST_PIXEL = 2601
  SAMPLE_PROJECTION_OFFSET = 1661.875
  SECOND_STANDARD_PARALLEL = "N/A"
  WESTERNMOST_LONGITUDE = 51.1391
END_OBJECT = IMAGE_MAP_PROJECTION
/* The JPEG2000 image data file associated with this label. */
OBJECT = COMPRESSED_FILE
  FILE_NAME = "HH955_0000_GR3.JP2"
  RECORD_TYPE = UNDEFINED
  FILE_RECORDS = UNK
  ENCODING_TYPE = "JP2"
  INTERCHANGE_FORMAT = BINARY
  UNCOMPRESSED_FILE_NAME = "HH955_0000_GR3.IMG"
  REQUIRED_STORAGE_BYTES = "35043273"
  ^DESCRIPTION = "JP2INFO.TXT"
END_OBJECT = COMPRESSED_FILE
END
