PDS_VERSION_ID = PDS3
/* FILE DATA ELEMENTS */
RECORD_TYPE = STREAM
/* POINTERS TO DATA OBJECTS */
^COMPRESSED_FILE = "HH959_0000_BL3.JP2"
/* IDENTIFICATION DATA ELEMENTS */
DATA_SET_ID = "MEX-M-HRSC-5-REFDR-MAPPROJECTED-V3.0"
DATA_SET_NAME = "MARS EXPRESS HRSC MAP PROJECTED REFDR V3.0"
DETECTOR_ID = MEX_HRSC_BLUE
EVENT_TYPE = "MARS-REGIONAL-MAPPING-Im-Gl-Pf"
INSTRUMENT_HOST_ID = MEX
INSTRUMENT_HOST_NAME = "MARS EXPRESS"
INSTRUMENT_ID = HRSC
INSTRUMENT_NAME = "HIGH RESOLUTION STEREO CAMERA"
MISSION_NAME = "MARS EXPRESS"
MISSION_PHASE_NAME = ME_Phase_38
PROCESSING_LEVEL_ID = 3
PRODUCT_CREATION_TIME = 2018-09-04T13:05:27.000Z
PRODUCT_ID = "HH959_0000_BL3.JP2"
RELEASE_ID = 0140
REVISION_ID = 0000
/* QUALITY DATA ELEMENTS */
DATA_QUALITY_ID = 1
DATA_QUALITY_DESC = "Data calculated based on original SPICE kernels"
/* TIME DATA ELEMENTS */
SPACECRAFT_CLOCK_START_COUNT = "1/0468825739.08446"
SPACECRAFT_CLOCK_STOP_COUNT = "1/0468826025.42245"
START_TIME = 2018-03-11T05:23:09.138Z
STOP_TIME = 2018-03-11T05:26:34.613Z
/* ORBITAL DATA ELEMENTS */
ASCENDING_NODE_LONGITUDE = 236.99
MAXIMUM_RESOLUTION = 62.3
FOOTPRINT_POINT_LATITUDE = (48.0166,48.0078,47.9997,47.9881,47.973 ,47.4848,47.234,46.9833,46.7328,46.4824 ,46.2321,45.982,45.732,45.4822,45.2325, 44.8583,44.609,44.3598,44.1109,43.8622, 43.6137,43.3653,43.1172,42.8693,42.6214 ,42.2499,42.0026,41.7555,41.5086, 41.2552,40.8754,40.6226,40.3699,40.1175 ,39.8658,39.4796,39.2216,38.9628, 38.7052,38.448,38.1872,37.9241,37.5296, 37.2669,37.0048,36.6031,36.3352,36.0675 ,35.8003,35.5295,35.1614,35.1678, 35.1719,35.1742,35.5855,35.8568,36.1245 ,36.3926,36.6611,37.0629,37.3264, 37.5899,37.8529,38.1167,38.3804,38.6381 ,38.8961,39.1546,39.4136,39.672,39.9294 ,40.1817,40.4347,40.688,41.0688,41.3226 ,41.5755,41.823,42.0704,42.3183,42.691, 42.9395,43.1882,43.437,43.8108,44.06, 44.3095,44.5593,44.934,45.184,45.4344, 45.8102,46.0608,46.4372,46.6882,46.9393 ,47.1907,47.4422,47.6938,48.0166)
FOOTPRINT_POINT_LONGITUDE = (7.98451,7.51285,7.15008,6.69719, 6.18951,6.13958,6.15543,6.17097,6.18604 ,6.2008,6.21522,6.2292,6.2429,6.25604, 6.26898,6.28775,6.29973,6.31172,6.32317 ,6.33406,6.34451,6.35486,6.36471, 6.37439,6.3839,6.39783,6.40653,6.4149, 6.42307,6.43145,6.44348,6.45077,6.45824 ,6.46515,6.47096,6.47998,6.48587, 6.49367,6.4993,6.50436,6.50971,6.51411, 6.52113,6.52568,6.52941,6.53471,6.53801 ,6.54131,6.54396,6.54507,6.6536,7.36863 ,7.91564,8.26354,8.49818,8.49277, 8.48678,8.48101,8.4753,8.46672,8.46225, 8.45711,8.45034,8.44443,8.43852,8.43243 ,8.42635,8.42044,8.41505,8.40758, 8.40189,8.39459,8.3882,8.38162,8.37249, 8.36564,8.35849,8.35134,8.34351,8.33607 ,8.32588,8.31843,8.31071,8.30282, 8.29131,8.2829,8.27453,8.26641,8.25337, 8.24439,8.23557,8.22226,8.21275,8.19873 ,8.18892,8.17882,8.16883,8.15874, 8.14842,7.98451)
ORBIT_NUMBER = 17959
ORBITAL_ECCENTRICITY = 0.572
ORBITAL_INCLINATION = 86.97
ORBITAL_SEMIMAJOR_AXIS = 8783.45
PERIAPSIS_ALTITUDE = 376.76
PERIAPSIS_ARGUMENT_ANGLE = 124.94
PERIAPSIS_TIME = 2018-03-11T05:21:15.000Z
SPACECRAFT_ORIENTATION = (0.0,-1.0,0.0)
^MEX_ORIENTATION_DESC = "MEX_ORIENTATION_DESC.TXT"
SPACECRAFT_POINTING_MODE = NADIR
^MEX_POINTING_DESC = "MEX_POINTING_DESC.TXT"
RIGHT_ASCENSION = -1e+32
DECLINATION = -1e+32
OFFSET_ANGLE = -1e+32
SPACECRAFT_SOLAR_DISTANCE = 2.33217e+08
TARGET_NAME = MARS
/* CAMERA DATA ELEMENTS */
DETECTOR_TEMPERATURE = 18.5744
FOCAL_PLANE_TEMPERATURE = 7.9716
INST_CMPRS_NAME = "DISCRETE COSINE TRANSFORMATION (DCT)"
INST_CMPRS_RATIO = 7.44493
INST_CMPRS_QUALITY = 0
INST_CMPRS_QUANTZ_TBL_ID = 0
INSTRUMENT_TEMPERATURE = 11.6418
LENS_TEMPERATURE = 9.195
MACROPIXEL_SIZE = 4
MISSING_FRAMES = 0
PIXEL_SUBSAMPLING_FLAG = N
SIGNAL_CHAIN_ID = 2
/* RADIOMETRIC DATA ELEMENTS */
BANDWIDTH = 76.0
CENTER_FILTER_WAVELENGTH = 444.0
RADIANCE_OFFSET = 0.444804
RADIANCE_SCALING_FACTOR = 0.00226218
REFLECTANCE_SCALING_FACTOR = 0.000126416
MEX:REFLECTANCE_OFFSET = 0.0248568
/* IMAGE OBJECT DEFINITIONS */
OBJECT = IMAGE
  INTERCHANGE_FORMAT = BINARY
  LINES = 15259
  LINE_SAMPLES = 2189
  SAMPLE_TYPE = UNSIGNED_INTEGER
  SAMPLE_BITS = 8
  BANDS = 1
  BAND_STORAGE_TYPE = BAND_SEQUENTIAL
  MAXIMUM = 255
  MEAN = 108.448
  MINIMUM = 1
  STANDARD_DEVIATION = 23.7541
END_OBJECT = IMAGE
/* MAP OBJECT DEFINITIONS */
OBJECT = IMAGE_MAP_PROJECTION
  ^DATA_SET_MAP_PROJECTION_CATALOG= "DSMAP.CAT"
  A_AXIS_RADIUS = 3396.0
  B_AXIS_RADIUS = 3396.0
  C_AXIS_RADIUS = 3396.0
  CENTER_LATITUDE = 0.0
  CENTER_LONGITUDE = 7.0
  COORDINATE_SYSTEM_NAME = PLANETOGRAPHIC
  COORDINATE_SYSTEM_TYPE = "BODY-FIXED ROTATING"
  EASTERNMOST_LONGITUDE = 8.49818
  FIRST_STANDARD_PARALLEL = "N/A"
  LINE_FIRST_PIXEL = 1
  LINE_LAST_PIXEL = 15259
  LINE_PROJECTION_OFFSET = 56940.375
  MAP_PROJECTION_ROTATION = 0.0
  MAP_PROJECTION_TYPE = SINUSOIDAL
  MAP_RESOLUTION = 1185.42760773333
  MAP_SCALE = 0.05
  MAXIMUM_LATITUDE = 48.0166
  MINIMUM_LATITUDE = 35.1614
  POSITIVE_LONGITUDE_DIRECTION = EAST
  REFERENCE_LATITUDE = "N/A"
  REFERENCE_LONGITUDE = "N/A"
  SAMPLE_FIRST_PIXEL = 1
  SAMPLE_LAST_PIXEL = 2189
  SAMPLE_PROJECTION_OFFSET = 722.875
  SECOND_STANDARD_PARALLEL = "N/A"
  WESTERNMOST_LONGITUDE = 6.13958
END_OBJECT = IMAGE_MAP_PROJECTION
/* The JPEG2000 image data file associated with this label. */
OBJECT = COMPRESSED_FILE
  FILE_NAME = "HH959_0000_BL3.JP2"
  RECORD_TYPE = UNDEFINED
  FILE_RECORDS = UNK
  ENCODING_TYPE = "JP2"
  INTERCHANGE_FORMAT = BINARY
  UNCOMPRESSED_FILE_NAME = "HH959_0000_BL3.IMG"
  REQUIRED_STORAGE_BYTES = "33423841"
  ^DESCRIPTION = "JP2INFO.TXT"
END_OBJECT = COMPRESSED_FILE
END
