PDS_VERSION_ID = PDS3
/* FILE DATA ELEMENTS */
RECORD_TYPE = STREAM
/* POINTERS TO DATA OBJECTS */
^COMPRESSED_FILE = "HH959_0000_P23.JP2"
/* IDENTIFICATION DATA ELEMENTS */
DATA_SET_ID = "MEX-M-HRSC-5-REFDR-MAPPROJECTED-V3.0"
DATA_SET_NAME = "MARS EXPRESS HRSC MAP PROJECTED REFDR V3.0"
DETECTOR_ID = MEX_HRSC_P2
EVENT_TYPE = "MARS-REGIONAL-MAPPING-Im-Gl-Pf"
INSTRUMENT_HOST_ID = MEX
INSTRUMENT_HOST_NAME = "MARS EXPRESS"
INSTRUMENT_ID = HRSC
INSTRUMENT_NAME = "HIGH RESOLUTION STEREO CAMERA"
MISSION_NAME = "MARS EXPRESS"
MISSION_PHASE_NAME = ME_Phase_38
PROCESSING_LEVEL_ID = 3
PRODUCT_CREATION_TIME = 2018-09-04T13:05:27.000Z
PRODUCT_ID = "HH959_0000_P23.JP2"
RELEASE_ID = 0140
REVISION_ID = 0000
/* QUALITY DATA ELEMENTS */
DATA_QUALITY_ID = 1
DATA_QUALITY_DESC = "Data calculated based on original SPICE kernels"
/* TIME DATA ELEMENTS */
SPACECRAFT_CLOCK_START_COUNT = "1/0468825739.08446"
SPACECRAFT_CLOCK_STOP_COUNT = "1/0468826025.42245"
START_TIME = 2018-03-11T05:23:26.571Z
STOP_TIME = 2018-03-11T05:26:56.700Z
/* ORBITAL DATA ELEMENTS */
ASCENDING_NODE_LONGITUDE = 236.99
MAXIMUM_RESOLUTION = 32.4
FOOTPRINT_POINT_LATITUDE = (47.9836,47.9709,47.9576,47.9439, 47.7508,47.4988,47.2474,46.8704,46.6194 ,46.2431,45.9927,45.7424,45.4928,45.243 ,44.9929,44.7442,44.4951,44.1219, 43.8737,43.6263,43.3786,43.1316,42.7611 ,42.509,42.2559,42.0032,41.7508,41.4988 ,41.2466,40.8643,40.4775,40.2197, 39.9641,39.7091,39.4502,39.1864,38.792, 38.5314,38.2699,38.0043,37.7375,37.4715 ,37.0728,36.8032,36.5326,36.2622, 35.8569,35.5821,35.1762,35.1713,35.1737 ,35.1754,35.1784,35.1818,35.3222, 35.7335,36.0065,36.2764,36.5471,36.8183 ,37.2219,37.6243,38.023,38.2903,38.5514 ,38.8135,39.0753,39.3397,39.6018, 39.8587,40.2439,40.5018,40.8892,41.1477 ,41.3999,41.6522,42.0301,42.2834, 42.5376,42.7909,43.0385,43.2863,43.5345 ,43.7836,44.0318,44.2805,44.5301, 44.9046,45.1542,45.4046,45.6551,45.9064 ,46.1571,46.4086,46.66,46.9112,47.1633, 47.4157,47.7947,47.9836)
FOOTPRINT_POINT_LONGITUDE = (7.89762,7.26436,6.70824,6.20928, 6.09645,6.11269,6.1283,6.15114,6.16583, 6.18731,6.20104,6.2145,6.22729,6.24, 6.25278,6.26437,6.27603,6.29301,6.30372 ,6.31376,6.32384,6.33337,6.34737, 6.35686,6.3658,6.37441,6.38271,6.39065, 6.39865,6.41028,6.42128,6.42849,6.43426 ,6.43962,6.44528,6.45208,6.46132, 6.46605,6.47125,6.4754,6.47997,6.48404, 6.48988,6.493,6.49603,6.49893,6.50277, 6.50462,6.6604,7.01831,7.27334,7.50883, 7.88212,8.11854,8.53681,8.52672,8.52033 ,8.5141,8.50795,8.50169,8.4924,8.48479, 8.47435,8.46801,8.46146,8.45515,8.44829 ,8.44263,8.43531,8.42853,8.41781, 8.41085,8.40025,8.39403,8.38673,8.37923 ,8.36701,8.35925,8.35174,8.34441, 8.33652,8.32847,8.32037,8.31244,8.30377 ,8.29504,8.28652,8.27327,8.26403, 8.25493,8.24563,8.23642,8.22659,8.21693 ,8.20691,8.19644,8.18618,8.17579, 8.15989,7.89762)
ORBIT_NUMBER = 17959
ORBITAL_ECCENTRICITY = 0.572
ORBITAL_INCLINATION = 86.97
ORBITAL_SEMIMAJOR_AXIS = 8783.45
PERIAPSIS_ALTITUDE = 376.76
PERIAPSIS_ARGUMENT_ANGLE = 124.94
PERIAPSIS_TIME = 2018-03-11T05:21:15.000Z
SPACECRAFT_ORIENTATION = (0.0,-1.0,0.0)
^MEX_ORIENTATION_DESC = "MEX_ORIENTATION_DESC.TXT"
SPACECRAFT_POINTING_MODE = NADIR
^MEX_POINTING_DESC = "MEX_POINTING_DESC.TXT"
RIGHT_ASCENSION = -1e+32
DECLINATION = -1e+32
OFFSET_ANGLE = -1e+32
SPACECRAFT_SOLAR_DISTANCE = 2.33217e+08
TARGET_NAME = MARS
/* CAMERA DATA ELEMENTS */
DETECTOR_TEMPERATURE = 18.9822
FOCAL_PLANE_TEMPERATURE = 7.9716
INST_CMPRS_NAME = "DISCRETE COSINE TRANSFORMATION (DCT)"
INST_CMPRS_RATIO = 5.74541
INST_CMPRS_QUALITY = 0
INST_CMPRS_QUANTZ_TBL_ID = 0
INSTRUMENT_TEMPERATURE = 11.6418
LENS_TEMPERATURE = 9.195
MACROPIXEL_SIZE = 2
MISSING_FRAMES = 0
PIXEL_SUBSAMPLING_FLAG = N
SIGNAL_CHAIN_ID = 3
/* RADIOMETRIC DATA ELEMENTS */
BANDWIDTH = 177.0
CENTER_FILTER_WAVELENGTH = 676.5
RADIANCE_OFFSET = 2.907
RADIANCE_SCALING_FACTOR = 0.0301859
REFLECTANCE_SCALING_FACTOR = 0.000870528
MEX:REFLECTANCE_OFFSET = 0.0838347
/* IMAGE OBJECT DEFINITIONS */
OBJECT = IMAGE
  INTERCHANGE_FORMAT = BINARY
  LINES = 30518
  LINE_SAMPLES = 4378
  SAMPLE_TYPE = UNSIGNED_INTEGER
  SAMPLE_BITS = 8
  BANDS = 1
  BAND_STORAGE_TYPE = BAND_SEQUENTIAL
  MAXIMUM = 255
  MEAN = 99.1446
  MINIMUM = 1
  STANDARD_DEVIATION = 39.396
END_OBJECT = IMAGE
/* MAP OBJECT DEFINITIONS */
OBJECT = IMAGE_MAP_PROJECTION
  ^DATA_SET_MAP_PROJECTION_CATALOG= "DSMAP.CAT"
  A_AXIS_RADIUS = 3396.0
  B_AXIS_RADIUS = 3396.0
  C_AXIS_RADIUS = 3396.0
  CENTER_LATITUDE = 0.0
  CENTER_LONGITUDE = 7.0
  COORDINATE_SYSTEM_NAME = PLANETOGRAPHIC
  COORDINATE_SYSTEM_TYPE = "BODY-FIXED ROTATING"
  EASTERNMOST_LONGITUDE = 8.536809999999999
  FIRST_STANDARD_PARALLEL = "N/A"
  LINE_FIRST_PIXEL = 1
  LINE_LAST_PIXEL = 30518
  LINE_PROJECTION_OFFSET = 113881.25
  MAP_PROJECTION_ROTATION = 0.0
  MAP_PROJECTION_TYPE = SINUSOIDAL
  MAP_RESOLUTION = 2370.85521546667
  MAP_SCALE = 0.025
  MAXIMUM_LATITUDE = 47.9836
  MINIMUM_LATITUDE = 35.1713
  POSITIVE_LONGITUDE_DIRECTION = EAST
  REFERENCE_LATITUDE = "N/A"
  REFERENCE_LONGITUDE = "N/A"
  SAMPLE_FIRST_PIXEL = 1
  SAMPLE_LAST_PIXEL = 4378
  SAMPLE_PROJECTION_OFFSET = 1446.25
  SECOND_STANDARD_PARALLEL = "N/A"
  WESTERNMOST_LONGITUDE = 6.09645
END_OBJECT = IMAGE_MAP_PROJECTION
/* The JPEG2000 image data file associated with this label. */
OBJECT = COMPRESSED_FILE
  FILE_NAME = "HH959_0000_P23.JP2"
  RECORD_TYPE = UNDEFINED
  FILE_RECORDS = UNK
  ENCODING_TYPE = "JP2"
  INTERCHANGE_FORMAT = BINARY
  UNCOMPRESSED_FILE_NAME = "HH959_0000_P23.IMG"
  REQUIRED_STORAGE_BYTES = "133634072"
  ^DESCRIPTION = "JP2INFO.TXT"
END_OBJECT = COMPRESSED_FILE
END
