PDS_VERSION_ID = PDS3
/* FILE DATA ELEMENTS */
RECORD_TYPE = STREAM
/* POINTERS TO DATA OBJECTS */
^COMPRESSED_FILE = "HH961_0000_S23.JP2"
/* IDENTIFICATION DATA ELEMENTS */
DATA_SET_ID = "MEX-M-HRSC-5-REFDR-MAPPROJECTED-V3.0"
DATA_SET_NAME = "MARS EXPRESS HRSC MAP PROJECTED REFDR V3.0"
DETECTOR_ID = MEX_HRSC_S2
EVENT_TYPE = "MARS-LOCAL-STEREO-Fl-Gl-Pf"
INSTRUMENT_HOST_ID = MEX
INSTRUMENT_HOST_NAME = "MARS EXPRESS"
INSTRUMENT_ID = HRSC
INSTRUMENT_NAME = "HIGH RESOLUTION STEREO CAMERA"
MISSION_NAME = "MARS EXPRESS"
MISSION_PHASE_NAME = ME_Phase_38
PROCESSING_LEVEL_ID = 3
PRODUCT_CREATION_TIME = 2018-09-04T13:05:27.000Z
PRODUCT_ID = "HH961_0000_S23.JP2"
RELEASE_ID = 0140
REVISION_ID = 0000
/* QUALITY DATA ELEMENTS */
DATA_QUALITY_ID = 1
DATA_QUALITY_DESC = "Data calculated based on original SPICE kernels"
/* TIME DATA ELEMENTS */
SPACECRAFT_CLOCK_START_COUNT = "1/0468876164.08294"
SPACECRAFT_CLOCK_STOP_COUNT = "1/0468876411.31958"
START_TIME = 2018-03-11T19:24:07.921Z
STOP_TIME = 2018-03-11T19:26:58.909Z
/* ORBITAL DATA ELEMENTS */
ASCENDING_NODE_LONGITUDE = 236.94
MAXIMUM_RESOLUTION = 20.3
FOOTPRINT_POINT_LATITUDE = (40.339,40.3418,40.3444,40.3466,40.3486 ,40.3503,40.3479,39.9294,39.6095, 39.3944,39.1792,38.965,38.6445,38.4303, 38.2128,37.9933,37.6649,37.3387,37.0088 ,36.7855,36.5612,36.3346,36.1074, 35.8905,35.5541,35.3288,35.1027,34.8761 ,34.6495,34.4178,34.0713,33.8403, 33.6103,33.256,33.018,32.7865,32.5506, 32.3105,31.9531,31.7186,31.3542,31.1104 ,30.8705,30.503,30.2544,30.0093,29.6352 ,29.3836,29.0067,29.0047,29.0022, 28.9995,28.9962,28.9929,29.1147,29.3671 ,29.6192,29.8704,30.118,30.3658,30.7369 ,30.9798,31.2235,31.467,31.8278,32.1864 ,32.4257,32.7805,33.0151,33.3663, 33.5985,33.8268,34.0589,34.2923,34.5232 ,34.7516,34.9767,35.2023,35.4277, 35.6512,35.8779,36.0997,36.3176,36.5332 ,36.7547,37.0877,37.3034,37.5242, 37.7403,37.9575,38.1851,38.4053,38.6219 ,38.8332,39.0553,39.2717,39.4864, 39.7022,40.0219,40.339)
FOOTPRINT_POINT_LONGITUDE = (163.801,163.464,163.126,162.787, 162.447,162.106,161.736,161.752,161.764 ,161.772,161.78,161.788,161.799,161.806 ,161.813,161.82,161.83,161.839,161.849, 161.855,161.862,161.869,161.877,161.88, 161.886,161.891,161.895,161.9,161.904, 161.909,161.915,161.919,161.923,161.929 ,161.934,161.935,161.939,161.942, 161.945,161.945,161.949,161.952,161.952 ,161.954,161.956,161.956,161.957, 161.957,161.958,162.283,162.608,162.996 ,163.384,163.728,164.145,164.142, 164.138,164.135,164.132,164.129,164.124 ,164.12,164.117,164.114,164.109,164.103 ,164.1,164.095,164.091,164.085,164.081, 164.077,164.073,164.07,164.066,164.063, 164.058,164.054,164.05,164.045,164.042, 164.038,164.032,164.027,164.022,164.016 ,164.011,164.007,164.002,163.998, 163.995,163.991,163.987,163.982,163.979 ,163.974,163.97,163.965,163.958, 163.801)
ORBIT_NUMBER = 17961
ORBITAL_ECCENTRICITY = 0.572
ORBITAL_INCLINATION = 86.97
ORBITAL_SEMIMAJOR_AXIS = 8781.01
PERIAPSIS_ALTITUDE = 377.33
PERIAPSIS_ARGUMENT_ANGLE = 124.62
PERIAPSIS_TIME = 2018-03-11T19:19:15.000Z
SPACECRAFT_ORIENTATION = (0.0,-1.0,0.0)
^MEX_ORIENTATION_DESC = "MEX_ORIENTATION_DESC.TXT"
SPACECRAFT_POINTING_MODE = INERT
^MEX_POINTING_DESC = "MEX_POINTING_DESC.TXT"
RIGHT_ASCENSION = 206.329
DECLINATION = -68.176
OFFSET_ANGLE = -1e+32
SPACECRAFT_SOLAR_DISTANCE = 2.3311e+08
TARGET_NAME = MARS
/* CAMERA DATA ELEMENTS */
DETECTOR_TEMPERATURE = 18.5744
FOCAL_PLANE_TEMPERATURE = 8.7872
INST_CMPRS_NAME = "DISCRETE COSINE TRANSFORMATION (DCT)"
INST_CMPRS_RATIO = 6.99686
INST_CMPRS_QUALITY = 0
INST_CMPRS_QUANTZ_TBL_ID = 0
INSTRUMENT_TEMPERATURE = 10.8262
LENS_TEMPERATURE = 8.5833
MACROPIXEL_SIZE = 1
MISSING_FRAMES = 0
PIXEL_SUBSAMPLING_FLAG = N
SIGNAL_CHAIN_ID = 1
/* RADIOMETRIC DATA ELEMENTS */
BANDWIDTH = 178.0
CENTER_FILTER_WAVELENGTH = 679.0
RADIANCE_OFFSET = 3.13861
RADIANCE_SCALING_FACTOR = 0.033157
REFLECTANCE_SCALING_FACTOR = 0.000954169
MEX:REFLECTANCE_OFFSET = 0.0903207
/* IMAGE OBJECT DEFINITIONS */
OBJECT = IMAGE
  INTERCHANGE_FORMAT = BINARY
  LINES = 54253
  LINE_SAMPLES = 8960
  SAMPLE_TYPE = UNSIGNED_INTEGER
  SAMPLE_BITS = 8
  BANDS = 1
  BAND_STORAGE_TYPE = BAND_SEQUENTIAL
  MAXIMUM = 255
  MEAN = 145.391
  MINIMUM = 1
  STANDARD_DEVIATION = 21.7861
END_OBJECT = IMAGE
/* MAP OBJECT DEFINITIONS */
OBJECT = IMAGE_MAP_PROJECTION
  ^DATA_SET_MAP_PROJECTION_CATALOG= "DSMAP.CAT"
  A_AXIS_RADIUS = 3396.0
  B_AXIS_RADIUS = 3396.0
  C_AXIS_RADIUS = 3396.0
  CENTER_LATITUDE = 0.0
  CENTER_LONGITUDE = 163.0
  COORDINATE_SYSTEM_NAME = PLANETOGRAPHIC
  COORDINATE_SYSTEM_TYPE = "BODY-FIXED ROTATING"
  EASTERNMOST_LONGITUDE = 164.145
  FIRST_STANDARD_PARALLEL = "N/A"
  LINE_FIRST_PIXEL = 1
  LINE_LAST_PIXEL = 54253
  LINE_PROJECTION_OFFSET = 191609.0
  MAP_PROJECTION_ROTATION = 0.0
  MAP_PROJECTION_TYPE = SINUSOIDAL
  MAP_RESOLUTION = 4741.71043093333
  MAP_SCALE = 0.0125
  MAXIMUM_LATITUDE = 40.3503
  MINIMUM_LATITUDE = 28.9929
  POSITIVE_LONGITUDE_DIRECTION = EAST
  REFERENCE_LATITUDE = "N/A"
  REFERENCE_LONGITUDE = "N/A"
  SAMPLE_FIRST_PIXEL = 1
  SAMPLE_LAST_PIXEL = 8960
  SAMPLE_PROJECTION_OFFSET = 4425.0
  SECOND_STANDARD_PARALLEL = "N/A"
  WESTERNMOST_LONGITUDE = 161.736
END_OBJECT = IMAGE_MAP_PROJECTION
/* The JPEG2000 image data file associated with this label. */
OBJECT = COMPRESSED_FILE
  FILE_NAME = "HH961_0000_S23.JP2"
  RECORD_TYPE = UNDEFINED
  FILE_RECORDS = UNK
  ENCODING_TYPE = "JP2"
  INTERCHANGE_FORMAT = BINARY
  UNCOMPRESSED_FILE_NAME = "HH961_0000_S23.IMG"
  REQUIRED_STORAGE_BYTES = "486142720"
  ^DESCRIPTION = "JP2INFO.TXT"
END_OBJECT = COMPRESSED_FILE
END
