PDS_VERSION_ID = PDS3
/* FILE DATA ELEMENTS */
RECORD_TYPE = STREAM
/* POINTERS TO DATA OBJECTS */
^COMPRESSED_FILE = "HH967_0000_ND3.JP2"
/* IDENTIFICATION DATA ELEMENTS */
DATA_SET_ID = "MEX-M-HRSC-5-REFDR-MAPPROJECTED-V3.0"
DATA_SET_NAME = "MARS EXPRESS HRSC MAP PROJECTED REFDR V3.0"
DETECTOR_ID = MEX_HRSC_NADIR
EVENT_TYPE = "MARS-REGIONAL-MAPPING-Te-Pf"
INSTRUMENT_HOST_ID = MEX
INSTRUMENT_HOST_NAME = "MARS EXPRESS"
INSTRUMENT_ID = HRSC
INSTRUMENT_NAME = "HIGH RESOLUTION STEREO CAMERA"
MISSION_NAME = "MARS EXPRESS"
MISSION_PHASE_NAME = ME_Phase_38
PROCESSING_LEVEL_ID = 3
PRODUCT_CREATION_TIME = 2018-09-04T13:05:27.000Z
PRODUCT_ID = "HH967_0000_ND3.JP2"
RELEASE_ID = 0140
REVISION_ID = 0000
/* QUALITY DATA ELEMENTS */
DATA_QUALITY_ID = 1
DATA_QUALITY_DESC = "Data calculated based on original SPICE kernels"
/* TIME DATA ELEMENTS */
SPACECRAFT_CLOCK_START_COUNT = "1/0469026758.09066"
SPACECRAFT_CLOCK_STOP_COUNT = "1/0469026995.58305"
START_TIME = 2018-03-13T13:13:21.815Z
STOP_TIME = 2018-03-13T13:16:04.799Z
/* ORBITAL DATA ELEMENTS */
ASCENDING_NODE_LONGITUDE = 236.84
MAXIMUM_RESOLUTION = 15.1
FOOTPRINT_POINT_LATITUDE = (55.1987,55.1857,55.1679,55.1541, 54.8363,54.6278,54.4192,54.2107,54.0021 ,53.7936,53.5851,53.3765,53.1681, 52.9596,52.7511,52.5427,52.3343,52.126, 51.9176,51.7093,51.501,51.2928,51.0846, 50.8765,50.6684,50.4603,50.2523,50.0443 ,49.8364,49.6286,49.4208,49.213,49.0054 ,48.7978,48.5902,48.3828,48.1754,47.968 ,47.7608,47.5536,47.3465,46.9325, 46.5189,46.1057,45.6928,45.2803,44.8681 ,44.7485,44.7594,44.7653,44.7726, 44.7767,45.1897,45.6032,46.017,46.2241, 46.4312,46.6385,46.8458,47.0532,47.2608 ,47.4683,47.676,47.8838,48.0916,48.2995 ,48.5075,48.7156,48.9238,49.132,49.3403 ,49.5487,49.7571,49.9656,50.1741, 50.3827,50.5913,50.8001,51.0089,51.2177 ,51.4266,51.6355,51.8445,52.0535, 52.2625,52.4716,52.6807,52.8899,53.0991 ,53.3083,53.5175,53.7268,53.936,54.1453 ,54.3547,54.564,54.7734,54.9827,55.1921 ,55.1987)
FOOTPRINT_POINT_LONGITUDE = (270.531,270.046,269.478,269.086, 268.954,268.978,269.0,269.023,269.045, 269.066,269.088,269.108,269.129,269.149 ,269.168,269.187,269.206,269.225, 269.243,269.261,269.278,269.295,269.312 ,269.329,269.345,269.361,269.376, 269.391,269.406,269.42,269.434,269.448, 269.462,269.475,269.488,269.5,269.513, 269.525,269.537,269.548,269.559,269.581 ,269.602,269.622,269.641,269.659, 269.676,269.952,270.457,270.789,271.299 ,271.663,271.652,271.64,271.628,271.622 ,271.615,271.609,271.602,271.595, 271.588,271.581,271.574,271.567,271.559 ,271.551,271.544,271.537,271.53,271.522 ,271.514,271.506,271.498,271.489, 271.481,271.473,271.464,271.456,271.448 ,271.439,271.431,271.422,271.412, 271.403,271.393,271.384,271.374,271.364 ,271.354,271.344,271.333,271.323, 271.311,271.3,271.289,271.278,271.266, 271.254,271.243,270.531)
ORBIT_NUMBER = 17967
ORBITAL_ECCENTRICITY = 0.572
ORBITAL_INCLINATION = 86.96
ORBITAL_SEMIMAJOR_AXIS = 8783.67
PERIAPSIS_ALTITUDE = 377.03
PERIAPSIS_ARGUMENT_ANGLE = 123.57
PERIAPSIS_TIME = 2018-03-13T13:13:04.000Z
SPACECRAFT_ORIENTATION = (0.0,-1.0,0.0)
^MEX_ORIENTATION_DESC = "MEX_ORIENTATION_DESC.TXT"
SPACECRAFT_POINTING_MODE = ACROSSTRACK
^MEX_POINTING_DESC = "MEX_POINTING_DESC.TXT"
RIGHT_ASCENSION = -1e+32
DECLINATION = -1e+32
OFFSET_ANGLE = 0.269
SPACECRAFT_SOLAR_DISTANCE = 2.32787e+08
TARGET_NAME = MARS
/* CAMERA DATA ELEMENTS */
DETECTOR_TEMPERATURE = 18.5744
FOCAL_PLANE_TEMPERATURE = 8.5833
INST_CMPRS_NAME = "DISCRETE COSINE TRANSFORMATION (DCT)"
INST_CMPRS_RATIO = 6.24992
INST_CMPRS_QUALITY = 0
INST_CMPRS_QUANTZ_TBL_ID = 0
INSTRUMENT_TEMPERATURE = 11.6418
LENS_TEMPERATURE = 8.5833
MACROPIXEL_SIZE = 1
MISSING_FRAMES = 0
PIXEL_SUBSAMPLING_FLAG = N
SIGNAL_CHAIN_ID = 0
/* RADIOMETRIC DATA ELEMENTS */
BANDWIDTH = 177.0
CENTER_FILTER_WAVELENGTH = 677.5
RADIANCE_OFFSET = 3.57871
RADIANCE_SCALING_FACTOR = 0.0271481
REFLECTANCE_SCALING_FACTOR = 0.000781521
MEX:REFLECTANCE_OFFSET = 0.103022
/* IMAGE OBJECT DEFINITIONS */
OBJECT = IMAGE
  INTERCHANGE_FORMAT = BINARY
  LINES = 49655
  LINE_SAMPLES = 8631
  SAMPLE_TYPE = UNSIGNED_INTEGER
  SAMPLE_BITS = 8
  BANDS = 1
  BAND_STORAGE_TYPE = BAND_SEQUENTIAL
  MAXIMUM = 255
  MEAN = 101.249
  MINIMUM = 1
  STANDARD_DEVIATION = 29.9369
END_OBJECT = IMAGE
/* MAP OBJECT DEFINITIONS */
OBJECT = IMAGE_MAP_PROJECTION
  ^DATA_SET_MAP_PROJECTION_CATALOG= "DSMAP.CAT"
  A_AXIS_RADIUS = 3396.0
  B_AXIS_RADIUS = 3396.0
  C_AXIS_RADIUS = 3396.0
  CENTER_LATITUDE = 0.0
  CENTER_LONGITUDE = 270.0
  COORDINATE_SYSTEM_NAME = PLANETOGRAPHIC
  COORDINATE_SYSTEM_TYPE = "BODY-FIXED ROTATING"
  EASTERNMOST_LONGITUDE = 271.663
  FIRST_STANDARD_PARALLEL = "N/A"
  LINE_FIRST_PIXEL = 1
  LINE_LAST_PIXEL = 49655
  LINE_PROJECTION_OFFSET = 261804.0
  MAP_PROJECTION_ROTATION = 0.0
  MAP_PROJECTION_TYPE = SINUSOIDAL
  MAP_RESOLUTION = 4741.71043093333
  MAP_SCALE = 0.0125
  MAXIMUM_LATITUDE = 55.1987
  MINIMUM_LATITUDE = 44.7485
  POSITIVE_LONGITUDE_DIRECTION = EAST
  REFERENCE_LATITUDE = "N/A"
  REFERENCE_LONGITUDE = "N/A"
  SAMPLE_FIRST_PIXEL = 1
  SAMPLE_LAST_PIXEL = 8631
  SAMPLE_PROJECTION_OFFSET = 2930.0
  SECOND_STANDARD_PARALLEL = "N/A"
  WESTERNMOST_LONGITUDE = 268.954
END_OBJECT = IMAGE_MAP_PROJECTION
/* The JPEG2000 image data file associated with this label. */
OBJECT = COMPRESSED_FILE
  FILE_NAME = "HH967_0000_ND3.JP2"
  RECORD_TYPE = UNDEFINED
  FILE_RECORDS = UNK
  ENCODING_TYPE = "JP2"
  INTERCHANGE_FORMAT = BINARY
  UNCOMPRESSED_FILE_NAME = "HH967_0000_ND3.IMG"
  REQUIRED_STORAGE_BYTES = "428606829"
  ^DESCRIPTION = "JP2INFO.TXT"
END_OBJECT = COMPRESSED_FILE
END
