PDS_VERSION_ID = PDS3
/* FILE DATA ELEMENTS */
RECORD_TYPE = STREAM
/* POINTERS TO DATA OBJECTS */
^COMPRESSED_FILE = "HH969_0000_S23.JP2"
/* IDENTIFICATION DATA ELEMENTS */
DATA_SET_ID = "MEX-M-HRSC-5-REFDR-MAPPROJECTED-V3.0"
DATA_SET_NAME = "MARS EXPRESS HRSC MAP PROJECTED REFDR V3.0"
DETECTOR_ID = MEX_HRSC_S2
EVENT_TYPE = "MARS-REGIONAL-MAPPING-Im-Gl-Pf"
INSTRUMENT_HOST_ID = MEX
INSTRUMENT_HOST_NAME = "MARS EXPRESS"
INSTRUMENT_ID = HRSC
INSTRUMENT_NAME = "HIGH RESOLUTION STEREO CAMERA"
MISSION_NAME = "MARS EXPRESS"
MISSION_PHASE_NAME = ME_Phase_38
PROCESSING_LEVEL_ID = 3
PRODUCT_CREATION_TIME = 2018-09-04T13:05:27.000Z
PRODUCT_ID = "HH969_0000_S23.JP2"
RELEASE_ID = 0140
REVISION_ID = 0000
/* QUALITY DATA ELEMENTS */
DATA_QUALITY_ID = 1
DATA_QUALITY_DESC = "Data calculated based on original SPICE kernels"
/* TIME DATA ELEMENTS */
SPACECRAFT_CLOCK_START_COUNT = "1/0469077022.09096"
SPACECRAFT_CLOCK_STOP_COUNT = "1/0469077251.06705"
START_TIME = 2018-03-14T03:11:40.307Z
STOP_TIME = 2018-03-14T03:14:18.551Z
/* ORBITAL DATA ELEMENTS */
ASCENDING_NODE_LONGITUDE = 236.79
MAXIMUM_RESOLUTION = 32.5
FOOTPRINT_POINT_LATITUDE = (56.091,56.0797,56.0678,56.0552,56.0322 ,56.1274,55.926,55.6243,55.4228,55.2221 ,55.0217,54.821,54.6206,54.32,54.02, 53.8199,53.62,53.4205,53.2206,53.0214, 52.7227,52.4242,52.2255,52.0267,51.8283 ,51.6301,51.4316,51.2336,50.9373, 50.7397,50.5423,50.345,50.0493,49.8524, 49.6559,49.4595,49.2633,48.9692,48.7735 ,48.5778,48.3822,48.1869,47.8945,47.699 ,47.5045,47.3104,47.0194,46.8254, 46.6318,46.3416,46.2322,46.2389,46.2488 ,46.2574,46.2616,46.2696,46.5643, 46.7583,46.9527,47.2442,47.4387,47.6338 ,47.8291,48.0252,48.3184,48.5146, 48.8088,49.1037,49.3004,49.4974,49.7931 ,49.9903,50.2865,50.5829,50.7805, 50.9794,51.2768,51.5749,51.7739,51.9731 ,52.2717,52.4709,52.6708,52.8708, 53.1707,53.3707,53.5705,53.7712,53.9716 ,54.2729,54.4737,54.6747,54.8762, 55.0774,55.2789,55.4803,55.7832,55.9854 ,56.1874,56.091)
FOOTPRINT_POINT_LONGITUDE = (66.2935,65.9361,65.5798,65.2247, 64.6268,64.3895,64.4149,64.4521,64.4765 ,64.5001,64.5233,64.5462,64.5686, 64.6014,64.6332,64.654,64.6745,64.6943, 64.7141,64.7332,64.7613,64.7886,64.8063 ,64.8238,64.8408,64.8575,64.8741, 64.8901,64.9135,64.9288,64.9437,64.9584 ,64.9799,64.9939,65.0075,65.0208, 65.0338,65.0529,65.0653,65.0774,65.0893 ,65.101,65.1179,65.1291,65.1398,65.1502 ,65.1654,65.1753,65.185,65.1991,65.5277 ,65.7706,66.1759,66.5013,66.7659, 67.1538,67.2942,67.287,67.2798,67.2687, 67.261,67.2535,67.2459,67.2386,67.2266, 67.2188,67.2066,67.1942,67.1858,67.1773 ,67.1643,67.1554,67.1418,67.1279, 67.1183,67.1092,67.0946,67.0798,67.0699 ,67.0598,67.0441,67.0334,67.0229, 67.0122,66.9956,66.9842,66.9725,66.9611 ,66.9492,66.9313,66.919,66.9066,66.8941 ,66.8813,66.8683,66.855,66.835,66.8215, 66.8075,66.2935)
ORBIT_NUMBER = 17969
ORBITAL_ECCENTRICITY = 0.572
ORBITAL_INCLINATION = 86.98
ORBITAL_SEMIMAJOR_AXIS = 8784.19
PERIAPSIS_ALTITUDE = 376.88
PERIAPSIS_ARGUMENT_ANGLE = 123.23
PERIAPSIS_TIME = 2018-03-14T03:10:58.000Z
SPACECRAFT_ORIENTATION = (0.0,-1.0,0.0)
^MEX_ORIENTATION_DESC = "MEX_ORIENTATION_DESC.TXT"
SPACECRAFT_POINTING_MODE = ACROSSTRACK
^MEX_POINTING_DESC = "MEX_POINTING_DESC.TXT"
RIGHT_ASCENSION = -1e+32
DECLINATION = -1e+32
OFFSET_ANGLE = 0.17
SPACECRAFT_SOLAR_DISTANCE = 2.32679e+08
TARGET_NAME = MARS
/* CAMERA DATA ELEMENTS */
DETECTOR_TEMPERATURE = 18.7783
FOCAL_PLANE_TEMPERATURE = 8.1755
INST_CMPRS_NAME = "DISCRETE COSINE TRANSFORMATION (DCT)"
INST_CMPRS_RATIO = 11.1278
INST_CMPRS_QUALITY = 0
INST_CMPRS_QUANTZ_TBL_ID = 0
INSTRUMENT_TEMPERATURE = 11.0301
LENS_TEMPERATURE = 8.5833
MACROPIXEL_SIZE = 2
MISSING_FRAMES = 0
PIXEL_SUBSAMPLING_FLAG = N
SIGNAL_CHAIN_ID = 1
/* RADIOMETRIC DATA ELEMENTS */
BANDWIDTH = 178.0
CENTER_FILTER_WAVELENGTH = 679.0
RADIANCE_OFFSET = 3.28273
RADIANCE_SCALING_FACTOR = 0.0167129
REFLECTANCE_SCALING_FACTOR = 0.000479178
MEX:REFLECTANCE_OFFSET = 0.0941195
/* IMAGE OBJECT DEFINITIONS */
OBJECT = IMAGE
  INTERCHANGE_FORMAT = BINARY
  LINES = 23654
  LINE_SAMPLES = 4210
  SAMPLE_TYPE = UNSIGNED_INTEGER
  SAMPLE_BITS = 8
  BANDS = 1
  BAND_STORAGE_TYPE = BAND_SEQUENTIAL
  MAXIMUM = 255
  MEAN = 143.163
  MINIMUM = 1
  STANDARD_DEVIATION = 59.0722
END_OBJECT = IMAGE
/* MAP OBJECT DEFINITIONS */
OBJECT = IMAGE_MAP_PROJECTION
  ^DATA_SET_MAP_PROJECTION_CATALOG= "DSMAP.CAT"
  A_AXIS_RADIUS = 3396.0
  B_AXIS_RADIUS = 3396.0
  C_AXIS_RADIUS = 3396.0
  CENTER_LATITUDE = 0.0
  CENTER_LONGITUDE = 66.0
  COORDINATE_SYSTEM_NAME = PLANETOGRAPHIC
  COORDINATE_SYSTEM_TYPE = "BODY-FIXED ROTATING"
  EASTERNMOST_LONGITUDE = 67.2942
  FIRST_STANDARD_PARALLEL = "N/A"
  LINE_FIRST_PIXEL = 1
  LINE_LAST_PIXEL = 23654
  LINE_PROJECTION_OFFSET = 133229.25
  MAP_PROJECTION_ROTATION = 0.0
  MAP_PROJECTION_TYPE = SINUSOIDAL
  MAP_RESOLUTION = 2370.85521546667
  MAP_SCALE = 0.025
  MAXIMUM_LATITUDE = 56.1874
  MINIMUM_LATITUDE = 46.2322
  POSITIVE_LONGITUDE_DIRECTION = EAST
  REFERENCE_LATITUDE = "N/A"
  REFERENCE_LONGITUDE = "N/A"
  SAMPLE_FIRST_PIXEL = 1
  SAMPLE_LAST_PIXEL = 4210
  SAMPLE_PROJECTION_OFFSET = 2121.25
  SECOND_STANDARD_PARALLEL = "N/A"
  WESTERNMOST_LONGITUDE = 64.3895
END_OBJECT = IMAGE_MAP_PROJECTION
/* The JPEG2000 image data file associated with this label. */
OBJECT = COMPRESSED_FILE
  FILE_NAME = "HH969_0000_S23.JP2"
  RECORD_TYPE = UNDEFINED
  FILE_RECORDS = UNK
  ENCODING_TYPE = "JP2"
  INTERCHANGE_FORMAT = BINARY
  UNCOMPRESSED_FILE_NAME = "HH969_0000_S23.IMG"
  REQUIRED_STORAGE_BYTES = "99608600"
  ^DESCRIPTION = "JP2INFO.TXT"
END_OBJECT = COMPRESSED_FILE
END
