PDS_VERSION_ID = PDS3
/* FILE DATA ELEMENTS */
RECORD_TYPE = STREAM
/* POINTERS TO DATA OBJECTS */
^COMPRESSED_FILE = "HH978_0000_RE3.JP2"
/* IDENTIFICATION DATA ELEMENTS */
DATA_SET_ID = "MEX-M-HRSC-5-REFDR-MAPPROJECTED-V3.0"
DATA_SET_NAME = "MARS EXPRESS HRSC MAP PROJECTED REFDR V3.0"
DETECTOR_ID = MEX_HRSC_RED
EVENT_TYPE = "MARS-REGIONAL-MAPPING-Im-Pf"
INSTRUMENT_HOST_ID = MEX
INSTRUMENT_HOST_NAME = "MARS EXPRESS"
INSTRUMENT_ID = HRSC
INSTRUMENT_NAME = "HIGH RESOLUTION STEREO CAMERA"
MISSION_NAME = "MARS EXPRESS"
MISSION_PHASE_NAME = ME_Phase_38
PROCESSING_LEVEL_ID = 3
PRODUCT_CREATION_TIME = 2018-09-04T13:05:27.000Z
PRODUCT_ID = "HH978_0000_RE3.JP2"
RELEASE_ID = 0140
REVISION_ID = 0000
/* QUALITY DATA ELEMENTS */
DATA_QUALITY_ID = 1
DATA_QUALITY_DESC = "Data calculated based on original SPICE kernels"
/* TIME DATA ELEMENTS */
SPACECRAFT_CLOCK_START_COUNT = "1/0469303309.07342"
SPACECRAFT_CLOCK_STOP_COUNT = "1/0469303510.45633"
START_TIME = 2018-03-16T18:03:09.334Z
STOP_TIME = 2018-03-16T18:05:11.449Z
/* ORBITAL DATA ELEMENTS */
ASCENDING_NODE_LONGITUDE = 236.63
MAXIMUM_RESOLUTION = 64.5
FOOTPRINT_POINT_LATITUDE = (54.1885,54.1803,54.1691,54.1588, 54.1504,54.1395,54.2072,54.0536,53.8996 ,53.7462,53.5928,53.4392,53.2861, 53.1329,52.9797,52.8266,52.6737,52.5209 ,52.3682,52.1391,51.9865,51.7577, 51.6054,51.3771,51.2247,51.0725,50.9208 ,50.7691,50.6173,50.4656,50.2381, 50.0868,49.9356,49.7844,49.6334,49.4826 ,49.3316,49.1052,48.9546,48.8041, 48.6537,48.5034,48.3531,48.2029,48.0529 ,47.828,47.6031,47.2295,47.0054,46.7073 ,46.6065,46.6135,46.6211,46.6301, 46.6354,46.6425,46.9415,47.2407,47.6158 ,47.8411,47.9913,48.1417,48.2923, 48.4428,48.5936,48.8197,48.9707,49.1973 ,49.3485,49.4998,49.6514,49.8786, 50.0304,50.1824,50.3343,50.4864,50.6384 ,50.7907,50.9431,51.0957,51.2484, 51.4008,51.5537,51.7065,51.8595,52.0126 ,52.1656,52.3187,52.472,52.6255,52.8557 ,53.0092,53.1628,53.3166,53.4705, 53.7015,53.8554,54.0097,54.1639, 54.1885)
FOOTPRINT_POINT_LONGITUDE = (227.268,226.938,226.525,226.175, 225.907,225.577,225.225,225.242,225.259 ,225.276,225.292,225.309,225.325, 225.341,225.356,225.372,225.387,225.402 ,225.416,225.438,225.452,225.473, 225.487,225.507,225.52,225.533,225.546, 225.558,225.571,225.583,225.601,225.613 ,225.624,225.635,225.647,225.657, 225.668,225.684,225.695,225.705,225.715 ,225.725,225.735,225.744,225.754, 225.768,225.781,225.803,225.816,225.832 ,226.094,226.39,226.745,227.219,227.535 ,227.957,227.944,227.931,227.914, 227.904,227.897,227.89,227.883,227.876, 227.869,227.858,227.85,227.839,227.831, 227.824,227.816,227.804,227.796,227.788 ,227.78,227.772,227.764,227.756,227.747 ,227.739,227.73,227.721,227.713,227.704 ,227.695,227.686,227.677,227.667, 227.658,227.648,227.634,227.624,227.614 ,227.604,227.594,227.579,227.569, 227.558,227.548,227.268)
ORBIT_NUMBER = 17978
ORBITAL_ECCENTRICITY = 0.572
ORBITAL_INCLINATION = 86.98
ORBITAL_SEMIMAJOR_AXIS = 8777.65
PERIAPSIS_ALTITUDE = 377.47
PERIAPSIS_ARGUMENT_ANGLE = 121.65
PERIAPSIS_TIME = 2018-03-16T18:01:38.000Z
SPACECRAFT_ORIENTATION = (0.0,-1.0,0.0)
^MEX_ORIENTATION_DESC = "MEX_ORIENTATION_DESC.TXT"
SPACECRAFT_POINTING_MODE = NADIR
^MEX_POINTING_DESC = "MEX_POINTING_DESC.TXT"
RIGHT_ASCENSION = -1e+32
DECLINATION = -1e+32
OFFSET_ANGLE = -1e+32
SPACECRAFT_SOLAR_DISTANCE = 2.3219e+08
TARGET_NAME = MARS
/* CAMERA DATA ELEMENTS */
DETECTOR_TEMPERATURE = 18.9822
FOCAL_PLANE_TEMPERATURE = 8.7872
INST_CMPRS_NAME = "DISCRETE COSINE TRANSFORMATION (DCT)"
INST_CMPRS_RATIO = 17.393
INST_CMPRS_QUALITY = 0
INST_CMPRS_QUANTZ_TBL_ID = 0
INSTRUMENT_TEMPERATURE = 11.4379
LENS_TEMPERATURE = 8.7872
MACROPIXEL_SIZE = 4
MISSING_FRAMES = 0
PIXEL_SUBSAMPLING_FLAG = N
SIGNAL_CHAIN_ID = 2
/* RADIOMETRIC DATA ELEMENTS */
BANDWIDTH = 48.0
CENTER_FILTER_WAVELENGTH = 748.0
RADIANCE_OFFSET = 1.76711
RADIANCE_SCALING_FACTOR = 0.00349671
REFLECTANCE_SCALING_FACTOR = 0.000430204
MEX:REFLECTANCE_OFFSET = 0.217409
/* IMAGE OBJECT DEFINITIONS */
OBJECT = IMAGE
  INTERCHANGE_FORMAT = BINARY
  LINES = 6883
  LINE_SAMPLES = 1894
  SAMPLE_TYPE = UNSIGNED_INTEGER
  SAMPLE_BITS = 8
  BANDS = 1
  BAND_STORAGE_TYPE = BAND_SEQUENTIAL
  MAXIMUM = 255
  MEAN = 127.086
  MINIMUM = 1
  STANDARD_DEVIATION = 27.9236
END_OBJECT = IMAGE
/* MAP OBJECT DEFINITIONS */
OBJECT = IMAGE_MAP_PROJECTION
  ^DATA_SET_MAP_PROJECTION_CATALOG= "DSMAP.CAT"
  A_AXIS_RADIUS = 3396.0
  B_AXIS_RADIUS = 3396.0
  C_AXIS_RADIUS = 3396.0
  CENTER_LATITUDE = 0.0
  CENTER_LONGITUDE = 227.0
  COORDINATE_SYSTEM_NAME = PLANETOGRAPHIC
  COORDINATE_SYSTEM_TYPE = "BODY-FIXED ROTATING"
  EASTERNMOST_LONGITUDE = 227.957
  FIRST_STANDARD_PARALLEL = "N/A"
  LINE_FIRST_PIXEL = 1
  LINE_LAST_PIXEL = 6883
  LINE_PROJECTION_OFFSET = 62116.625
  MAP_PROJECTION_ROTATION = 0.0
  MAP_PROJECTION_TYPE = SINUSOIDAL
  MAP_RESOLUTION = 1185.42760773333
  MAP_SCALE = 0.05
  MAXIMUM_LATITUDE = 54.2072
  MINIMUM_LATITUDE = 46.6065
  POSITIVE_LONGITUDE_DIRECTION = EAST
  REFERENCE_LATITUDE = "N/A"
  REFERENCE_LONGITUDE = "N/A"
  SAMPLE_FIRST_PIXEL = 1
  SAMPLE_LAST_PIXEL = 1894
  SAMPLE_PROJECTION_OFFSET = 1137.625
  SECOND_STANDARD_PARALLEL = "N/A"
  WESTERNMOST_LONGITUDE = 225.225
END_OBJECT = IMAGE_MAP_PROJECTION
/* The JPEG2000 image data file associated with this label. */
OBJECT = COMPRESSED_FILE
  FILE_NAME = "HH978_0000_RE3.JP2"
  RECORD_TYPE = UNDEFINED
  FILE_RECORDS = UNK
  ENCODING_TYPE = "JP2"
  INTERCHANGE_FORMAT = BINARY
  UNCOMPRESSED_FILE_NAME = "HH978_0000_RE3.IMG"
  REQUIRED_STORAGE_BYTES = "13055342"
  ^DESCRIPTION = "JP2INFO.TXT"
END_OBJECT = COMPRESSED_FILE
END
