PDS_VERSION_ID = PDS3
/* FILE DATA ELEMENTS */
RECORD_TYPE = STREAM
/* POINTERS TO DATA OBJECTS */
^COMPRESSED_FILE = "HH983_0000_BL3.JP2"
/* IDENTIFICATION DATA ELEMENTS */
DATA_SET_ID = "MEX-M-HRSC-5-REFDR-MAPPROJECTED-V3.0"
DATA_SET_NAME = "MARS EXPRESS HRSC MAP PROJECTED REFDR V3.0"
DETECTOR_ID = MEX_HRSC_BLUE
EVENT_TYPE = "MARS-REGIONAL-MAPPING-Im-Gl-Pf"
INSTRUMENT_HOST_ID = MEX
INSTRUMENT_HOST_NAME = "MARS EXPRESS"
INSTRUMENT_ID = HRSC
INSTRUMENT_NAME = "HIGH RESOLUTION STEREO CAMERA"
MISSION_NAME = "MARS EXPRESS"
MISSION_PHASE_NAME = ME_Phase_38
PROCESSING_LEVEL_ID = 3
PRODUCT_CREATION_TIME = 2018-09-04T13:05:27.000Z
PRODUCT_ID = "HH983_0000_BL3.JP2"
RELEASE_ID = 0140
REVISION_ID = 0000
/* QUALITY DATA ELEMENTS */
DATA_QUALITY_ID = 1
DATA_QUALITY_DESC = "Data calculated based on original SPICE kernels"
/* TIME DATA ELEMENTS */
SPACECRAFT_CLOCK_START_COUNT = "1/0469428868.08304"
SPACECRAFT_CLOCK_STOP_COUNT = "1/0469429109.40023"
START_TIME = 2018-03-18T04:55:19.303Z
STOP_TIME = 2018-03-18T04:58:07.390Z
/* ORBITAL DATA ELEMENTS */
ASCENDING_NODE_LONGITUDE = 236.54
MAXIMUM_RESOLUTION = 60.8
FOOTPRINT_POINT_LATITUDE = (64.3726,64.3584,64.3291,64.295,64.2835 ,63.9628,63.7488,63.5348,63.3208, 63.1068,62.8926,62.5713,62.357,62.1427, 61.9284,61.7141,61.4997,61.2852,60.9635 ,60.7491,60.5346,60.3201,60.1056, 59.8911,59.5693,59.3548,59.0329,58.8185 ,58.6039,58.3894,58.1755,57.9604, 57.7459,57.5315,57.3171,56.9955,56.674, 56.3526,56.1383,55.9241,55.71,55.4958, 55.2818,55.0678,54.8537,54.6398,54.426, 54.2121,53.9984,53.7847,53.5335,53.5515 ,53.5693,53.5797,53.587,53.8014,54.0158 ,54.2302,54.4447,54.6593,54.874,55.0887 ,55.3035,55.5184,55.7333,55.9483, 56.1633,56.3784,56.5935,56.8087,57.0239 ,57.2391,57.4544,57.7775,57.9928, 58.2082,58.4236,58.6392,58.9624,59.178, 59.5012,59.7168,60.0402,60.2559,60.4714 ,60.7948,61.1182,61.4416,61.6572, 61.8728,62.0884,62.304,62.5195,62.735, 63.0583,63.274,63.4894,63.8125,64.028, 64.3726)
FOOTPRINT_POINT_LONGITUDE = (76.6183,76.1153,75.2282,74.3512, 73.6258,73.7052,73.7569,73.8074,73.8569 ,73.9053,73.9529,74.0224,74.0675, 74.1118,74.1552,74.1975,74.2391,74.28, 74.3397,74.3785,74.4165,74.4536,74.4901 ,74.5259,74.5783,74.6123,74.6621, 74.6943,74.726,74.7572,74.7868,74.8175, 74.8468,74.8754,74.9035,74.9446,74.9845 ,75.0232,75.0483,75.073,75.0971,75.1207 ,75.1439,75.1666,75.1889,75.2107,75.232 ,75.253,75.2735,75.2935,75.5664,76.1336 ,76.7903,77.2599,77.589,77.5784,77.5675 ,77.5563,77.5449,77.5334,77.5217, 77.5101,77.4981,77.4861,77.4734,77.461, 77.4481,77.435,77.4218,77.4084,77.3945, 77.3805,77.3662,77.3447,77.3296,77.3146 ,77.299,77.2837,77.2599,77.2437,77.2185 ,77.2015,77.1752,77.1579,77.1397, 77.1117,77.0829,77.0536,77.0335,77.0131 ,76.9924,76.9713,76.9498,76.9276, 76.8941,76.8717,76.848,76.8121,76.7877, 76.6183)
ORBIT_NUMBER = 17983
ORBITAL_ECCENTRICITY = 0.572
ORBITAL_INCLINATION = 86.99
ORBITAL_SEMIMAJOR_AXIS = 8780.54
PERIAPSIS_ALTITUDE = 377.8
PERIAPSIS_ARGUMENT_ANGLE = 120.81
PERIAPSIS_TIME = 2018-03-18T04:56:35.000Z
SPACECRAFT_ORIENTATION = (0.0,-1.0,0.0)
^MEX_ORIENTATION_DESC = "MEX_ORIENTATION_DESC.TXT"
SPACECRAFT_POINTING_MODE = ACROSSTRACK
^MEX_POINTING_DESC = "MEX_POINTING_DESC.TXT"
RIGHT_ASCENSION = -1e+32
DECLINATION = -1e+32
OFFSET_ANGLE = 0.36
SPACECRAFT_SOLAR_DISTANCE = 2.31917e+08
TARGET_NAME = MARS
/* CAMERA DATA ELEMENTS */
DETECTOR_TEMPERATURE = 18.9822
FOCAL_PLANE_TEMPERATURE = 9.3989
INST_CMPRS_NAME = "DISCRETE COSINE TRANSFORMATION (DCT)"
INST_CMPRS_RATIO = 8.70892
INST_CMPRS_QUALITY = 0
INST_CMPRS_QUANTZ_TBL_ID = 0
INSTRUMENT_TEMPERATURE = 12.0496
LENS_TEMPERATURE = 10.0106
MACROPIXEL_SIZE = 4
MISSING_FRAMES = 0
PIXEL_SUBSAMPLING_FLAG = N
SIGNAL_CHAIN_ID = 2
/* RADIOMETRIC DATA ELEMENTS */
BANDWIDTH = 76.0
CENTER_FILTER_WAVELENGTH = 444.0
RADIANCE_OFFSET = 0.497017
RADIANCE_SCALING_FACTOR = 0.00225847
REFLECTANCE_SCALING_FACTOR = 0.000124806
MEX:REFLECTANCE_OFFSET = 0.0274659
/* IMAGE OBJECT DEFINITIONS */
OBJECT = IMAGE
  INTERCHANGE_FORMAT = BINARY
  LINES = 12872
  LINE_SAMPLES = 2324
  SAMPLE_TYPE = UNSIGNED_INTEGER
  SAMPLE_BITS = 8
  BANDS = 1
  BAND_STORAGE_TYPE = BAND_SEQUENTIAL
  MAXIMUM = 255
  MEAN = 70.4715
  MINIMUM = 1
  STANDARD_DEVIATION = 28.8397
END_OBJECT = IMAGE
/* MAP OBJECT DEFINITIONS */
OBJECT = IMAGE_MAP_PROJECTION
  ^DATA_SET_MAP_PROJECTION_CATALOG= "DSMAP.CAT"
  A_AXIS_RADIUS = 3396.0
  B_AXIS_RADIUS = 3396.0
  C_AXIS_RADIUS = 3396.0
  CENTER_LATITUDE = 0.0
  CENTER_LONGITUDE = 76.0
  COORDINATE_SYSTEM_NAME = PLANETOGRAPHIC
  COORDINATE_SYSTEM_TYPE = "BODY-FIXED ROTATING"
  EASTERNMOST_LONGITUDE = 77.589
  FIRST_STANDARD_PARALLEL = "N/A"
  LINE_FIRST_PIXEL = 1
  LINE_LAST_PIXEL = 12872
  LINE_PROJECTION_OFFSET = 76321.625
  MAP_PROJECTION_ROTATION = 0.0
  MAP_PROJECTION_TYPE = SINUSOIDAL
  MAP_RESOLUTION = 1185.42760773333
  MAP_SCALE = 0.05
  MAXIMUM_LATITUDE = 64.37260000000001
  MINIMUM_LATITUDE = 53.5335
  POSITIVE_LONGITUDE_DIRECTION = EAST
  REFERENCE_LATITUDE = "N/A"
  REFERENCE_LONGITUDE = "N/A"
  SAMPLE_FIRST_PIXEL = 1
  SAMPLE_LAST_PIXEL = 2324
  SAMPLE_PROJECTION_OFFSET = 1213.875
  SECOND_STANDARD_PARALLEL = "N/A"
  WESTERNMOST_LONGITUDE = 73.6258
END_OBJECT = IMAGE_MAP_PROJECTION
/* The JPEG2000 image data file associated with this label. */
OBJECT = COMPRESSED_FILE
  FILE_NAME = "HH983_0000_BL3.JP2"
  RECORD_TYPE = UNDEFINED
  FILE_RECORDS = UNK
  ENCODING_TYPE = "JP2"
  INTERCHANGE_FORMAT = BINARY
  UNCOMPRESSED_FILE_NAME = "HH983_0000_BL3.IMG"
  REQUIRED_STORAGE_BYTES = "29935444"
  ^DESCRIPTION = "JP2INFO.TXT"
END_OBJECT = COMPRESSED_FILE
END
