PDS_VERSION_ID = PDS3
/* FILE DATA ELEMENTS */
RECORD_TYPE = STREAM
/* POINTERS TO DATA OBJECTS */
^COMPRESSED_FILE = "HH983_0000_IR3.JP2"
/* IDENTIFICATION DATA ELEMENTS */
DATA_SET_ID = "MEX-M-HRSC-5-REFDR-MAPPROJECTED-V3.0"
DATA_SET_NAME = "MARS EXPRESS HRSC MAP PROJECTED REFDR V3.0"
DETECTOR_ID = MEX_HRSC_IR
EVENT_TYPE = "MARS-REGIONAL-MAPPING-Im-Gl-Pf"
INSTRUMENT_HOST_ID = MEX
INSTRUMENT_HOST_NAME = "MARS EXPRESS"
INSTRUMENT_ID = HRSC
INSTRUMENT_NAME = "HIGH RESOLUTION STEREO CAMERA"
MISSION_NAME = "MARS EXPRESS"
MISSION_PHASE_NAME = ME_Phase_38
PROCESSING_LEVEL_ID = 3
PRODUCT_CREATION_TIME = 2018-09-04T13:05:27.000Z
PRODUCT_ID = "HH983_0000_IR3.JP2"
RELEASE_ID = 0140
REVISION_ID = 0000
/* QUALITY DATA ELEMENTS */
DATA_QUALITY_ID = 1
DATA_QUALITY_DESC = "Data calculated based on original SPICE kernels"
/* TIME DATA ELEMENTS */
SPACECRAFT_CLOCK_START_COUNT = "1/0469428868.08304"
SPACECRAFT_CLOCK_STOP_COUNT = "1/0469429109.40023"
START_TIME = 2018-03-18T04:54:43.940Z
STOP_TIME = 2018-03-18T04:57:32.658Z
/* ORBITAL DATA ELEMENTS */
ASCENDING_NODE_LONGITUDE = 236.54
MAXIMUM_RESOLUTION = 63.4
FOOTPRINT_POINT_LATITUDE = (64.4547,64.4431,64.4324,64.4065, 64.3768,64.1649,63.9557,63.7462,63.4315 ,63.2213,63.0113,62.8011,62.5906, 62.3797,62.169,61.958,61.7465,61.535, 61.3237,61.112,60.9003,60.6884,60.3697, 60.1573,59.8385,59.6257,59.4129,59.1997 ,58.9865,58.7728,58.5596,58.3461, 58.1295,57.9187,57.7048,57.4904,57.2761 ,57.0619,56.8475,56.5257,56.2037, 55.9889,55.7738,55.5588,55.236,55.0208, 54.8055,54.5901,54.3746,54.1594,53.8358 ,53.6199,53.5443,53.5532,53.5583, 53.5632,53.6771,53.8934,54.2181,54.4346 ,54.6508,54.9749,55.1911,55.4068, 55.6227,55.9466,56.1621,56.3779,56.5933 ,56.8087,57.0242,57.2394,57.5622,57.777 ,57.9922,58.207,58.4218,58.7433,58.9577 ,59.2791,59.4934,59.7073,59.9212, 60.2416,60.4552,60.7755,60.989,61.2021, 61.5216,61.7344,61.947,62.1594,62.3717, 62.5838,62.9017,63.1136,63.4306,63.7478 ,64.0642,64.4547)
FOOTPRINT_POINT_LONGITUDE = (76.6464,76.0445,75.5887,74.684,73.8443 ,73.6299,73.6825,73.7341,73.8095, 73.8586,73.9067,73.9539,74.0002,74.0456 ,74.0902,74.1339,74.1767,74.2187,74.26, 74.3004,74.3401,74.379,74.436,74.4731, 74.5274,74.5627,74.5974,74.6314,74.6648 ,74.6975,74.7297,74.7612,74.7917, 74.8224,74.8522,74.8813,74.9099,74.938, 74.9655,75.0058,75.045,75.0704,75.0954, 75.1199,75.1557,75.179,75.2019,75.2243, 75.2463,75.2679,75.2994,75.3198,75.8056 ,76.2453,76.5824,76.9848,77.5833, 77.5732,77.5573,77.5463,77.5354,77.5189 ,77.5074,77.4961,77.4844,77.4663, 77.4543,77.4417,77.4292,77.4164,77.4032 ,77.3901,77.3696,77.356,77.3416,77.3273 ,77.3127,77.2909,77.2757,77.2526, 77.2365,77.2206,77.2043,77.1795,77.1624 ,77.136,77.118,77.0999,77.072,77.053, 77.0338,77.0142,76.9943,76.9741,76.9431 ,76.9219,76.8898,76.8561,76.8222, 76.6464)
ORBIT_NUMBER = 17983
ORBITAL_ECCENTRICITY = 0.572
ORBITAL_INCLINATION = 86.99
ORBITAL_SEMIMAJOR_AXIS = 8780.54
PERIAPSIS_ALTITUDE = 377.8
PERIAPSIS_ARGUMENT_ANGLE = 120.81
PERIAPSIS_TIME = 2018-03-18T04:56:35.000Z
SPACECRAFT_ORIENTATION = (0.0,-1.0,0.0)
^MEX_ORIENTATION_DESC = "MEX_ORIENTATION_DESC.TXT"
SPACECRAFT_POINTING_MODE = ACROSSTRACK
^MEX_POINTING_DESC = "MEX_POINTING_DESC.TXT"
RIGHT_ASCENSION = -1e+32
DECLINATION = -1e+32
OFFSET_ANGLE = 0.36
SPACECRAFT_SOLAR_DISTANCE = 2.31917e+08
TARGET_NAME = MARS
/* CAMERA DATA ELEMENTS */
DETECTOR_TEMPERATURE = 17.7588
FOCAL_PLANE_TEMPERATURE = 9.3989
INST_CMPRS_NAME = "DISCRETE COSINE TRANSFORMATION (DCT)"
INST_CMPRS_RATIO = 15.9841
INST_CMPRS_QUALITY = 0
INST_CMPRS_QUANTZ_TBL_ID = 0
INSTRUMENT_TEMPERATURE = 12.0496
LENS_TEMPERATURE = 10.0106
MACROPIXEL_SIZE = 4
MISSING_FRAMES = 0
PIXEL_SUBSAMPLING_FLAG = N
SIGNAL_CHAIN_ID = 2
/* RADIOMETRIC DATA ELEMENTS */
BANDWIDTH = 81.0
CENTER_FILTER_WAVELENGTH = 955.5
RADIANCE_OFFSET = 0.505243
RADIANCE_SCALING_FACTOR = 0.00372959
REFLECTANCE_SCALING_FACTOR = 0.00043277
MEX:REFLECTANCE_OFFSET = 0.0586269
/* IMAGE OBJECT DEFINITIONS */
OBJECT = IMAGE
  INTERCHANGE_FORMAT = BINARY
  LINES = 12872
  LINE_SAMPLES = 2324
  SAMPLE_TYPE = UNSIGNED_INTEGER
  SAMPLE_BITS = 8
  BANDS = 1
  BAND_STORAGE_TYPE = BAND_SEQUENTIAL
  MAXIMUM = 255
  MEAN = 108.913
  MINIMUM = 1
  STANDARD_DEVIATION = 31.1561
END_OBJECT = IMAGE
/* MAP OBJECT DEFINITIONS */
OBJECT = IMAGE_MAP_PROJECTION
  ^DATA_SET_MAP_PROJECTION_CATALOG= "DSMAP.CAT"
  A_AXIS_RADIUS = 3396.0
  B_AXIS_RADIUS = 3396.0
  C_AXIS_RADIUS = 3396.0
  CENTER_LATITUDE = 0.0
  CENTER_LONGITUDE = 76.0
  COORDINATE_SYSTEM_NAME = PLANETOGRAPHIC
  COORDINATE_SYSTEM_TYPE = "BODY-FIXED ROTATING"
  EASTERNMOST_LONGITUDE = 77.58329999999999
  FIRST_STANDARD_PARALLEL = "N/A"
  LINE_FIRST_PIXEL = 1
  LINE_LAST_PIXEL = 12872
  LINE_PROJECTION_OFFSET = 76321.625
  MAP_PROJECTION_ROTATION = 0.0
  MAP_PROJECTION_TYPE = SINUSOIDAL
  MAP_RESOLUTION = 1185.42760773333
  MAP_SCALE = 0.05
  MAXIMUM_LATITUDE = 64.4547
  MINIMUM_LATITUDE = 53.5443
  POSITIVE_LONGITUDE_DIRECTION = EAST
  REFERENCE_LATITUDE = "N/A"
  REFERENCE_LONGITUDE = "N/A"
  SAMPLE_FIRST_PIXEL = 1
  SAMPLE_LAST_PIXEL = 2324
  SAMPLE_PROJECTION_OFFSET = 1213.875
  SECOND_STANDARD_PARALLEL = "N/A"
  WESTERNMOST_LONGITUDE = 73.62990000000001
END_OBJECT = IMAGE_MAP_PROJECTION
/* The JPEG2000 image data file associated with this label. */
OBJECT = COMPRESSED_FILE
  FILE_NAME = "HH983_0000_IR3.JP2"
  RECORD_TYPE = UNDEFINED
  FILE_RECORDS = UNK
  ENCODING_TYPE = "JP2"
  INTERCHANGE_FORMAT = BINARY
  UNCOMPRESSED_FILE_NAME = "HH983_0000_IR3.IMG"
  REQUIRED_STORAGE_BYTES = "29935444"
  ^DESCRIPTION = "JP2INFO.TXT"
END_OBJECT = COMPRESSED_FILE
END
