PDS_VERSION_ID = PDS3
/* FILE DATA ELEMENTS */
RECORD_TYPE = STREAM
/* POINTERS TO DATA OBJECTS */
^COMPRESSED_FILE = "HH984_0000_P13.JP2"
/* IDENTIFICATION DATA ELEMENTS */
DATA_SET_ID = "MEX-M-HRSC-5-REFDR-MAPPROJECTED-V3.0"
DATA_SET_NAME = "MARS EXPRESS HRSC MAP PROJECTED REFDR V3.0"
DETECTOR_ID = MEX_HRSC_P1
EVENT_TYPE = "MARS-REGIONAL-MAPPING-Vo-Im-Pf"
INSTRUMENT_HOST_ID = MEX
INSTRUMENT_HOST_NAME = "MARS EXPRESS"
INSTRUMENT_ID = HRSC
INSTRUMENT_NAME = "HIGH RESOLUTION STEREO CAMERA"
MISSION_NAME = "MARS EXPRESS"
MISSION_PHASE_NAME = ME_Phase_38
PROCESSING_LEVEL_ID = 3
PRODUCT_CREATION_TIME = 2018-09-04T13:05:27.000Z
PRODUCT_ID = "HH984_0000_P13.JP2"
RELEASE_ID = 0140
REVISION_ID = 0000
/* QUALITY DATA ELEMENTS */
DATA_QUALITY_ID = 1
DATA_QUALITY_DESC = "Data calculated based on original SPICE kernels"
/* TIME DATA ELEMENTS */
SPACECRAFT_CLOCK_START_COUNT = "1/0469453899.08403"
SPACECRAFT_CLOCK_STOP_COUNT = "1/0469454222.58175"
START_TIME = 2018-03-18T11:52:02.437Z
STOP_TIME = 2018-03-18T11:56:12.453Z
/* ORBITAL DATA ELEMENTS */
ASCENDING_NODE_LONGITUDE = 236.52
MAXIMUM_RESOLUTION = 31.4
FOOTPRINT_POINT_LATITUDE = (71.0592,70.9898,70.9274,70.8579,70.296 ,69.9852,69.6739,69.363,69.0587,68.7535 ,68.4478,68.1415,67.8348,67.5274, 67.2196,66.9113,66.6025,66.2932,65.9833 ,65.6734,65.3623,65.0511,64.7395, 64.4275,64.1152,63.8023,63.4889,63.1754 ,62.8614,62.5469,62.2321,61.9174,61.602 ,61.2863,60.8122,60.4959,60.1791, 59.8622,59.3861,59.0686,58.7507,58.2731 ,57.9544,57.6359,57.317,56.9977,56.5189 ,56.1994,55.8794,55.5596,55.2396, 55.1124,55.141,55.3207,55.8028,56.2845, 56.6057,56.9266,57.2473,57.728,58.0483, 58.3685,58.6884,59.0085,59.3282,59.6475 ,60.1262,60.4445,60.7631,61.0813, 61.3996,61.7174,62.0349,62.3522,62.6692 ,62.986,63.3025,63.6185,63.9342,64.2497 ,64.5647,65.0368,65.3511,65.665,65.9786 ,66.2918,66.6046,66.917,67.2291,67.5407 ,67.8519,68.1628,68.4732,68.783,69.0923 ,69.5555,69.8712,70.1875,70.5032, 71.0592)
FOOTPRINT_POINT_LONGITUDE = (332.26,330.515,329.237,328.007,328.179 ,328.346,328.507,328.662,328.81,328.952 ,329.09,329.223,329.353,329.478,329.6, 329.718,329.833,329.944,330.052,330.157 ,330.258,330.357,330.452,330.545, 330.636,330.724,330.809,330.892,330.972 ,331.051,331.127,331.201,331.273, 331.343,331.444,331.509,331.573,331.634 ,331.724,331.781,331.837,331.918,331.97 ,332.021,332.071,332.118,332.188, 332.233,332.276,332.319,332.36,333.152, 334.017,334.72,334.684,334.648,334.623, 334.597,334.571,334.53,334.502,334.474, 334.445,334.414,334.384,334.352,334.303 ,334.27,334.236,334.201,334.165,334.128 ,334.09,334.051,334.011,333.97,333.928, 333.885,333.841,333.795,333.749,333.676 ,333.626,333.575,333.522,333.467, 333.412,333.354,333.295,333.234,333.171 ,333.107,333.04,332.972,332.901,332.791 ,332.713,332.632,332.548,332.26)
ORBIT_NUMBER = 17984
ORBITAL_ECCENTRICITY = 0.571
ORBITAL_INCLINATION = 86.99
ORBITAL_SEMIMAJOR_AXIS = 8774.53
PERIAPSIS_ALTITUDE = 378.71
PERIAPSIS_ARGUMENT_ANGLE = 120.64
PERIAPSIS_TIME = 2018-03-18T11:55:31.000Z
SPACECRAFT_ORIENTATION = (0.0,-1.0,0.0)
^MEX_ORIENTATION_DESC = "MEX_ORIENTATION_DESC.TXT"
SPACECRAFT_POINTING_MODE = NADIR
^MEX_POINTING_DESC = "MEX_POINTING_DESC.TXT"
RIGHT_ASCENSION = -1e+32
DECLINATION = -1e+32
OFFSET_ANGLE = -1e+32
SPACECRAFT_SOLAR_DISTANCE = 2.31863e+08
TARGET_NAME = MARS
/* CAMERA DATA ELEMENTS */
DETECTOR_TEMPERATURE = 16.7393
FOCAL_PLANE_TEMPERATURE = 7.156
INST_CMPRS_NAME = "DISCRETE COSINE TRANSFORMATION (DCT)"
INST_CMPRS_RATIO = 15.6091
INST_CMPRS_QUALITY = 0
INST_CMPRS_QUANTZ_TBL_ID = 0
INSTRUMENT_TEMPERATURE = 11.6418
LENS_TEMPERATURE = 8.7872
MACROPIXEL_SIZE = 2
MISSING_FRAMES = 0
PIXEL_SUBSAMPLING_FLAG = N
SIGNAL_CHAIN_ID = 3
/* RADIOMETRIC DATA ELEMENTS */
BANDWIDTH = 174.0
CENTER_FILTER_WAVELENGTH = 675.0
RADIANCE_OFFSET = 2.03067
RADIANCE_SCALING_FACTOR = 0.0111118
REFLECTANCE_SCALING_FACTOR = 0.000321315
MEX:REFLECTANCE_OFFSET = 0.0587204
/* IMAGE OBJECT DEFINITIONS */
OBJECT = IMAGE
  INTERCHANGE_FORMAT = BINARY
  LINES = 37640
  LINE_SAMPLES = 6733
  SAMPLE_TYPE = UNSIGNED_INTEGER
  SAMPLE_BITS = 8
  BANDS = 1
  BAND_STORAGE_TYPE = BAND_SEQUENTIAL
  MAXIMUM = 255
  MEAN = 124.521
  MINIMUM = 1
  STANDARD_DEVIATION = 42.0717
END_OBJECT = IMAGE
/* MAP OBJECT DEFINITIONS */
OBJECT = IMAGE_MAP_PROJECTION
  ^DATA_SET_MAP_PROJECTION_CATALOG= "DSMAP.CAT"
  A_AXIS_RADIUS = 3396.0
  B_AXIS_RADIUS = 3396.0
  C_AXIS_RADIUS = 3396.0
  CENTER_LATITUDE = 0.0
  CENTER_LONGITUDE = 332.0
  COORDINATE_SYSTEM_NAME = PLANETOGRAPHIC
  COORDINATE_SYSTEM_TYPE = "BODY-FIXED ROTATING"
  EASTERNMOST_LONGITUDE = 334.72
  FIRST_STANDARD_PARALLEL = "N/A"
  LINE_FIRST_PIXEL = 1
  LINE_LAST_PIXEL = 37640
  LINE_PROJECTION_OFFSET = 168282.75
  MAP_PROJECTION_ROTATION = 0.0
  MAP_PROJECTION_TYPE = SINUSOIDAL
  MAP_RESOLUTION = 2370.85521546667
  MAP_SCALE = 0.025
  MAXIMUM_LATITUDE = 71.0592
  MINIMUM_LATITUDE = 55.1124
  POSITIVE_LONGITUDE_DIRECTION = EAST
  REFERENCE_LATITUDE = "N/A"
  REFERENCE_LONGITUDE = "N/A"
  SAMPLE_FIRST_PIXEL = 1
  SAMPLE_LAST_PIXEL = 6733
  SAMPLE_PROJECTION_OFFSET = 3082.75
  SECOND_STANDARD_PARALLEL = "N/A"
  WESTERNMOST_LONGITUDE = 328.007
END_OBJECT = IMAGE_MAP_PROJECTION
/* The JPEG2000 image data file associated with this label. */
OBJECT = COMPRESSED_FILE
  FILE_NAME = "HH984_0000_P13.JP2"
  RECORD_TYPE = UNDEFINED
  FILE_RECORDS = UNK
  ENCODING_TYPE = "JP2"
  INTERCHANGE_FORMAT = BINARY
  UNCOMPRESSED_FILE_NAME = "HH984_0000_P13.IMG"
  REQUIRED_STORAGE_BYTES = "253463785"
  ^DESCRIPTION = "JP2INFO.TXT"
END_OBJECT = COMPRESSED_FILE
END
