PDS_VERSION_ID = PDS3
/* FILE DATA ELEMENTS */
RECORD_TYPE = STREAM
/* POINTERS TO DATA OBJECTS */
^COMPRESSED_FILE = "HH986_0000_RE3.JP2"
/* IDENTIFICATION DATA ELEMENTS */
DATA_SET_ID = "MEX-M-HRSC-5-REFDR-MAPPROJECTED-V3.0"
DATA_SET_NAME = "MARS EXPRESS HRSC MAP PROJECTED REFDR V3.0"
DETECTOR_ID = MEX_HRSC_RED
EVENT_TYPE = "MARS-REGIONAL-MAPPING-Im-Gl-Pf"
INSTRUMENT_HOST_ID = MEX
INSTRUMENT_HOST_NAME = "MARS EXPRESS"
INSTRUMENT_ID = HRSC
INSTRUMENT_NAME = "HIGH RESOLUTION STEREO CAMERA"
MISSION_NAME = "MARS EXPRESS"
MISSION_PHASE_NAME = ME_Phase_38
PROCESSING_LEVEL_ID = 3
PRODUCT_CREATION_TIME = 2018-09-04T13:05:27.000Z
PRODUCT_ID = "HH986_0000_RE3.JP2"
RELEASE_ID = 0140
REVISION_ID = 0000
/* QUALITY DATA ELEMENTS */
DATA_QUALITY_ID = 1
DATA_QUALITY_DESC = "Data calculated based on original SPICE kernels"
/* TIME DATA ELEMENTS */
SPACECRAFT_CLOCK_START_COUNT = "1/0469504264.08241"
SPACECRAFT_CLOCK_STOP_COUNT = "1/0469504528.07029"
START_TIME = 2018-03-19T01:52:19.068Z
STOP_TIME = 2018-03-19T01:55:29.383Z
/* ORBITAL DATA ELEMENTS */
ASCENDING_NODE_LONGITUDE = 236.49
MAXIMUM_RESOLUTION = 64
FOOTPRINT_POINT_LATITUDE = (65.8588,65.8438,65.8221,65.7923, 65.7541,65.4677,65.2248,64.8602,64.6173 ,64.3744,64.0101,63.7672,63.5243, 63.1601,62.9173,62.6747,62.432,62.1894, 61.947,61.7044,61.4617,61.2195,60.9774, 60.7354,60.4935,60.2518,59.8889,59.5265 ,59.2848,59.0436,58.8022,58.5611, 58.3203,57.959,57.5981,57.3577,57.1174, 56.8773,56.6373,56.3975,56.1577,55.9182 ,55.6787,55.4396,55.0808,54.8418, 54.6031,54.3646,54.1273,53.7707,53.7325 ,53.7503,53.7676,53.7778,53.7858, 54.1439,54.3827,54.6218,54.9811,55.2206 ,55.4608,55.8212,56.1817,56.4222,56.663 ,57.0247,57.2658,57.5075,57.749,58.1119 ,58.3539,58.596,58.8384,59.2023,59.4449 ,59.6876,60.0515,60.2951,60.5386, 60.7822,61.0256,61.2693,61.513,61.7568, 62.0008,62.2449,62.4886,62.7334,62.9774 ,63.2219,63.4664,63.711,64.0781,64.3229 ,64.5678,64.8126,65.0571,65.3023, 65.6698,65.8588)
FOOTPRINT_POINT_LONGITUDE = (129.002,128.563,127.978,127.248, 126.403,125.984,126.06,126.172,126.243, 126.314,126.416,126.482,126.547,126.641 ,126.702,126.762,126.82,126.877,126.933 ,126.987,127.041,127.092,127.143, 127.193,127.241,127.288,127.358,127.424 ,127.468,127.51,127.552,127.592,127.632 ,127.69,127.746,127.782,127.817,127.852 ,127.886,127.919,127.952,127.984, 128.015,128.045,128.089,128.118,128.147 ,128.174,128.2,128.239,128.679,129.244, 129.854,130.268,130.58,130.555,130.538, 130.52,130.494,130.475,130.457,130.428, 130.399,130.379,130.359,130.328,130.306 ,130.285,130.263,130.229,130.206, 130.182,130.158,130.121,130.096,130.07, 130.031,130.004,129.977,129.949,129.92, 129.891,129.861,129.831,129.8,129.768, 129.735,129.703,129.669,129.634,129.599 ,129.563,129.508,129.47,129.431,129.392 ,129.351,129.31,129.246,129.002)
ORBIT_NUMBER = 17986
ORBITAL_ECCENTRICITY = 0.572
ORBITAL_INCLINATION = 86.97
ORBITAL_SEMIMAJOR_AXIS = 8778.87
PERIAPSIS_ALTITUDE = 378.98
PERIAPSIS_ARGUMENT_ANGLE = 120.3
PERIAPSIS_TIME = 2018-03-19T01:53:29.000Z
SPACECRAFT_ORIENTATION = (0.0,-1.0,0.0)
^MEX_ORIENTATION_DESC = "MEX_ORIENTATION_DESC.TXT"
SPACECRAFT_POINTING_MODE = NADIR
^MEX_POINTING_DESC = "MEX_POINTING_DESC.TXT"
RIGHT_ASCENSION = -1e+32
DECLINATION = -1e+32
OFFSET_ANGLE = -1e+32
SPACECRAFT_SOLAR_DISTANCE = 2.31753e+08
TARGET_NAME = MARS
/* CAMERA DATA ELEMENTS */
DETECTOR_TEMPERATURE = 18.1666
FOCAL_PLANE_TEMPERATURE = 7.9716
INST_CMPRS_NAME = "DISCRETE COSINE TRANSFORMATION (DCT)"
INST_CMPRS_RATIO = 23.3119
INST_CMPRS_QUALITY = 0
INST_CMPRS_QUANTZ_TBL_ID = 0
INSTRUMENT_TEMPERATURE = 11.0301
LENS_TEMPERATURE = 8.1755
MACROPIXEL_SIZE = 4
MISSING_FRAMES = 0
PIXEL_SUBSAMPLING_FLAG = N
SIGNAL_CHAIN_ID = 2
/* RADIOMETRIC DATA ELEMENTS */
BANDWIDTH = 48.0
CENTER_FILTER_WAVELENGTH = 748.0
RADIANCE_OFFSET = 0.794388
RADIANCE_SCALING_FACTOR = 0.00438678
REFLECTANCE_SCALING_FACTOR = 0.000537681
MEX:REFLECTANCE_OFFSET = 0.0973669
/* IMAGE OBJECT DEFINITIONS */
OBJECT = IMAGE
  INTERCHANGE_FORMAT = BINARY
  LINES = 14534
  LINE_SAMPLES = 2588
  SAMPLE_TYPE = UNSIGNED_INTEGER
  SAMPLE_BITS = 8
  BANDS = 1
  BAND_STORAGE_TYPE = BAND_SEQUENTIAL
  MAXIMUM = 255
  MEAN = 120.885
  MINIMUM = 1
  STANDARD_DEVIATION = 22.0728
END_OBJECT = IMAGE
/* MAP OBJECT DEFINITIONS */
OBJECT = IMAGE_MAP_PROJECTION
  ^DATA_SET_MAP_PROJECTION_CATALOG= "DSMAP.CAT"
  A_AXIS_RADIUS = 3396.0
  B_AXIS_RADIUS = 3396.0
  C_AXIS_RADIUS = 3396.0
  CENTER_LATITUDE = 0.0
  CENTER_LONGITUDE = 129.0
  COORDINATE_SYSTEM_NAME = PLANETOGRAPHIC
  COORDINATE_SYSTEM_TYPE = "BODY-FIXED ROTATING"
  EASTERNMOST_LONGITUDE = 130.58
  FIRST_STANDARD_PARALLEL = "N/A"
  LINE_FIRST_PIXEL = 1
  LINE_LAST_PIXEL = 14534
  LINE_PROJECTION_OFFSET = 78187.875
  MAP_PROJECTION_ROTATION = 0.0
  MAP_PROJECTION_TYPE = SINUSOIDAL
  MAP_RESOLUTION = 1185.42760773333
  MAP_SCALE = 0.05
  MAXIMUM_LATITUDE = 65.8588
  MINIMUM_LATITUDE = 53.7325
  POSITIVE_LONGITUDE_DIRECTION = EAST
  REFERENCE_LATITUDE = "N/A"
  REFERENCE_LONGITUDE = "N/A"
  SAMPLE_FIRST_PIXEL = 1
  SAMPLE_LAST_PIXEL = 2588
  SAMPLE_PROJECTION_OFFSET = 1501.625
  SECOND_STANDARD_PARALLEL = "N/A"
  WESTERNMOST_LONGITUDE = 125.984
END_OBJECT = IMAGE_MAP_PROJECTION
/* The JPEG2000 image data file associated with this label. */
OBJECT = COMPRESSED_FILE
  FILE_NAME = "HH986_0000_RE3.JP2"
  RECORD_TYPE = UNDEFINED
  FILE_RECORDS = UNK
  ENCODING_TYPE = "JP2"
  INTERCHANGE_FORMAT = BINARY
  UNCOMPRESSED_FILE_NAME = "HH986_0000_RE3.IMG"
  REQUIRED_STORAGE_BYTES = "37634696"
  ^DESCRIPTION = "JP2INFO.TXT"
END_OBJECT = COMPRESSED_FILE
END
