PDS_VERSION_ID = PDS3
/* FILE DATA ELEMENTS */
RECORD_TYPE = STREAM
/* POINTERS TO DATA OBJECTS */
^COMPRESSED_FILE = "HH991_0000_P13.JP2"
/* IDENTIFICATION DATA ELEMENTS */
DATA_SET_ID = "MEX-M-HRSC-5-REFDR-MAPPROJECTED-V3.0"
DATA_SET_NAME = "MARS EXPRESS HRSC MAP PROJECTED REFDR V3.0"
DETECTOR_ID = MEX_HRSC_P1
EVENT_TYPE = "MARS-REGIONAL-MAPPING-Vo-Im-Pf"
INSTRUMENT_HOST_ID = MEX
INSTRUMENT_HOST_NAME = "MARS EXPRESS"
INSTRUMENT_ID = HRSC
INSTRUMENT_NAME = "HIGH RESOLUTION STEREO CAMERA"
MISSION_NAME = "MARS EXPRESS"
MISSION_PHASE_NAME = ME_Phase_38
PROCESSING_LEVEL_ID = 3
PRODUCT_CREATION_TIME = 2018-09-04T13:05:27.000Z
PRODUCT_ID = "HH991_0000_P13.JP2"
RELEASE_ID = 0140
REVISION_ID = 0000
/* QUALITY DATA ELEMENTS */
DATA_QUALITY_ID = 1
DATA_QUALITY_DESC = "Data calculated based on original SPICE kernels"
/* TIME DATA ELEMENTS */
SPACECRAFT_CLOCK_START_COUNT = "1/0469629905.07384"
SPACECRAFT_CLOCK_STOP_COUNT = "1/0469630153.48689"
START_TIME = 2018-03-20T12:45:27.711Z
STOP_TIME = 2018-03-20T12:48:23.825Z
/* ORBITAL DATA ELEMENTS */
ASCENDING_NODE_LONGITUDE = 236.39
MAXIMUM_RESOLUTION = 31.5
FOOTPRINT_POINT_LATITUDE = (69.7896,69.7544,69.7273,69.7014, 69.6436,69.5142,69.2985,68.9746,68.6498 ,68.4326,68.2156,67.8896,67.6719, 67.4539,67.2356,67.0171,66.6889,66.3601 ,66.1406,65.9209,65.701,65.4809,65.2605 ,65.04,64.8192,64.5983,64.3772,64.1558, 63.9345,63.7128,63.4909,63.2689,63.0467 ,62.8243,62.6019,62.3794,62.0449, 61.8218,61.4868,61.2634,61.0397,60.8161 ,60.5922,60.3682,60.1442,59.8074,59.583 ,59.3584,59.134,58.9091,58.5717,58.4728 ,58.4887,58.5147,58.5303,58.663,58.8892 ,59.2281,59.454,59.6797,59.9054,60.2437 ,60.4692,60.6946,61.0325,61.2575, 61.4826,61.8199,62.0445,62.2692,62.6058 ,62.8301,63.0546,63.2781,63.6135, 63.8372,64.0605,64.2838,64.6185,64.9529 ,65.1757,65.5069,65.8425,66.0646, 66.2863,66.508,66.7296,66.9509,67.172, 67.3929,67.6137,67.8342,68.1647,68.3849 ,68.6047,68.8244,69.1535,69.3727, 69.5915,69.7896)
FOOTPRINT_POINT_LONGITUDE = (337.736,336.789,336.146,335.582, 334.456,333.772,333.878,334.032,334.181 ,334.277,334.371,334.509,334.598, 334.685,334.77,334.854,334.976,335.094, 335.17,335.245,335.319,335.39,335.461, 335.53,335.597,335.663,335.728,335.791, 335.854,335.914,335.974,336.032,336.09, 336.146,336.201,336.255,336.333,336.385 ,336.46,336.508,336.556,336.603,336.649 ,336.694,336.738,336.802,336.844, 336.885,336.926,336.965,337.023,337.439 ,337.812,338.483,338.956,339.603, 339.581,339.548,339.526,339.503,339.48, 339.445,339.421,339.396,339.358,339.332 ,339.306,339.266,339.238,339.21,339.167 ,339.138,339.108,339.078,339.032,339.0, 338.967,338.935,338.884,338.832,338.796 ,338.745,338.685,338.646,338.607, 338.567,338.526,338.484,338.442,338.398 ,338.354,338.309,338.239,338.191, 338.142,338.092,338.015,337.962,337.909 ,337.736)
ORBIT_NUMBER = 17991
ORBITAL_ECCENTRICITY = 0.571
ORBITAL_INCLINATION = 86.99
ORBITAL_SEMIMAJOR_AXIS = 8773.06
PERIAPSIS_ALTITUDE = 379.23
PERIAPSIS_ARGUMENT_ANGLE = 119.42
PERIAPSIS_TIME = 2018-03-20T12:48:16.000Z
SPACECRAFT_ORIENTATION = (0.0,-1.0,0.0)
^MEX_ORIENTATION_DESC = "MEX_ORIENTATION_DESC.TXT"
SPACECRAFT_POINTING_MODE = NADIR
^MEX_POINTING_DESC = "MEX_POINTING_DESC.TXT"
RIGHT_ASCENSION = -1e+32
DECLINATION = -1e+32
OFFSET_ANGLE = -1e+32
SPACECRAFT_SOLAR_DISTANCE = 2.31478e+08
TARGET_NAME = MARS
/* CAMERA DATA ELEMENTS */
DETECTOR_TEMPERATURE = 17.5549
FOCAL_PLANE_TEMPERATURE = 9.3989
INST_CMPRS_NAME = "DISCRETE COSINE TRANSFORMATION (DCT)"
INST_CMPRS_RATIO = 10.317
INST_CMPRS_QUALITY = 0
INST_CMPRS_QUANTZ_TBL_ID = 0
INSTRUMENT_TEMPERATURE = 12.0496
LENS_TEMPERATURE = 9.6028
MACROPIXEL_SIZE = 2
MISSING_FRAMES = 0
PIXEL_SUBSAMPLING_FLAG = N
SIGNAL_CHAIN_ID = 3
/* RADIOMETRIC DATA ELEMENTS */
BANDWIDTH = 174.0
CENTER_FILTER_WAVELENGTH = 675.0
RADIANCE_OFFSET = 2.42763
RADIANCE_SCALING_FACTOR = 0.0101906
REFLECTANCE_SCALING_FACTOR = 0.000293702
MEX:REFLECTANCE_OFFSET = 0.0699667
/* IMAGE OBJECT DEFINITIONS */
OBJECT = IMAGE
  INTERCHANGE_FORMAT = BINARY
  LINES = 26623
  LINE_SAMPLES = 5802
  SAMPLE_TYPE = UNSIGNED_INTEGER
  SAMPLE_BITS = 8
  BANDS = 1
  BAND_STORAGE_TYPE = BAND_SEQUENTIAL
  MAXIMUM = 255
  MEAN = 142.775
  MINIMUM = 1
  STANDARD_DEVIATION = 42.6277
END_OBJECT = IMAGE
/* MAP OBJECT DEFINITIONS */
OBJECT = IMAGE_MAP_PROJECTION
  ^DATA_SET_MAP_PROJECTION_CATALOG= "DSMAP.CAT"
  A_AXIS_RADIUS = 3396.0
  B_AXIS_RADIUS = 3396.0
  C_AXIS_RADIUS = 3396.0
  CENTER_LATITUDE = 0.0
  CENTER_LONGITUDE = 337.0
  COORDINATE_SYSTEM_NAME = PLANETOGRAPHIC
  COORDINATE_SYSTEM_TYPE = "BODY-FIXED ROTATING"
  EASTERNMOST_LONGITUDE = 339.603
  FIRST_STANDARD_PARALLEL = "N/A"
  LINE_FIRST_PIXEL = 1
  LINE_LAST_PIXEL = 26623
  LINE_PROJECTION_OFFSET = 165258.75
  MAP_PROJECTION_ROTATION = 0.0
  MAP_PROJECTION_TYPE = SINUSOIDAL
  MAP_RESOLUTION = 2370.85521546667
  MAP_SCALE = 0.025
  MAXIMUM_LATITUDE = 69.78959999999999
  MINIMUM_LATITUDE = 58.4728
  POSITIVE_LONGITUDE_DIRECTION = EAST
  REFERENCE_LATITUDE = "N/A"
  REFERENCE_LONGITUDE = "N/A"
  SAMPLE_FIRST_PIXEL = 1
  SAMPLE_LAST_PIXEL = 5802
  SAMPLE_PROJECTION_OFFSET = 2653.75
  SECOND_STANDARD_PARALLEL = "N/A"
  WESTERNMOST_LONGITUDE = 333.772
END_OBJECT = IMAGE_MAP_PROJECTION
/* The JPEG2000 image data file associated with this label. */
OBJECT = COMPRESSED_FILE
  FILE_NAME = "HH991_0000_P13.JP2"
  RECORD_TYPE = UNDEFINED
  FILE_RECORDS = UNK
  ENCODING_TYPE = "JP2"
  INTERCHANGE_FORMAT = BINARY
  UNCOMPRESSED_FILE_NAME = "HH991_0000_P13.IMG"
  REQUIRED_STORAGE_BYTES = "154495656"
  ^DESCRIPTION = "JP2INFO.TXT"
END_OBJECT = COMPRESSED_FILE
END
