PDS_VERSION_ID = PDS3
/* FILE DATA ELEMENTS */
RECORD_TYPE = STREAM
/* POINTERS TO DATA OBJECTS */
^COMPRESSED_FILE = "HH991_0000_S23.JP2"
/* IDENTIFICATION DATA ELEMENTS */
DATA_SET_ID = "MEX-M-HRSC-5-REFDR-MAPPROJECTED-V3.0"
DATA_SET_NAME = "MARS EXPRESS HRSC MAP PROJECTED REFDR V3.0"
DETECTOR_ID = MEX_HRSC_S2
EVENT_TYPE = "MARS-REGIONAL-MAPPING-Vo-Im-Pf"
INSTRUMENT_HOST_ID = MEX
INSTRUMENT_HOST_NAME = "MARS EXPRESS"
INSTRUMENT_ID = HRSC
INSTRUMENT_NAME = "HIGH RESOLUTION STEREO CAMERA"
MISSION_NAME = "MARS EXPRESS"
MISSION_PHASE_NAME = ME_Phase_38
PROCESSING_LEVEL_ID = 3
PRODUCT_CREATION_TIME = 2018-09-04T13:05:27.000Z
PRODUCT_ID = "HH991_0000_S23.JP2"
RELEASE_ID = 0140
REVISION_ID = 0000
/* QUALITY DATA ELEMENTS */
DATA_QUALITY_ID = 1
DATA_QUALITY_DESC = "Data calculated based on original SPICE kernels"
/* TIME DATA ELEMENTS */
SPACECRAFT_CLOCK_START_COUNT = "1/0469629905.07384"
SPACECRAFT_CLOCK_STOP_COUNT = "1/0469630153.48689"
START_TIME = 2018-03-20T12:46:28.586Z
STOP_TIME = 2018-03-20T12:49:21.228Z
/* ORBITAL DATA ELEMENTS */
ASCENDING_NODE_LONGITUDE = 236.39
MAXIMUM_RESOLUTION = 32.7
FOOTPRINT_POINT_LATITUDE = (69.5817,69.5513,69.5281,69.5097, 69.4837,69.4561,69.4392,69.2186,68.9974 ,68.7767,68.4456,68.2245,68.0031, 67.7826,67.451,67.1197,66.8987,66.6779, 66.4569,66.2363,66.0155,65.7947,65.574, 65.243,64.9121,64.5813,64.2506,64.03, 63.8096,63.5893,63.369,63.0388,62.7087, 62.4886,62.2684,62.0489,61.8293,61.5, 61.2805,61.0611,60.7323,60.5132,60.2943 ,60.0754,59.8571,59.6384,59.42,59.2015, 58.9833,58.7655,58.5474,58.5256,58.5408 ,58.5536,58.5682,58.579,58.5896,58.7092 ,58.9282,59.2573,59.4767,59.6964, 60.0263,60.2463,60.4664,60.6865,60.9067 ,61.1273,61.4583,61.6788,61.8998, 62.1208,62.3418,62.6737,62.895,63.1159, 63.3386,63.5605,64.0045,64.3377,64.671, 64.8932,65.2263,65.4522,65.7832,66.0059 ,66.2291,66.4519,66.6746,66.8975, 67.1206,67.4553,67.6783,67.9016,68.2364 ,68.5713,68.7946,69.018,69.2414, 69.5817)
FOOTPRINT_POINT_LONGITUDE = (337.733,336.897,336.317,335.883, 335.305,334.729,333.872,333.977,334.079 ,334.178,334.323,334.417,334.509, 334.597,334.728,334.853,334.934,335.014 ,335.092,335.167,335.241,335.314, 335.385,335.488,335.588,335.685,335.779 ,335.84,335.899,335.958,336.015,336.098 ,336.179,336.231,336.283,336.333, 336.382,336.453,336.5,336.546,336.613, 336.656,336.698,336.74,336.781,336.821, 336.86,336.898,336.936,336.972,337.008, 337.342,337.747,338.1,338.531,338.885, 339.265,339.619,339.597,339.563,339.54, 339.517,339.481,339.457,339.432,339.407 ,339.381,339.355,339.315,339.287, 339.259,339.231,339.201,339.157,339.126 ,339.095,339.064,339.032,338.966, 338.914,338.861,338.825,338.769,338.732 ,338.672,338.632,338.591,338.549, 338.506,338.462,338.417,338.348,338.301 ,338.253,338.178,338.101,338.048, 337.994,337.938,337.733)
ORBIT_NUMBER = 17991
ORBITAL_ECCENTRICITY = 0.571
ORBITAL_INCLINATION = 86.99
ORBITAL_SEMIMAJOR_AXIS = 8773.06
PERIAPSIS_ALTITUDE = 379.23
PERIAPSIS_ARGUMENT_ANGLE = 119.42
PERIAPSIS_TIME = 2018-03-20T12:48:16.000Z
SPACECRAFT_ORIENTATION = (0.0,-1.0,0.0)
^MEX_ORIENTATION_DESC = "MEX_ORIENTATION_DESC.TXT"
SPACECRAFT_POINTING_MODE = NADIR
^MEX_POINTING_DESC = "MEX_POINTING_DESC.TXT"
RIGHT_ASCENSION = -1e+32
DECLINATION = -1e+32
OFFSET_ANGLE = -1e+32
SPACECRAFT_SOLAR_DISTANCE = 2.31478e+08
TARGET_NAME = MARS
/* CAMERA DATA ELEMENTS */
DETECTOR_TEMPERATURE = 19.1861
FOCAL_PLANE_TEMPERATURE = 9.3989
INST_CMPRS_NAME = "DISCRETE COSINE TRANSFORMATION (DCT)"
INST_CMPRS_RATIO = 12.2424
INST_CMPRS_QUALITY = 0
INST_CMPRS_QUANTZ_TBL_ID = 0
INSTRUMENT_TEMPERATURE = 12.0496
LENS_TEMPERATURE = 9.6028
MACROPIXEL_SIZE = 2
MISSING_FRAMES = 0
PIXEL_SUBSAMPLING_FLAG = N
SIGNAL_CHAIN_ID = 1
/* RADIOMETRIC DATA ELEMENTS */
BANDWIDTH = 178.0
CENTER_FILTER_WAVELENGTH = 679.0
RADIANCE_OFFSET = 2.52225
RADIANCE_SCALING_FACTOR = 0.0118056
REFLECTANCE_SCALING_FACTOR = 0.000334997
MEX:REFLECTANCE_OFFSET = 0.0715716
/* IMAGE OBJECT DEFINITIONS */
OBJECT = IMAGE
  INTERCHANGE_FORMAT = BINARY
  LINES = 26623
  LINE_SAMPLES = 5802
  SAMPLE_TYPE = UNSIGNED_INTEGER
  SAMPLE_BITS = 8
  BANDS = 1
  BAND_STORAGE_TYPE = BAND_SEQUENTIAL
  MAXIMUM = 255
  MEAN = 153.409
  MINIMUM = 1
  STANDARD_DEVIATION = 41.6884
END_OBJECT = IMAGE
/* MAP OBJECT DEFINITIONS */
OBJECT = IMAGE_MAP_PROJECTION
  ^DATA_SET_MAP_PROJECTION_CATALOG= "DSMAP.CAT"
  A_AXIS_RADIUS = 3396.0
  B_AXIS_RADIUS = 3396.0
  C_AXIS_RADIUS = 3396.0
  CENTER_LATITUDE = 0.0
  CENTER_LONGITUDE = 337.0
  COORDINATE_SYSTEM_NAME = PLANETOGRAPHIC
  COORDINATE_SYSTEM_TYPE = "BODY-FIXED ROTATING"
  EASTERNMOST_LONGITUDE = 339.619
  FIRST_STANDARD_PARALLEL = "N/A"
  LINE_FIRST_PIXEL = 1
  LINE_LAST_PIXEL = 26623
  LINE_PROJECTION_OFFSET = 165258.75
  MAP_PROJECTION_ROTATION = 0.0
  MAP_PROJECTION_TYPE = SINUSOIDAL
  MAP_RESOLUTION = 2370.85521546667
  MAP_SCALE = 0.025
  MAXIMUM_LATITUDE = 69.5817
  MINIMUM_LATITUDE = 58.5256
  POSITIVE_LONGITUDE_DIRECTION = EAST
  REFERENCE_LATITUDE = "N/A"
  REFERENCE_LONGITUDE = "N/A"
  SAMPLE_FIRST_PIXEL = 1
  SAMPLE_LAST_PIXEL = 5802
  SAMPLE_PROJECTION_OFFSET = 2653.75
  SECOND_STANDARD_PARALLEL = "N/A"
  WESTERNMOST_LONGITUDE = 333.872
END_OBJECT = IMAGE_MAP_PROJECTION
/* The JPEG2000 image data file associated with this label. */
OBJECT = COMPRESSED_FILE
  FILE_NAME = "HH991_0000_S23.JP2"
  RECORD_TYPE = UNDEFINED
  FILE_RECORDS = UNK
  ENCODING_TYPE = "JP2"
  INTERCHANGE_FORMAT = BINARY
  UNCOMPRESSED_FILE_NAME = "HH991_0000_S23.IMG"
  REQUIRED_STORAGE_BYTES = "154495656"
  ^DESCRIPTION = "JP2INFO.TXT"
END_OBJECT = COMPRESSED_FILE
END
