PDS_VERSION_ID = PDS3
/* FILE DATA ELEMENTS */
RECORD_TYPE = STREAM
/* POINTERS TO DATA OBJECTS */
^COMPRESSED_FILE = "HH992_0000_P23.JP2"
/* IDENTIFICATION DATA ELEMENTS */
DATA_SET_ID = "MEX-M-HRSC-5-REFDR-MAPPROJECTED-V3.0"
DATA_SET_NAME = "MARS EXPRESS HRSC MAP PROJECTED REFDR V3.0"
DETECTOR_ID = MEX_HRSC_P2
EVENT_TYPE = "MARS-REGIONAL-MAPPING-Vo-Te-Pf"
INSTRUMENT_HOST_ID = MEX
INSTRUMENT_HOST_NAME = "MARS EXPRESS"
INSTRUMENT_ID = HRSC
INSTRUMENT_NAME = "HIGH RESOLUTION STEREO CAMERA"
MISSION_NAME = "MARS EXPRESS"
MISSION_PHASE_NAME = ME_Phase_38
PROCESSING_LEVEL_ID = 3
PRODUCT_CREATION_TIME = 2018-09-04T13:05:27.000Z
PRODUCT_ID = "HH992_0000_P23.JP2"
RELEASE_ID = 0140
REVISION_ID = 0000
/* QUALITY DATA ELEMENTS */
DATA_QUALITY_ID = 1
DATA_QUALITY_DESC = "Data calculated based on original SPICE kernels"
/* TIME DATA ELEMENTS */
SPACECRAFT_CLOCK_START_COUNT = "1/0469655098.09052"
SPACECRAFT_CLOCK_STOP_COUNT = "1/0469655303.09964"
START_TIME = 2018-03-20T19:46:06.604Z
STOP_TIME = 2018-03-20T19:48:18.451Z
/* ORBITAL DATA ELEMENTS */
ASCENDING_NODE_LONGITUDE = 236.38
MAXIMUM_RESOLUTION = 31.4
FOOTPRINT_POINT_LATITUDE = (66.3054,66.2841,66.2492,66.2288, 66.2057,66.2607,66.092,65.9232,65.7543, 65.5853,65.4167,65.2476,64.9947,64.8259 ,64.6569,64.3213,64.1503,63.9817,63.813 ,63.5597,63.3906,63.2221,63.0534, 62.8847,62.716,62.5473,62.2942,62.0411, 61.7879,61.6195,61.4509,61.2824,61.1139 ,60.9454,60.777,60.6087,60.3562,60.1879 ,60.0197,59.8515,59.5993,59.4312, 59.2632,59.0952,58.8432,58.5913,58.1719 ,57.8364,57.8573,57.8797,57.8963,57.906 ,57.9169,58.174,58.4268,58.5955,58.7642 ,58.9329,59.1018,59.2707,59.4396, 59.6931,59.8622,60.0313,60.2004,60.4542 ,60.6235,60.7927,60.962,61.1315,61.301, 61.4705,61.6398,61.8095,61.9793,62.149, 62.3188,62.4887,62.7435,62.9983,63.2533 ,63.4233,63.5932,63.7632,63.9332, 64.1034,64.3586,64.5287,64.6989,64.8691 ,65.0393,65.2095,65.3798,65.55,65.7201, 65.8903,66.0608,66.2311,66.4014, 66.3054)
FOOTPRINT_POINT_LONGITUDE = (236.0,235.413,234.551,234.09,233.599, 233.041,233.098,233.155,233.21,233.265, 233.318,233.371,233.448,233.499,233.549 ,233.643,233.693,233.739,233.785, 233.853,233.897,233.94,233.982,234.024, 234.065,234.106,234.166,234.224,234.281 ,234.318,234.355,234.391,234.426, 234.461,234.495,234.529,234.579,234.611 ,234.643,234.675,234.721,234.751, 234.781,234.81,234.854,234.896,234.964, 235.017,235.555,236.167,236.681,237.0, 237.393,237.526,237.501,237.485,237.468 ,237.452,237.435,237.417,237.4,237.373, 237.355,237.337,237.318,237.29,237.27, 237.251,237.231,237.211,237.19,237.17, 237.149,237.127,237.106,237.084,237.062 ,237.04,237.005,236.97,236.934,236.91, 236.885,236.86,236.834,236.809,236.769, 236.742,236.715,236.687,236.659,236.63, 236.601,236.572,236.542,236.511,236.48, 236.449,236.417,236.0)
ORBIT_NUMBER = 17992
ORBITAL_ECCENTRICITY = 0.572
ORBITAL_INCLINATION = 86.98
ORBITAL_SEMIMAJOR_AXIS = 8774.56
PERIAPSIS_ALTITUDE = 378.52
PERIAPSIS_ARGUMENT_ANGLE = 119.23
PERIAPSIS_TIME = 2018-03-20T19:47:13.000Z
SPACECRAFT_ORIENTATION = (0.0,-1.0,0.0)
^MEX_ORIENTATION_DESC = "MEX_ORIENTATION_DESC.TXT"
SPACECRAFT_POINTING_MODE = NADIR
^MEX_POINTING_DESC = "MEX_POINTING_DESC.TXT"
RIGHT_ASCENSION = -1e+32
DECLINATION = -1e+32
OFFSET_ANGLE = -1e+32
SPACECRAFT_SOLAR_DISTANCE = 2.31423e+08
TARGET_NAME = MARS
/* CAMERA DATA ELEMENTS */
DETECTOR_TEMPERATURE = 18.3705
FOCAL_PLANE_TEMPERATURE = 8.7872
INST_CMPRS_NAME = "DISCRETE COSINE TRANSFORMATION (DCT)"
INST_CMPRS_RATIO = 8.36715
INST_CMPRS_QUALITY = 0
INST_CMPRS_QUANTZ_TBL_ID = 0
INSTRUMENT_TEMPERATURE = 11.6418
LENS_TEMPERATURE = 9.195
MACROPIXEL_SIZE = 2
MISSING_FRAMES = 0
PIXEL_SUBSAMPLING_FLAG = N
SIGNAL_CHAIN_ID = 3
/* RADIOMETRIC DATA ELEMENTS */
BANDWIDTH = 177.0
CENTER_FILTER_WAVELENGTH = 676.5
RADIANCE_OFFSET = 2.66461
RADIANCE_SCALING_FACTOR = 0.0175402
REFLECTANCE_SCALING_FACTOR = 0.000498089
MEX:REFLECTANCE_OFFSET = 0.0756672
/* IMAGE OBJECT DEFINITIONS */
OBJECT = IMAGE
  INTERCHANGE_FORMAT = BINARY
  LINES = 20289
  LINE_SAMPLES = 4733
  SAMPLE_TYPE = UNSIGNED_INTEGER
  SAMPLE_BITS = 8
  BANDS = 1
  BAND_STORAGE_TYPE = BAND_SEQUENTIAL
  MAXIMUM = 255
  MEAN = 157.144
  MINIMUM = 1
  STANDARD_DEVIATION = 23.8229
END_OBJECT = IMAGE
/* MAP OBJECT DEFINITIONS */
OBJECT = IMAGE_MAP_PROJECTION
  ^DATA_SET_MAP_PROJECTION_CATALOG= "DSMAP.CAT"
  A_AXIS_RADIUS = 3396.0
  B_AXIS_RADIUS = 3396.0
  C_AXIS_RADIUS = 3396.0
  CENTER_LATITUDE = 0.0
  CENTER_LONGITUDE = 236.0
  COORDINATE_SYSTEM_NAME = PLANETOGRAPHIC
  COORDINATE_SYSTEM_TYPE = "BODY-FIXED ROTATING"
  EASTERNMOST_LONGITUDE = 237.526
  FIRST_STANDARD_PARALLEL = "N/A"
  LINE_FIRST_PIXEL = 1
  LINE_LAST_PIXEL = 20289
  LINE_PROJECTION_OFFSET = 157390.25
  MAP_PROJECTION_ROTATION = 0.0
  MAP_PROJECTION_TYPE = SINUSOIDAL
  MAP_RESOLUTION = 2370.85521546667
  MAP_SCALE = 0.025
  MAXIMUM_LATITUDE = 66.4014
  MINIMUM_LATITUDE = 57.8364
  POSITIVE_LONGITUDE_DIRECTION = EAST
  REFERENCE_LATITUDE = "N/A"
  REFERENCE_LONGITUDE = "N/A"
  SAMPLE_FIRST_PIXEL = 1
  SAMPLE_LAST_PIXEL = 4733
  SAMPLE_PROJECTION_OFFSET = 2788.25
  SECOND_STANDARD_PARALLEL = "N/A"
  WESTERNMOST_LONGITUDE = 233.041
END_OBJECT = IMAGE_MAP_PROJECTION
/* The JPEG2000 image data file associated with this label. */
OBJECT = COMPRESSED_FILE
  FILE_NAME = "HH992_0000_P23.JP2"
  RECORD_TYPE = UNDEFINED
  FILE_RECORDS = UNK
  ENCODING_TYPE = "JP2"
  INTERCHANGE_FORMAT = BINARY
  UNCOMPRESSED_FILE_NAME = "HH992_0000_P23.IMG"
  REQUIRED_STORAGE_BYTES = "96051502"
  ^DESCRIPTION = "JP2INFO.TXT"
END_OBJECT = COMPRESSED_FILE
END
