PDS_VERSION_ID = PDS3
/* FILE DATA ELEMENTS */
RECORD_TYPE = STREAM
/* POINTERS TO DATA OBJECTS */
^COMPRESSED_FILE = "HH992_0000_RE3.JP2"
/* IDENTIFICATION DATA ELEMENTS */
DATA_SET_ID = "MEX-M-HRSC-5-REFDR-MAPPROJECTED-V3.0"
DATA_SET_NAME = "MARS EXPRESS HRSC MAP PROJECTED REFDR V3.0"
DETECTOR_ID = MEX_HRSC_RED
EVENT_TYPE = "MARS-REGIONAL-MAPPING-Vo-Te-Pf"
INSTRUMENT_HOST_ID = MEX
INSTRUMENT_HOST_NAME = "MARS EXPRESS"
INSTRUMENT_ID = HRSC
INSTRUMENT_NAME = "HIGH RESOLUTION STEREO CAMERA"
MISSION_NAME = "MARS EXPRESS"
MISSION_PHASE_NAME = ME_Phase_38
PROCESSING_LEVEL_ID = 3
PRODUCT_CREATION_TIME = 2018-09-04T13:05:27.000Z
PRODUCT_ID = "HH992_0000_RE3.JP2"
RELEASE_ID = 0140
REVISION_ID = 0000
/* QUALITY DATA ELEMENTS */
DATA_QUALITY_ID = 1
DATA_QUALITY_DESC = "Data calculated based on original SPICE kernels"
/* TIME DATA ELEMENTS */
SPACECRAFT_CLOCK_START_COUNT = "1/0469655098.09052"
SPACECRAFT_CLOCK_STOP_COUNT = "1/0469655303.09964"
START_TIME = 2018-03-20T19:46:12.788Z
STOP_TIME = 2018-03-20T19:48:24.501Z
/* ORBITAL DATA ELEMENTS */
ASCENDING_NODE_LONGITUDE = 236.38
MAXIMUM_RESOLUTION = 63.8
FOOTPRINT_POINT_LATITUDE = (66.2793,66.2641,66.242,66.2118,66.173, 66.25,66.082,65.914,65.7457,65.5776, 65.3255,65.1573,64.9898,64.8218,64.6536 ,64.4036,64.2332,64.0657,63.8979, 63.7301,63.562,63.3102,63.1424,62.9747, 62.8071,62.6395,62.4717,62.2201,62.0525 ,61.8849,61.7172,61.4662,61.2988, 61.1314,60.964,60.7131,60.546,60.2954, 60.1282,59.9613,59.7944,59.5441,59.3773 ,59.2106,59.0439,58.7939,58.5441, 58.3776,57.9618,57.8544,57.8686,57.8808 ,57.8945,57.9115,58.0048,58.1717, 58.3388,58.5061,58.6734,58.8408,59.0082 ,59.1757,59.3434,59.511,59.7627,59.9305 ,60.0984,60.2662,60.5183,60.6864, 60.8543,61.0225,61.1909,61.3593,61.5276 ,61.6957,61.8644,62.1176,62.2863, 62.4553,62.7086,62.9617,63.1308,63.2998 ,63.4687,63.7222,63.8912,64.0606, 64.3144,64.4836,64.6528,64.8222,64.9915 ,65.1609,65.3304,65.5844,65.7538, 65.9233,66.093,66.2793)
FOOTPRINT_POINT_LONGITUDE = (236.228,235.783,235.192,234.454,233.6, 233.056,233.113,233.169,233.224,233.278 ,233.358,233.41,233.46,233.51,233.559, 233.63,233.68,233.726,233.771,233.816, 233.861,233.926,233.968,234.01,234.051, 234.091,234.131,234.19,234.228,234.266, 234.304,234.358,234.394,234.429,234.463 ,234.514,234.547,234.596,234.628,234.66 ,234.69,234.736,234.766,234.795,234.824 ,234.867,234.908,234.935,235.001, 235.468,235.845,236.199,236.624,237.214 ,237.546,237.53,237.514,237.498,237.481 ,237.465,237.448,237.431,237.413, 237.396,237.369,237.351,237.333,237.314 ,237.285,237.266,237.246,237.227, 237.206,237.186,237.165,237.144,237.123 ,237.091,237.069,237.046,237.012, 236.977,236.954,236.929,236.905,236.868 ,236.842,236.817,236.777,236.751, 236.723,236.696,236.668,236.639,236.611 ,236.566,236.536,236.506,236.475, 236.228)
ORBIT_NUMBER = 17992
ORBITAL_ECCENTRICITY = 0.572
ORBITAL_INCLINATION = 86.98
ORBITAL_SEMIMAJOR_AXIS = 8774.56
PERIAPSIS_ALTITUDE = 378.52
PERIAPSIS_ARGUMENT_ANGLE = 119.23
PERIAPSIS_TIME = 2018-03-20T19:47:13.000Z
SPACECRAFT_ORIENTATION = (0.0,-1.0,0.0)
^MEX_ORIENTATION_DESC = "MEX_ORIENTATION_DESC.TXT"
SPACECRAFT_POINTING_MODE = NADIR
^MEX_POINTING_DESC = "MEX_POINTING_DESC.TXT"
RIGHT_ASCENSION = -1e+32
DECLINATION = -1e+32
OFFSET_ANGLE = -1e+32
SPACECRAFT_SOLAR_DISTANCE = 2.31423e+08
TARGET_NAME = MARS
/* CAMERA DATA ELEMENTS */
DETECTOR_TEMPERATURE = 18.3705
FOCAL_PLANE_TEMPERATURE = 8.7872
INST_CMPRS_NAME = "DISCRETE COSINE TRANSFORMATION (DCT)"
INST_CMPRS_RATIO = 28.6907
INST_CMPRS_QUALITY = 0
INST_CMPRS_QUANTZ_TBL_ID = 0
INSTRUMENT_TEMPERATURE = 11.6418
LENS_TEMPERATURE = 9.195
MACROPIXEL_SIZE = 4
MISSING_FRAMES = 0
PIXEL_SUBSAMPLING_FLAG = N
SIGNAL_CHAIN_ID = 2
/* RADIOMETRIC DATA ELEMENTS */
BANDWIDTH = 48.0
CENTER_FILTER_WAVELENGTH = 748.0
RADIANCE_OFFSET = 0.8106
RADIANCE_SCALING_FACTOR = 0.00489539
REFLECTANCE_SCALING_FACTOR = 0.000598314
MEX:REFLECTANCE_OFFSET = 0.0990715
/* IMAGE OBJECT DEFINITIONS */
OBJECT = IMAGE
  INTERCHANGE_FORMAT = BINARY
  LINES = 10145
  LINE_SAMPLES = 2367
  SAMPLE_TYPE = UNSIGNED_INTEGER
  SAMPLE_BITS = 8
  BANDS = 1
  BAND_STORAGE_TYPE = BAND_SEQUENTIAL
  MAXIMUM = 255
  MEAN = 159.424
  MINIMUM = 1
  STANDARD_DEVIATION = 25.4125
END_OBJECT = IMAGE
/* MAP OBJECT DEFINITIONS */
OBJECT = IMAGE_MAP_PROJECTION
  ^DATA_SET_MAP_PROJECTION_CATALOG= "DSMAP.CAT"
  A_AXIS_RADIUS = 3396.0
  B_AXIS_RADIUS = 3396.0
  C_AXIS_RADIUS = 3396.0
  CENTER_LATITUDE = 0.0
  CENTER_LONGITUDE = 236.0
  COORDINATE_SYSTEM_NAME = PLANETOGRAPHIC
  COORDINATE_SYSTEM_TYPE = "BODY-FIXED ROTATING"
  EASTERNMOST_LONGITUDE = 237.546
  FIRST_STANDARD_PARALLEL = "N/A"
  LINE_FIRST_PIXEL = 1
  LINE_LAST_PIXEL = 10145
  LINE_PROJECTION_OFFSET = 78694.875
  MAP_PROJECTION_ROTATION = 0.0
  MAP_PROJECTION_TYPE = SINUSOIDAL
  MAP_RESOLUTION = 1185.42760773333
  MAP_SCALE = 0.05
  MAXIMUM_LATITUDE = 66.27930000000001
  MINIMUM_LATITUDE = 57.8544
  POSITIVE_LONGITUDE_DIRECTION = EAST
  REFERENCE_LATITUDE = "N/A"
  REFERENCE_LONGITUDE = "N/A"
  SAMPLE_FIRST_PIXEL = 1
  SAMPLE_LAST_PIXEL = 2367
  SAMPLE_PROJECTION_OFFSET = 1393.875
  SECOND_STANDARD_PARALLEL = "N/A"
  WESTERNMOST_LONGITUDE = 233.056
END_OBJECT = IMAGE_MAP_PROJECTION
/* The JPEG2000 image data file associated with this label. */
OBJECT = COMPRESSED_FILE
  FILE_NAME = "HH992_0000_RE3.JP2"
  RECORD_TYPE = UNDEFINED
  FILE_RECORDS = UNK
  ENCODING_TYPE = "JP2"
  INTERCHANGE_FORMAT = BINARY
  UNCOMPRESSED_FILE_NAME = "HH992_0000_RE3.IMG"
  REQUIRED_STORAGE_BYTES = "24032151"
  ^DESCRIPTION = "JP2INFO.TXT"
END_OBJECT = COMPRESSED_FILE
END
