PDS_VERSION_ID = PDS3
/* FILE DATA ELEMENTS */
RECORD_TYPE = STREAM
/* POINTERS TO DATA OBJECTS */
^COMPRESSED_FILE = "HH994_0000_P23.JP2"
/* IDENTIFICATION DATA ELEMENTS */
DATA_SET_ID = "MEX-M-HRSC-5-REFDR-MAPPROJECTED-V3.0"
DATA_SET_NAME = "MARS EXPRESS HRSC MAP PROJECTED REFDR V3.0"
DETECTOR_ID = MEX_HRSC_P2
EVENT_TYPE = "MARS-REGIONAL-MAPPING-Im-Gl-Pf"
INSTRUMENT_HOST_ID = MEX
INSTRUMENT_HOST_NAME = "MARS EXPRESS"
INSTRUMENT_ID = HRSC
INSTRUMENT_NAME = "HIGH RESOLUTION STEREO CAMERA"
MISSION_NAME = "MARS EXPRESS"
MISSION_PHASE_NAME = ME_Phase_38
PROCESSING_LEVEL_ID = 3
PRODUCT_CREATION_TIME = 2018-09-04T13:05:27.000Z
PRODUCT_ID = "HH994_0000_P23.JP2"
RELEASE_ID = 0140
REVISION_ID = 0000
/* QUALITY DATA ELEMENTS */
DATA_QUALITY_ID = 1
DATA_QUALITY_DESC = "Data calculated based on original SPICE kernels"
/* TIME DATA ELEMENTS */
SPACECRAFT_CLOCK_START_COUNT = "1/0469705410.09079"
SPACECRAFT_CLOCK_STOP_COUNT = "1/0469705649.00235"
START_TIME = 2018-03-21T09:44:37.979Z
STOP_TIME = 2018-03-21T09:47:23.737Z
/* ORBITAL DATA ELEMENTS */
ASCENDING_NODE_LONGITUDE = 236.33
MAXIMUM_RESOLUTION = 31.6
FOOTPRINT_POINT_LATITUDE = (64.494,64.4749,64.4435,64.4044,64.4612 ,64.2495,64.0375,63.8253,63.5071, 63.2951,63.0832,62.7653,62.5535,62.3417 ,62.1298,61.9181,61.7063,61.3889, 61.0716,60.86,60.6486,60.4372,60.226, 60.0146,59.8036,59.487,59.276,59.0652, 58.8544,58.6437,58.433,58.2224,58.012, 57.8016,57.5914,57.2761,57.066,56.751, 56.5413,56.3318,56.1221,55.913,55.7037, 55.4944,55.2855,55.0769,54.8682,54.6597 ,54.4513,54.2428,54.0345,53.9484, 53.9718,53.9834,53.9949,54.3156,54.5245 ,54.7335,54.9429,55.1527,55.4672, 55.6771,55.8873,56.0973,56.3079,56.518, 56.7289,56.9394,57.1505,57.3615,57.5726 ,57.7837,57.9952,58.2065,58.4179, 58.6294,58.9464,59.2648,59.4769,59.6893 ,59.9017,60.1138,60.3261,60.5385, 60.7509,61.07,61.3894,61.6023,61.8154, 62.0284,62.348,62.6678,62.8811,63.0945, 63.308,63.5214,63.7349,64.0551,64.2688, 64.494)
FOOTPRINT_POINT_LONGITUDE = (32.0717,31.5266,30.7245,29.8387, 29.3229,29.3826,29.4415,29.4995,29.5842 ,29.639,29.6927,29.7714,29.8224,29.8725 ,29.9216,29.9697,30.017,30.0859,30.1528 ,30.1965,30.2391,30.2811,30.3219, 30.3624,30.4017,30.4594,30.4969,30.5338 ,30.5699,30.6052,30.64,30.6741,30.7074, 30.7403,30.7724,30.8195,30.8502,30.8952 ,30.9243,30.9527,30.9809,31.0081, 31.0351,31.0617,31.0875,31.1126,31.1374 ,31.1618,31.1856,31.2092,31.2323, 31.7001,32.432,32.8443,33.3023,33.5862, 33.5707,33.5549,33.539,33.5232,33.4985, 33.4819,33.465,33.4477,33.4303,33.4123, 33.3945,33.376,33.3576,33.3387,33.3195, 33.2999,33.2801,33.2599,33.2393,33.2183 ,33.1859,33.1535,33.1312,33.1088, 33.0858,33.0622,33.0382,33.0139,32.9891 ,32.9513,32.9125,32.8861,32.8592, 32.8317,32.7897,32.7464,32.7169,32.6869 ,32.6564,32.6251,32.5934,32.5446, 32.5113,32.0717)
ORBIT_NUMBER = 17994
ORBITAL_ECCENTRICITY = 0.572
ORBITAL_INCLINATION = 86.97
ORBITAL_SEMIMAJOR_AXIS = 8776.54
PERIAPSIS_ALTITUDE = 379.74
PERIAPSIS_ARGUMENT_ANGLE = 118.91
PERIAPSIS_TIME = 2018-03-21T09:45:11.000Z
SPACECRAFT_ORIENTATION = (0.0,-1.0,0.0)
^MEX_ORIENTATION_DESC = "MEX_ORIENTATION_DESC.TXT"
SPACECRAFT_POINTING_MODE = NADIR
^MEX_POINTING_DESC = "MEX_POINTING_DESC.TXT"
RIGHT_ASCENSION = -1e+32
DECLINATION = -1e+32
OFFSET_ANGLE = -1e+32
SPACECRAFT_SOLAR_DISTANCE = 2.31313e+08
TARGET_NAME = MARS
/* CAMERA DATA ELEMENTS */
DETECTOR_TEMPERATURE = 18.3705
FOCAL_PLANE_TEMPERATURE = 7.7677
INST_CMPRS_NAME = "DISCRETE COSINE TRANSFORMATION (DCT)"
INST_CMPRS_RATIO = 8.40871
INST_CMPRS_QUALITY = 0
INST_CMPRS_QUANTZ_TBL_ID = 0
INSTRUMENT_TEMPERATURE = 9.8067
LENS_TEMPERATURE = 8.7872
MACROPIXEL_SIZE = 2
MISSING_FRAMES = 0
PIXEL_SUBSAMPLING_FLAG = N
SIGNAL_CHAIN_ID = 3
/* RADIOMETRIC DATA ELEMENTS */
BANDWIDTH = 177.0
CENTER_FILTER_WAVELENGTH = 676.5
RADIANCE_OFFSET = 3.75901
RADIANCE_SCALING_FACTOR = 0.0113825
REFLECTANCE_SCALING_FACTOR = 0.00032292
MEX:REFLECTANCE_OFFSET = 0.106643
/* IMAGE OBJECT DEFINITIONS */
OBJECT = IMAGE
  INTERCHANGE_FORMAT = BINARY
  LINES = 25264
  LINE_SAMPLES = 4910
  SAMPLE_TYPE = UNSIGNED_INTEGER
  SAMPLE_BITS = 8
  BANDS = 1
  BAND_STORAGE_TYPE = BAND_SEQUENTIAL
  MAXIMUM = 255
  MEAN = 114.086
  MINIMUM = 1
  STANDARD_DEVIATION = 28.688
END_OBJECT = IMAGE
/* MAP OBJECT DEFINITIONS */
OBJECT = IMAGE_MAP_PROJECTION
  ^DATA_SET_MAP_PROJECTION_CATALOG= "DSMAP.CAT"
  A_AXIS_RADIUS = 3396.0
  B_AXIS_RADIUS = 3396.0
  C_AXIS_RADIUS = 3396.0
  CENTER_LATITUDE = 0.0
  CENTER_LONGITUDE = 32.0
  COORDINATE_SYSTEM_NAME = PLANETOGRAPHIC
  COORDINATE_SYSTEM_TYPE = "BODY-FIXED ROTATING"
  EASTERNMOST_LONGITUDE = 33.5862
  FIRST_STANDARD_PARALLEL = "N/A"
  LINE_FIRST_PIXEL = 1
  LINE_LAST_PIXEL = 25264
  LINE_PROJECTION_OFFSET = 153094.75
  MAP_PROJECTION_ROTATION = 0.0
  MAP_PROJECTION_TYPE = SINUSOIDAL
  MAP_RESOLUTION = 2370.85521546667
  MAP_SCALE = 0.025
  MAXIMUM_LATITUDE = 64.494
  MINIMUM_LATITUDE = 53.9484
  POSITIVE_LONGITUDE_DIRECTION = EAST
  REFERENCE_LATITUDE = "N/A"
  REFERENCE_LONGITUDE = "N/A"
  SAMPLE_FIRST_PIXEL = 1
  SAMPLE_LAST_PIXEL = 4910
  SAMPLE_PROJECTION_OFFSET = 2674.75
  SECOND_STANDARD_PARALLEL = "N/A"
  WESTERNMOST_LONGITUDE = 29.3229
END_OBJECT = IMAGE_MAP_PROJECTION
/* The JPEG2000 image data file associated with this label. */
OBJECT = COMPRESSED_FILE
  FILE_NAME = "HH994_0000_P23.JP2"
  RECORD_TYPE = UNDEFINED
  FILE_RECORDS = UNK
  ENCODING_TYPE = "JP2"
  INTERCHANGE_FORMAT = BINARY
  UNCOMPRESSED_FILE_NAME = "HH994_0000_P23.IMG"
  REQUIRED_STORAGE_BYTES = "124070790"
  ^DESCRIPTION = "JP2INFO.TXT"
END_OBJECT = COMPRESSED_FILE
END
