PDS_VERSION_ID = PDS3
/* FILE DATA ELEMENTS */
RECORD_TYPE = STREAM
/* POINTERS TO DATA OBJECTS */
^COMPRESSED_FILE = "HI004_0000_S23.JP2"
/* IDENTIFICATION DATA ELEMENTS */
DATA_SET_ID = "MEX-M-HRSC-5-REFDR-MAPPROJECTED-V3.0"
DATA_SET_NAME = "MARS EXPRESS HRSC MAP PROJECTED REFDR V3.0"
DETECTOR_ID = MEX_HRSC_S2
EVENT_TYPE = "MARS-REGIONAL-MAPPING-Im-Pf-Eo"
INSTRUMENT_HOST_ID = MEX
INSTRUMENT_HOST_NAME = "MARS EXPRESS"
INSTRUMENT_ID = HRSC
INSTRUMENT_NAME = "HIGH RESOLUTION STEREO CAMERA"
MISSION_NAME = "MARS EXPRESS"
MISSION_PHASE_NAME = ME_Phase_38
PROCESSING_LEVEL_ID = 3
PRODUCT_CREATION_TIME = 2018-09-04T13:05:27.000Z
PRODUCT_ID = "HI004_0000_S23.JP2"
RELEASE_ID = 0140
REVISION_ID = 0000
/* QUALITY DATA ELEMENTS */
DATA_QUALITY_ID = 1
DATA_QUALITY_DESC = "Data calculated based on original SPICE kernels"
/* TIME DATA ELEMENTS */
SPACECRAFT_CLOCK_START_COUNT = "1/0469956705.07354"
SPACECRAFT_CLOCK_STOP_COUNT = "1/0469956928.39748"
START_TIME = 2018-03-24T07:33:08.479Z
STOP_TIME = 2018-03-24T07:35:36.113Z
/* ORBITAL DATA ELEMENTS */
ASCENDING_NODE_LONGITUDE = 236.15
MAXIMUM_RESOLUTION = 32.6
FOOTPRINT_POINT_LATITUDE = (71.6652,71.6302,71.6036,71.5824, 71.5527,71.5211,71.4789,71.6023,71.4134 ,71.2249,71.0363,70.8474,70.6588, 70.4697,70.2809,70.0916,69.903,69.714, 69.4307,69.2416,68.9579,68.7688,68.5798 ,68.2964,68.1071,67.9183,67.7291, 67.4459,67.1625,66.9734,66.7846,66.596, 66.407,66.1242,65.9354,65.6525,65.4638, 65.2752,65.0868,64.8985,64.6159,64.4273 ,64.1453,63.9571,63.7691,63.5808, 63.2987,63.111,62.9231,62.7355,62.4544, 62.1811,62.2074,62.2231,62.2399,62.2545 ,62.2646,62.2807,62.4695,62.6581, 62.8469,63.0357,63.2247,63.5082,63.6976 ,63.8868,64.0764,64.2657,64.5499, 64.8345,65.0246,65.2146,65.4045,65.5946 ,65.8793,66.0698,66.2604,66.4508, 66.6412,66.9269,67.2128,67.4988,67.785, 68.0713,68.2622,68.5484,68.7395,69.026, 69.2172,69.4083,69.5999,69.7913,69.9826 ,70.2696,70.4612,70.6525,70.8441, 71.0355,71.3224,71.6652)
FOOTPRINT_POINT_LONGITUDE = (89.464,88.5412,87.9012,87.4223,86.7861 ,86.1513,85.3592,85.1482,85.2625, 85.3735,85.4821,85.5886,85.6924,85.7945 ,85.8939,85.9918,86.0865,86.1798, 86.3158,86.4043,86.5336,86.6175,86.6997 ,86.8196,86.8979,86.9741,87.0492, 87.1583,87.2646,87.3339,87.4015,87.4676 ,87.5329,87.6278,87.6899,87.7805, 87.8397,87.8977,87.9545,88.01,88.0918, 88.1452,88.2227,88.2735,88.3233,88.3724 ,88.4442,88.4908,88.5368,88.5816, 88.6473,88.9067,89.5233,89.9155,90.3644 ,90.7859,91.0952,91.6119,91.5863,91.56, 91.5334,91.5063,91.4787,91.4365,91.4079 ,91.3787,91.3491,91.3189,91.2725, 91.2251,91.193,91.1601,91.1267,91.0926, 91.0401,91.0047,90.9686,90.9317,90.8941 ,90.8364,90.7771,90.7161,90.6533, 90.5887,90.5446,90.4767,90.4305,90.3591 ,90.3105,90.2608,90.2104,90.1587, 90.1059,90.0246,89.9691,89.9122,89.8543 ,89.7949,89.7033,89.464)
ORBIT_NUMBER = 18004
ORBITAL_ECCENTRICITY = 0.572
ORBITAL_INCLINATION = 86.98
ORBITAL_SEMIMAJOR_AXIS = 8775.28
PERIAPSIS_ALTITUDE = 379.37
PERIAPSIS_ARGUMENT_ANGLE = 117.17
PERIAPSIS_TIME = 2018-03-24T07:34:54.000Z
SPACECRAFT_ORIENTATION = (0.0,-1.0,0.0)
^MEX_ORIENTATION_DESC = "MEX_ORIENTATION_DESC.TXT"
SPACECRAFT_POINTING_MODE = NADIR
^MEX_POINTING_DESC = "MEX_POINTING_DESC.TXT"
RIGHT_ASCENSION = -1e+32
DECLINATION = -1e+32
OFFSET_ANGLE = -1e+32
SPACECRAFT_SOLAR_DISTANCE = 2.30761e+08
TARGET_NAME = MARS
/* CAMERA DATA ELEMENTS */
DETECTOR_TEMPERATURE = 18.9822
FOCAL_PLANE_TEMPERATURE = 8.5833
INST_CMPRS_NAME = "DISCRETE COSINE TRANSFORMATION (DCT)"
INST_CMPRS_RATIO = 13.5461
INST_CMPRS_QUALITY = 0
INST_CMPRS_QUANTZ_TBL_ID = 0
INSTRUMENT_TEMPERATURE = 11.8457
LENS_TEMPERATURE = 9.3989
MACROPIXEL_SIZE = 2
MISSING_FRAMES = 0
PIXEL_SUBSAMPLING_FLAG = N
SIGNAL_CHAIN_ID = 1
/* RADIOMETRIC DATA ELEMENTS */
BANDWIDTH = 178.0
CENTER_FILTER_WAVELENGTH = 679.0
RADIANCE_OFFSET = 2.93718
RADIANCE_SCALING_FACTOR = 0.0153578
REFLECTANCE_SCALING_FACTOR = 0.000433096
MEX:REFLECTANCE_OFFSET = 0.0828296
/* IMAGE OBJECT DEFINITIONS */
OBJECT = IMAGE
  INTERCHANGE_FORMAT = BINARY
  LINES = 22846
  LINE_SAMPLES = 5691
  SAMPLE_TYPE = UNSIGNED_INTEGER
  SAMPLE_BITS = 8
  BANDS = 1
  BAND_STORAGE_TYPE = BAND_SEQUENTIAL
  MAXIMUM = 255
  MEAN = 139.833
  MINIMUM = 1
  STANDARD_DEVIATION = 22.4928
END_OBJECT = IMAGE
/* MAP OBJECT DEFINITIONS */
OBJECT = IMAGE_MAP_PROJECTION
  ^DATA_SET_MAP_PROJECTION_CATALOG= "DSMAP.CAT"
  A_AXIS_RADIUS = 3396.0
  B_AXIS_RADIUS = 3396.0
  C_AXIS_RADIUS = 3396.0
  CENTER_LATITUDE = 0.0
  CENTER_LONGITUDE = 89.0
  COORDINATE_SYSTEM_NAME = PLANETOGRAPHIC
  COORDINATE_SYSTEM_TYPE = "BODY-FIXED ROTATING"
  EASTERNMOST_LONGITUDE = 91.61190000000001
  FIRST_STANDARD_PARALLEL = "N/A"
  LINE_FIRST_PIXEL = 1
  LINE_LAST_PIXEL = 22846
  LINE_PROJECTION_OFFSET = 170212.25
  MAP_PROJECTION_ROTATION = 0.0
  MAP_PROJECTION_TYPE = SINUSOIDAL
  MAP_RESOLUTION = 2370.85521546667
  MAP_SCALE = 0.025
  MAXIMUM_LATITUDE = 71.6652
  MINIMUM_LATITUDE = 62.1811
  POSITIVE_LONGITUDE_DIRECTION = EAST
  REFERENCE_LATITUDE = "N/A"
  REFERENCE_LONGITUDE = "N/A"
  SAMPLE_FIRST_PIXEL = 1
  SAMPLE_LAST_PIXEL = 5691
  SAMPLE_PROJECTION_OFFSET = 2879.25
  SECOND_STANDARD_PARALLEL = "N/A"
  WESTERNMOST_LONGITUDE = 85.1482
END_OBJECT = IMAGE_MAP_PROJECTION
/* The JPEG2000 image data file associated with this label. */
OBJECT = COMPRESSED_FILE
  FILE_NAME = "HI004_0000_S23.JP2"
  RECORD_TYPE = UNDEFINED
  FILE_RECORDS = UNK
  ENCODING_TYPE = "JP2"
  INTERCHANGE_FORMAT = BINARY
  UNCOMPRESSED_FILE_NAME = "HI004_0000_S23.IMG"
  REQUIRED_STORAGE_BYTES = "130045041"
  ^DESCRIPTION = "JP2INFO.TXT"
END_OBJECT = COMPRESSED_FILE
END
