PDS_VERSION_ID = PDS3
/* FILE DATA ELEMENTS */
RECORD_TYPE = STREAM
/* POINTERS TO DATA OBJECTS */
^COMPRESSED_FILE = "HI005_0000_IR3.JP2"
/* IDENTIFICATION DATA ELEMENTS */
DATA_SET_ID = "MEX-M-HRSC-5-REFDR-MAPPROJECTED-V3.0"
DATA_SET_NAME = "MARS EXPRESS HRSC MAP PROJECTED REFDR V3.0"
DETECTOR_ID = MEX_HRSC_IR
EVENT_TYPE = "MARS-LOCAL-MAPPING-Im-Ot"
INSTRUMENT_HOST_ID = MEX
INSTRUMENT_HOST_NAME = "MARS EXPRESS"
INSTRUMENT_ID = HRSC
INSTRUMENT_NAME = "HIGH RESOLUTION STEREO CAMERA"
MISSION_NAME = "MARS EXPRESS"
MISSION_PHASE_NAME = ME_Phase_38
PROCESSING_LEVEL_ID = 3
PRODUCT_CREATION_TIME = 2018-09-04T13:05:27.000Z
PRODUCT_ID = "HI005_0000_IR3.JP2"
RELEASE_ID = 0140
REVISION_ID = 0000
/* QUALITY DATA ELEMENTS */
DATA_QUALITY_ID = 1
DATA_QUALITY_DESC = "Data calculated based on original SPICE kernels"
/* TIME DATA ELEMENTS */
SPACECRAFT_CLOCK_START_COUNT = "1/0469981884.08266"
SPACECRAFT_CLOCK_STOP_COUNT = "1/0469982074.64389"
START_TIME = 2018-03-24T14:31:40.120Z
STOP_TIME = 2018-03-24T14:33:38.572Z
/* ORBITAL DATA ELEMENTS */
ASCENDING_NODE_LONGITUDE = 236.14
MAXIMUM_RESOLUTION = 64.2
FOOTPRINT_POINT_LATITUDE = (69.4161,69.3999,69.3876,69.3733, 69.3571,69.339,69.319,69.0615,68.7673, 68.5466,68.1775,67.9561,67.6603,67.5122 ,67.3642,67.2161,67.0678,66.9193, 66.7711,66.6224,66.4734,66.3246,66.1756 ,66.0267,65.8778,65.7286,65.5794, 65.4305,65.2812,65.1321,64.9077,64.7578 ,64.608,64.4574,64.3073,64.0823,63.9324 ,63.7818,63.6312,63.4056,63.255,63.1046 ,62.8785,62.7277,62.577,62.4262,62.2752 ,62.1241,61.8976,61.7464,61.7553,61.763 ,61.7728,61.7792,61.7831,61.7864, 61.7904,61.9424,62.1703,62.3222,62.4739 ,62.6257,62.8532,63.005,63.157,63.3088, 63.4615,63.6126,63.8396,64.132,64.2825, 64.4333,64.5844,64.8107,64.9617,65.1115 ,65.2626,65.4133,65.6475,65.8015, 65.9505,66.1004,66.2494,66.3989,66.6231 ,66.7729,66.9973,67.1469,67.2966, 67.5207,67.67,67.8194,67.9687,68.1177, 68.2667,68.49,68.7133,68.9364,69.2336, 69.4161)
FOOTPRINT_POINT_LONGITUDE = (349.855,348.879,348.307,347.74,347.178 ,346.621,346.067,346.147,346.256, 346.336,346.465,346.54,346.638,346.685, 346.732,346.778,346.824,346.868,346.912 ,346.956,346.998,347.041,347.082, 347.123,347.163,347.203,347.242,347.28, 347.318,347.355,347.41,347.446,347.482, 347.517,347.551,347.602,347.635,347.668 ,347.7,347.747,347.778,347.809,347.854, 347.884,347.913,347.941,347.97,347.998, 348.039,348.065,348.485,348.83,349.337, 349.768,350.093,350.42,350.951,350.939, 350.921,350.908,350.896,350.883,350.864 ,350.85,350.836,350.822,350.806,350.793 ,350.772,350.761,350.747,350.733, 350.718,350.694,350.678,350.664,350.647 ,350.631,350.59,350.566,350.552,350.535 ,350.519,350.503,350.477,350.459, 350.431,350.412,350.392,350.363,350.343 ,350.322,350.301,350.281,350.259, 350.227,350.193,350.159,350.112, 349.855)
ORBIT_NUMBER = 18005
ORBITAL_ECCENTRICITY = 0.571
ORBITAL_INCLINATION = 86.98
ORBITAL_SEMIMAJOR_AXIS = 8770.67
PERIAPSIS_ALTITUDE = 380.5
PERIAPSIS_ARGUMENT_ANGLE = 116.99
PERIAPSIS_TIME = 2018-03-24T14:33:50.000Z
SPACECRAFT_ORIENTATION = (0.0,-1.0,0.0)
^MEX_ORIENTATION_DESC = "MEX_ORIENTATION_DESC.TXT"
SPACECRAFT_POINTING_MODE = ACROSSTRACK
^MEX_POINTING_DESC = "MEX_POINTING_DESC.TXT"
RIGHT_ASCENSION = -1e+32
DECLINATION = -1e+32
OFFSET_ANGLE = 0.6
SPACECRAFT_SOLAR_DISTANCE = 2.30705e+08
TARGET_NAME = MARS
/* CAMERA DATA ELEMENTS */
DETECTOR_TEMPERATURE = 17.7588
FOCAL_PLANE_TEMPERATURE = 8.9911
INST_CMPRS_NAME = "DISCRETE COSINE TRANSFORMATION (DCT)"
INST_CMPRS_RATIO = 16.6393
INST_CMPRS_QUALITY = 0
INST_CMPRS_QUANTZ_TBL_ID = 0
INSTRUMENT_TEMPERATURE = 11.4379
LENS_TEMPERATURE = 8.9911
MACROPIXEL_SIZE = 4
MISSING_FRAMES = 0
PIXEL_SUBSAMPLING_FLAG = N
SIGNAL_CHAIN_ID = 2
/* RADIOMETRIC DATA ELEMENTS */
BANDWIDTH = 81.0
CENTER_FILTER_WAVELENGTH = 955.5
RADIANCE_OFFSET = 0.520104
RADIANCE_SCALING_FACTOR = 0.00524474
REFLECTANCE_SCALING_FACTOR = 0.000602238
MEX:REFLECTANCE_OFFSET = 0.0597219
/* IMAGE OBJECT DEFINITIONS */
OBJECT = IMAGE
  INTERCHANGE_FORMAT = BINARY
  LINES = 9005
  LINE_SAMPLES = 2296
  SAMPLE_TYPE = UNSIGNED_INTEGER
  SAMPLE_BITS = 8
  BANDS = 1
  BAND_STORAGE_TYPE = BAND_SEQUENTIAL
  MAXIMUM = 255
  MEAN = 142.383
  MINIMUM = 1
  STANDARD_DEVIATION = 21.314
END_OBJECT = IMAGE
/* MAP OBJECT DEFINITIONS */
OBJECT = IMAGE_MAP_PROJECTION
  ^DATA_SET_MAP_PROJECTION_CATALOG= "DSMAP.CAT"
  A_AXIS_RADIUS = 3396.0
  B_AXIS_RADIUS = 3396.0
  C_AXIS_RADIUS = 3396.0
  CENTER_LATITUDE = 0.0
  CENTER_LONGITUDE = 349.0
  COORDINATE_SYSTEM_NAME = PLANETOGRAPHIC
  COORDINATE_SYSTEM_TYPE = "BODY-FIXED ROTATING"
  EASTERNMOST_LONGITUDE = 350.951
  FIRST_STANDARD_PARALLEL = "N/A"
  LINE_FIRST_PIXEL = 1
  LINE_LAST_PIXEL = 9005
  LINE_PROJECTION_OFFSET = 82200.625
  MAP_PROJECTION_ROTATION = 0.0
  MAP_PROJECTION_TYPE = SINUSOIDAL
  MAP_RESOLUTION = 1185.42760773333
  MAP_SCALE = 0.05
  MAXIMUM_LATITUDE = 69.4161
  MINIMUM_LATITUDE = 61.7464
  POSITIVE_LONGITUDE_DIRECTION = EAST
  REFERENCE_LATITUDE = "N/A"
  REFERENCE_LONGITUDE = "N/A"
  SAMPLE_FIRST_PIXEL = 1
  SAMPLE_LAST_PIXEL = 2296
  SAMPLE_PROJECTION_OFFSET = 1218.375
  SECOND_STANDARD_PARALLEL = "N/A"
  WESTERNMOST_LONGITUDE = 346.067
END_OBJECT = IMAGE_MAP_PROJECTION
/* The JPEG2000 image data file associated with this label. */
OBJECT = COMPRESSED_FILE
  FILE_NAME = "HI005_0000_IR3.JP2"
  RECORD_TYPE = UNDEFINED
  FILE_RECORDS = UNK
  ENCODING_TYPE = "JP2"
  INTERCHANGE_FORMAT = BINARY
  UNCOMPRESSED_FILE_NAME = "HI005_0000_IR3.IMG"
  REQUIRED_STORAGE_BYTES = "20698440"
  ^DESCRIPTION = "JP2INFO.TXT"
END_OBJECT = COMPRESSED_FILE
END
