PDS_VERSION_ID = PDS3
/* FILE DATA ELEMENTS */
RECORD_TYPE = STREAM
/* POINTERS TO DATA OBJECTS */
^COMPRESSED_FILE = "HI005_0000_S23.JP2"
/* IDENTIFICATION DATA ELEMENTS */
DATA_SET_ID = "MEX-M-HRSC-5-REFDR-MAPPROJECTED-V3.0"
DATA_SET_NAME = "MARS EXPRESS HRSC MAP PROJECTED REFDR V3.0"
DETECTOR_ID = MEX_HRSC_S2
EVENT_TYPE = "MARS-LOCAL-MAPPING-Im-Ot"
INSTRUMENT_HOST_ID = MEX
INSTRUMENT_HOST_NAME = "MARS EXPRESS"
INSTRUMENT_ID = HRSC
INSTRUMENT_NAME = "HIGH RESOLUTION STEREO CAMERA"
MISSION_NAME = "MARS EXPRESS"
MISSION_PHASE_NAME = ME_Phase_38
PROCESSING_LEVEL_ID = 3
PRODUCT_CREATION_TIME = 2018-09-04T13:05:27.000Z
PRODUCT_ID = "HI005_0000_S23.JP2"
RELEASE_ID = 0140
REVISION_ID = 0000
/* QUALITY DATA ELEMENTS */
DATA_QUALITY_ID = 1
DATA_QUALITY_DESC = "Data calculated based on original SPICE kernels"
/* TIME DATA ELEMENTS */
SPACECRAFT_CLOCK_START_COUNT = "1/0469981884.08266"
SPACECRAFT_CLOCK_STOP_COUNT = "1/0469982074.64389"
START_TIME = 2018-03-24T14:32:45.862Z
STOP_TIME = 2018-03-24T14:34:42.491Z
/* ORBITAL DATA ELEMENTS */
ASCENDING_NODE_LONGITUDE = 236.14
MAXIMUM_RESOLUTION = 32.8
FOOTPRINT_POINT_LATITUDE = (69.2514,69.2181,69.1932,69.1668, 69.1392,69.1102,69.0798,68.9159,68.7667 ,68.5428,68.3192,68.1701,68.021,67.7973 ,67.5735,67.4243,67.2753,67.1261,66.977 ,66.8277,66.6788,66.5302,66.3814, 66.2325,66.0837,65.9348,65.7115,65.488, 65.3391,65.1901,64.967,64.7443,64.5958, 64.4483,64.3001,64.1516,64.0032,63.8549 ,63.707,63.5593,63.4111,63.2631,63.1152 ,62.9671,62.8193,62.6714,62.4498, 62.3021,62.1544,62.0068,61.7542,61.7771 ,61.799,61.8198,61.8396,61.8605,61.88, 62.0282,62.1765,62.3244,62.473,62.6214, 62.7699,62.9185,63.0665,63.2145,63.4357 ,63.6584,63.8095,63.9611,64.118,64.2694 ,64.4191,64.568,64.7174,64.8664,65.0163 ,65.2402,65.3898,65.6757,65.899,66.1248 ,66.2757,66.426,66.577,66.7271,66.9524, 67.1025,67.3276,67.4781,67.6284,67.7786 ,67.9287,68.1544,68.3049,68.5306, 68.7562,68.9068,69.0569,69.2514)
FOOTPRINT_POINT_LONGITUDE = (349.843,349.009,348.435,347.867, 347.305,346.747,346.195,346.239,346.292 ,346.371,346.447,346.497,346.546, 346.618,346.689,346.735,346.78,346.825, 346.868,346.912,346.954,346.996,347.037 ,347.077,347.117,347.156,347.214,347.27 ,347.307,347.343,347.396,347.448, 347.482,347.516,347.548,347.581,347.613 ,347.644,347.675,347.706,347.736, 347.765,347.794,347.823,347.851,347.879 ,347.92,347.947,347.973,347.999,348.153 ,348.596,349.042,349.491,349.945,350.46 ,350.962,350.95,350.937,350.924,350.911 ,350.897,350.884,350.87,350.856,350.841 ,350.817,350.794,350.782,350.77,350.764 ,350.752,350.737,350.72,350.704,350.688 ,350.672,350.646,350.629,350.577, 350.549,350.522,350.505,350.486,350.468 ,350.449,350.419,350.399,350.368, 350.347,350.325,350.303,350.281,350.247 ,350.224,350.189,350.153,350.128, 350.102,349.843)
ORBIT_NUMBER = 18005
ORBITAL_ECCENTRICITY = 0.571
ORBITAL_INCLINATION = 86.98
ORBITAL_SEMIMAJOR_AXIS = 8770.67
PERIAPSIS_ALTITUDE = 380.5
PERIAPSIS_ARGUMENT_ANGLE = 116.99
PERIAPSIS_TIME = 2018-03-24T14:33:50.000Z
SPACECRAFT_ORIENTATION = (0.0,-1.0,0.0)
^MEX_ORIENTATION_DESC = "MEX_ORIENTATION_DESC.TXT"
SPACECRAFT_POINTING_MODE = ACROSSTRACK
^MEX_POINTING_DESC = "MEX_POINTING_DESC.TXT"
RIGHT_ASCENSION = -1e+32
DECLINATION = -1e+32
OFFSET_ANGLE = 0.6
SPACECRAFT_SOLAR_DISTANCE = 2.30705e+08
TARGET_NAME = MARS
/* CAMERA DATA ELEMENTS */
DETECTOR_TEMPERATURE = 18.7783
FOCAL_PLANE_TEMPERATURE = 8.9911
INST_CMPRS_NAME = "DISCRETE COSINE TRANSFORMATION (DCT)"
INST_CMPRS_RATIO = 14.3391
INST_CMPRS_QUALITY = 0
INST_CMPRS_QUANTZ_TBL_ID = 0
INSTRUMENT_TEMPERATURE = 11.4379
LENS_TEMPERATURE = 8.9911
MACROPIXEL_SIZE = 2
MISSING_FRAMES = 0
PIXEL_SUBSAMPLING_FLAG = N
SIGNAL_CHAIN_ID = 1
/* RADIOMETRIC DATA ELEMENTS */
BANDWIDTH = 178.0
CENTER_FILTER_WAVELENGTH = 679.0
RADIANCE_OFFSET = 2.87959
RADIANCE_SCALING_FACTOR = 0.0232626
REFLECTANCE_SCALING_FACTOR = 0.000655698
MEX:REFLECTANCE_OFFSET = 0.0811665
/* IMAGE OBJECT DEFINITIONS */
OBJECT = IMAGE
  INTERCHANGE_FORMAT = BINARY
  LINES = 18010
  LINE_SAMPLES = 4592
  SAMPLE_TYPE = UNSIGNED_INTEGER
  SAMPLE_BITS = 8
  BANDS = 1
  BAND_STORAGE_TYPE = BAND_SEQUENTIAL
  MAXIMUM = 255
  MEAN = 117.501
  MINIMUM = 1
  STANDARD_DEVIATION = 15.264
END_OBJECT = IMAGE
/* MAP OBJECT DEFINITIONS */
OBJECT = IMAGE_MAP_PROJECTION
  ^DATA_SET_MAP_PROJECTION_CATALOG= "DSMAP.CAT"
  A_AXIS_RADIUS = 3396.0
  B_AXIS_RADIUS = 3396.0
  C_AXIS_RADIUS = 3396.0
  CENTER_LATITUDE = 0.0
  CENTER_LONGITUDE = 349.0
  COORDINATE_SYSTEM_NAME = PLANETOGRAPHIC
  COORDINATE_SYSTEM_TYPE = "BODY-FIXED ROTATING"
  EASTERNMOST_LONGITUDE = 350.962
  FIRST_STANDARD_PARALLEL = "N/A"
  LINE_FIRST_PIXEL = 1
  LINE_LAST_PIXEL = 18010
  LINE_PROJECTION_OFFSET = 164401.75
  MAP_PROJECTION_ROTATION = 0.0
  MAP_PROJECTION_TYPE = SINUSOIDAL
  MAP_RESOLUTION = 2370.85521546667
  MAP_SCALE = 0.025
  MAXIMUM_LATITUDE = 69.2514
  MINIMUM_LATITUDE = 61.7542
  POSITIVE_LONGITUDE_DIRECTION = EAST
  REFERENCE_LATITUDE = "N/A"
  REFERENCE_LONGITUDE = "N/A"
  SAMPLE_FIRST_PIXEL = 1
  SAMPLE_LAST_PIXEL = 4592
  SAMPLE_PROJECTION_OFFSET = 2437.25
  SECOND_STANDARD_PARALLEL = "N/A"
  WESTERNMOST_LONGITUDE = 346.195
END_OBJECT = IMAGE_MAP_PROJECTION
/* The JPEG2000 image data file associated with this label. */
OBJECT = COMPRESSED_FILE
  FILE_NAME = "HI005_0000_S23.JP2"
  RECORD_TYPE = UNDEFINED
  FILE_RECORDS = UNK
  ENCODING_TYPE = "JP2"
  INTERCHANGE_FORMAT = BINARY
  UNCOMPRESSED_FILE_NAME = "HI005_0000_S23.IMG"
  REQUIRED_STORAGE_BYTES = "82729472"
  ^DESCRIPTION = "JP2INFO.TXT"
END_OBJECT = COMPRESSED_FILE
END
