PDS_VERSION_ID = PDS3
/* FILE DATA ELEMENTS */
RECORD_TYPE = STREAM
/* POINTERS TO DATA OBJECTS */
^COMPRESSED_FILE = "HI008_0000_GR3.JP2"
/* IDENTIFICATION DATA ELEMENTS */
DATA_SET_ID = "MEX-M-HRSC-5-REFDR-MAPPROJECTED-V3.0"
DATA_SET_NAME = "MARS EXPRESS HRSC MAP PROJECTED REFDR V3.0"
DETECTOR_ID = MEX_HRSC_GREEN
EVENT_TYPE = "MARS-REGIONAL-MAPPING-Im-Pf"
INSTRUMENT_HOST_ID = MEX
INSTRUMENT_HOST_NAME = "MARS EXPRESS"
INSTRUMENT_ID = HRSC
INSTRUMENT_NAME = "HIGH RESOLUTION STEREO CAMERA"
MISSION_NAME = "MARS EXPRESS"
MISSION_PHASE_NAME = ME_Phase_38
PROCESSING_LEVEL_ID = 3
PRODUCT_CREATION_TIME = 2018-09-04T13:05:27.000Z
PRODUCT_ID = "HI008_0000_GR3.JP2"
RELEASE_ID = 0140
REVISION_ID = 0000
/* QUALITY DATA ELEMENTS */
DATA_QUALITY_ID = 1
DATA_QUALITY_DESC = "Data calculated based on original SPICE kernels"
/* TIME DATA ELEMENTS */
SPACECRAFT_CLOCK_START_COUNT = "1/0470057530.09061"
SPACECRAFT_CLOCK_STOP_COUNT = "1/0470057805.26191"
START_TIME = 2018-03-25T11:32:48.833Z
STOP_TIME = 2018-03-25T11:35:58.537Z
/* ORBITAL DATA ELEMENTS */
ASCENDING_NODE_LONGITUDE = 236.07
MAXIMUM_RESOLUTION = 63
FOOTPRINT_POINT_LATITUDE = (55.1821,55.1572,55.1295,55.114,55.0762 ,54.7295,54.4984,54.2674,54.0365, 53.6903,53.4594,53.2286,52.998,52.7673, 52.5369,52.3066,52.0762,51.846,51.6158, 51.3858,51.1559,50.8113,50.4668,50.2373 ,50.0079,49.7744,49.539,49.3037,49.0686 ,48.8336,48.5988,48.3642,48.1297, 47.8892,47.6488,47.4086,47.1687,46.8088 ,46.5696,46.2018,45.9565,45.7115, 45.3442,44.9742,44.7235,44.3484,44.0981 ,43.8484,43.5947,43.3393,43.1504, 43.1634,43.1757,43.1824,43.1908,43.5782 ,43.8342,44.0841,44.3347,44.5859,44.837 ,45.2125,45.4579,45.7035,45.9492, 46.1952,46.4415,46.6858,47.0466,47.2873 ,47.6488,47.8898,48.2504,48.4857, 48.7211,48.9567,49.1925,49.5465,49.7826 ,50.0188,50.364,50.5943,50.94,51.1706, 51.4014,51.6322,51.8631,52.2098,52.441, 52.6723,52.9037,53.1352,53.4827,53.7143 ,54.062,54.2939,54.526,54.758,54.9901, 55.1821)
FOOTPRINT_POINT_LONGITUDE = (42.9123,42.187,41.4998,41.1543,40.7207 ,40.7679,40.7983,40.8283,40.8581, 40.9014,40.9289,40.9558,40.9827,41.0086 ,41.0345,41.0598,41.0844,41.1084, 41.1319,41.1548,41.1776,41.2111,41.2427 ,41.2635,41.284,41.3045,41.3244,41.3434 ,41.3624,41.3808,41.3988,41.4167, 41.4344,41.4516,41.4685,41.4848,41.5016 ,41.5244,41.541,41.5627,41.5774,41.5918 ,41.6123,41.6325,41.6443,41.6636, 41.6739,41.6855,41.6975,41.7085,42.0683 ,42.5211,43.0134,43.3202,43.7673, 43.8987,43.8873,43.8767,43.8649,43.8524 ,43.8402,43.8222,43.8098,43.7975, 43.7848,43.7719,43.7587,43.7455,43.7254 ,43.712,43.691,43.6771,43.6556,43.6412, 43.6268,43.6122,43.5971,43.5741,43.5586 ,43.5428,43.5192,43.5033,43.4788, 43.4623,43.4453,43.4282,43.4107,43.384, 43.3659,43.3474,43.3286,43.3095,43.2803 ,43.2605,43.2301,43.2095,43.1885, 43.1671,43.1454,42.9123)
ORBIT_NUMBER = 18008
ORBITAL_ECCENTRICITY = 0.571
ORBITAL_INCLINATION = 86.98
ORBITAL_SEMIMAJOR_AXIS = 8773.76
PERIAPSIS_ALTITUDE = 380.77
PERIAPSIS_ARGUMENT_ANGLE = 116.5
PERIAPSIS_TIME = 2018-03-25T11:30:47.000Z
SPACECRAFT_ORIENTATION = (0.0,-1.0,0.0)
^MEX_ORIENTATION_DESC = "MEX_ORIENTATION_DESC.TXT"
SPACECRAFT_POINTING_MODE = ACROSSTRACK
^MEX_POINTING_DESC = "MEX_POINTING_DESC.TXT"
RIGHT_ASCENSION = -1e+32
DECLINATION = -1e+32
OFFSET_ANGLE = -0.37
SPACECRAFT_SOLAR_DISTANCE = 2.30538e+08
TARGET_NAME = MARS
/* CAMERA DATA ELEMENTS */
DETECTOR_TEMPERATURE = 18.5744
FOCAL_PLANE_TEMPERATURE = 8.3794
INST_CMPRS_NAME = "DISCRETE COSINE TRANSFORMATION (DCT)"
INST_CMPRS_RATIO = 13.3145
INST_CMPRS_QUALITY = 0
INST_CMPRS_QUANTZ_TBL_ID = 0
INSTRUMENT_TEMPERATURE = 10.4184
LENS_TEMPERATURE = 8.9911
MACROPIXEL_SIZE = 4
MISSING_FRAMES = 0
PIXEL_SUBSAMPLING_FLAG = N
SIGNAL_CHAIN_ID = 2
/* RADIOMETRIC DATA ELEMENTS */
BANDWIDTH = 88.0
CENTER_FILTER_WAVELENGTH = 538.0
RADIANCE_OFFSET = 1.11393
RADIANCE_SCALING_FACTOR = 0.00625272
REFLECTANCE_SCALING_FACTOR = 0.000286117
MEX:REFLECTANCE_OFFSET = 0.050972
/* IMAGE OBJECT DEFINITIONS */
OBJECT = IMAGE
  INTERCHANGE_FORMAT = BINARY
  LINES = 14260
  LINE_SAMPLES = 2548
  SAMPLE_TYPE = UNSIGNED_INTEGER
  SAMPLE_BITS = 8
  BANDS = 1
  BAND_STORAGE_TYPE = BAND_SEQUENTIAL
  MAXIMUM = 255
  MEAN = 128.011
  MINIMUM = 1
  STANDARD_DEVIATION = 25.2563
END_OBJECT = IMAGE
/* MAP OBJECT DEFINITIONS */
OBJECT = IMAGE_MAP_PROJECTION
  ^DATA_SET_MAP_PROJECTION_CATALOG= "DSMAP.CAT"
  A_AXIS_RADIUS = 3396.0
  B_AXIS_RADIUS = 3396.0
  C_AXIS_RADIUS = 3396.0
  CENTER_LATITUDE = 0.0
  CENTER_LONGITUDE = 42.0
  COORDINATE_SYSTEM_NAME = PLANETOGRAPHIC
  COORDINATE_SYSTEM_TYPE = "BODY-FIXED ROTATING"
  EASTERNMOST_LONGITUDE = 43.8987
  FIRST_STANDARD_PARALLEL = "N/A"
  LINE_FIRST_PIXEL = 1
  LINE_LAST_PIXEL = 14260
  LINE_PROJECTION_OFFSET = 65404.625
  MAP_PROJECTION_ROTATION = 0.0
  MAP_PROJECTION_TYPE = SINUSOIDAL
  MAP_RESOLUTION = 1185.42760773333
  MAP_SCALE = 0.05
  MAXIMUM_LATITUDE = 55.1821
  MINIMUM_LATITUDE = 43.1504
  POSITIVE_LONGITUDE_DIRECTION = EAST
  REFERENCE_LATITUDE = "N/A"
  REFERENCE_LONGITUDE = "N/A"
  SAMPLE_FIRST_PIXEL = 1
  SAMPLE_LAST_PIXEL = 2548
  SAMPLE_PROJECTION_OFFSET = 891.375
  SECOND_STANDARD_PARALLEL = "N/A"
  WESTERNMOST_LONGITUDE = 40.7207
END_OBJECT = IMAGE_MAP_PROJECTION
/* The JPEG2000 image data file associated with this label. */
OBJECT = COMPRESSED_FILE
  FILE_NAME = "HI008_0000_GR3.JP2"
  RECORD_TYPE = UNDEFINED
  FILE_RECORDS = UNK
  ENCODING_TYPE = "JP2"
  INTERCHANGE_FORMAT = BINARY
  UNCOMPRESSED_FILE_NAME = "HI008_0000_GR3.IMG"
  REQUIRED_STORAGE_BYTES = "36354864"
  ^DESCRIPTION = "JP2INFO.TXT"
END_OBJECT = COMPRESSED_FILE
END
