PDS_VERSION_ID = PDS3
/* FILE DATA ELEMENTS */
RECORD_TYPE = STREAM
/* POINTERS TO DATA OBJECTS */
^COMPRESSED_FILE = "HI008_0000_P23.JP2"
/* IDENTIFICATION DATA ELEMENTS */
DATA_SET_ID = "MEX-M-HRSC-5-REFDR-MAPPROJECTED-V3.0"
DATA_SET_NAME = "MARS EXPRESS HRSC MAP PROJECTED REFDR V3.0"
DETECTOR_ID = MEX_HRSC_P2
EVENT_TYPE = "MARS-REGIONAL-MAPPING-Im-Pf"
INSTRUMENT_HOST_ID = MEX
INSTRUMENT_HOST_NAME = "MARS EXPRESS"
INSTRUMENT_ID = HRSC
INSTRUMENT_NAME = "HIGH RESOLUTION STEREO CAMERA"
MISSION_NAME = "MARS EXPRESS"
MISSION_PHASE_NAME = ME_Phase_38
PROCESSING_LEVEL_ID = 3
PRODUCT_CREATION_TIME = 2018-09-04T13:05:27.000Z
PRODUCT_ID = "HI008_0000_P23.JP2"
RELEASE_ID = 0140
REVISION_ID = 0000
/* QUALITY DATA ELEMENTS */
DATA_QUALITY_ID = 1
DATA_QUALITY_DESC = "Data calculated based on original SPICE kernels"
/* TIME DATA ELEMENTS */
SPACECRAFT_CLOCK_START_COUNT = "1/0470057530.09061"
SPACECRAFT_CLOCK_STOP_COUNT = "1/0470057805.26191"
START_TIME = 2018-03-25T11:33:18.896Z
STOP_TIME = 2018-03-25T11:36:35.900Z
/* ORBITAL DATA ELEMENTS */
ASCENDING_NODE_LONGITUDE = 236.07
MAXIMUM_RESOLUTION = 33.1
FOOTPRINT_POINT_LATITUDE = (55.1098,55.0933,55.0727,55.061,55.1138 ,54.8836,54.6536,54.424,54.1943,53.9645 ,53.7352,53.5062,53.2777,53.0492,52.821 ,52.4786,52.2507,52.0231,51.7914, 51.5582,51.3253,51.0924,50.7432,50.5114 ,50.2794,50.0439,49.8063,49.4507, 49.2137,48.8598,48.5022,48.2604,48.0188 ,47.7782,47.4175,47.1743,46.9292, 46.6828,46.436,46.1931,45.9476,45.6974, 45.4469,45.1986,44.826,44.4431,44.1926, 43.9403,43.6865,43.4285,43.1748,43.1828 ,43.1872,43.1892,43.193,43.1934,43.4514 ,43.8372,44.0963,44.3503,44.603,44.8568 ,45.1066,45.3582,45.7338,45.9846, 46.2314,46.4762,46.7223,47.0913,47.4581 ,47.82,48.0618,48.3038,48.5461,48.7867, 49.0241,49.2612,49.4988,49.7365,49.9747 ,50.3303,50.6797,50.9126,51.2631, 51.6142,51.8482,52.081,52.3091,52.5382, 52.8817,53.1108,53.3402,53.5699,53.915, 54.1453,54.491,54.7217,54.9526,55.1098)
FOOTPRINT_POINT_LONGITUDE = (42.932,42.2271,41.4938,41.1248,40.6758 ,40.7069,40.7374,40.7669,40.7962, 40.8253,40.8534,40.8807,40.907,40.9332, 40.9586,40.9962,41.0206,41.0444,41.0679 ,41.0911,41.1138,41.1362,41.1693, 41.1899,41.2106,41.231,41.2513,41.2806, 41.2997,41.3265,41.3531,41.371,41.3884, 41.4047,41.4288,41.4453,41.4601,41.4761 ,41.4928,41.505,41.5189,41.533,41.5473, 41.5594,41.5776,41.5978,41.6066,41.6171 ,41.6282,41.6389,41.8769,42.2836, 42.6446,42.9371,43.4296,43.9714,43.9591 ,43.9404,43.9297,43.9171,43.9037, 43.8904,43.8777,43.8651,43.8451,43.8315 ,43.8181,43.8041,43.7902,43.7687, 43.7471,43.7252,43.7103,43.6952,43.6798 ,43.6644,43.6491,43.6333,43.6174, 43.6012,43.5847,43.5597,43.5347,43.5175 ,43.4915,43.4648,43.4466,43.4282, 43.4098,43.3913,43.3629,43.3435,43.3238 ,43.3038,43.2733,43.2525,43.2206, 43.1989,43.1768,42.932)
ORBIT_NUMBER = 18008
ORBITAL_ECCENTRICITY = 0.571
ORBITAL_INCLINATION = 86.98
ORBITAL_SEMIMAJOR_AXIS = 8773.76
PERIAPSIS_ALTITUDE = 380.77
PERIAPSIS_ARGUMENT_ANGLE = 116.5
PERIAPSIS_TIME = 2018-03-25T11:30:47.000Z
SPACECRAFT_ORIENTATION = (0.0,-1.0,0.0)
^MEX_ORIENTATION_DESC = "MEX_ORIENTATION_DESC.TXT"
SPACECRAFT_POINTING_MODE = ACROSSTRACK
^MEX_POINTING_DESC = "MEX_POINTING_DESC.TXT"
RIGHT_ASCENSION = -1e+32
DECLINATION = -1e+32
OFFSET_ANGLE = -0.37
SPACECRAFT_SOLAR_DISTANCE = 2.30538e+08
TARGET_NAME = MARS
/* CAMERA DATA ELEMENTS */
DETECTOR_TEMPERATURE = 19.1861
FOCAL_PLANE_TEMPERATURE = 8.3794
INST_CMPRS_NAME = "DISCRETE COSINE TRANSFORMATION (DCT)"
INST_CMPRS_RATIO = 7.40533
INST_CMPRS_QUALITY = 0
INST_CMPRS_QUANTZ_TBL_ID = 0
INSTRUMENT_TEMPERATURE = 10.4184
LENS_TEMPERATURE = 8.9911
MACROPIXEL_SIZE = 2
MISSING_FRAMES = 0
PIXEL_SUBSAMPLING_FLAG = N
SIGNAL_CHAIN_ID = 3
/* RADIOMETRIC DATA ELEMENTS */
BANDWIDTH = 177.0
CENTER_FILTER_WAVELENGTH = 676.5
RADIANCE_OFFSET = 2.78927
RADIANCE_SCALING_FACTOR = 0.0258948
REFLECTANCE_SCALING_FACTOR = 0.000729717
MEX:REFLECTANCE_OFFSET = 0.0786019
/* IMAGE OBJECT DEFINITIONS */
OBJECT = IMAGE
  INTERCHANGE_FORMAT = BINARY
  LINES = 28519
  LINE_SAMPLES = 5096
  SAMPLE_TYPE = UNSIGNED_INTEGER
  SAMPLE_BITS = 8
  BANDS = 1
  BAND_STORAGE_TYPE = BAND_SEQUENTIAL
  MAXIMUM = 255
  MEAN = 137.753
  MINIMUM = 1
  STANDARD_DEVIATION = 24.3776
END_OBJECT = IMAGE
/* MAP OBJECT DEFINITIONS */
OBJECT = IMAGE_MAP_PROJECTION
  ^DATA_SET_MAP_PROJECTION_CATALOG= "DSMAP.CAT"
  A_AXIS_RADIUS = 3396.0
  B_AXIS_RADIUS = 3396.0
  C_AXIS_RADIUS = 3396.0
  CENTER_LATITUDE = 0.0
  CENTER_LONGITUDE = 42.0
  COORDINATE_SYSTEM_NAME = PLANETOGRAPHIC
  COORDINATE_SYSTEM_TYPE = "BODY-FIXED ROTATING"
  EASTERNMOST_LONGITUDE = 43.9714
  FIRST_STANDARD_PARALLEL = "N/A"
  LINE_FIRST_PIXEL = 1
  LINE_LAST_PIXEL = 28519
  LINE_PROJECTION_OFFSET = 130809.75
  MAP_PROJECTION_ROTATION = 0.0
  MAP_PROJECTION_TYPE = SINUSOIDAL
  MAP_RESOLUTION = 2370.85521546667
  MAP_SCALE = 0.025
  MAXIMUM_LATITUDE = 55.1138
  MINIMUM_LATITUDE = 43.1748
  POSITIVE_LONGITUDE_DIRECTION = EAST
  REFERENCE_LATITUDE = "N/A"
  REFERENCE_LONGITUDE = "N/A"
  SAMPLE_FIRST_PIXEL = 1
  SAMPLE_LAST_PIXEL = 5096
  SAMPLE_PROJECTION_OFFSET = 1783.25
  SECOND_STANDARD_PARALLEL = "N/A"
  WESTERNMOST_LONGITUDE = 40.6758
END_OBJECT = IMAGE_MAP_PROJECTION
/* The JPEG2000 image data file associated with this label. */
OBJECT = COMPRESSED_FILE
  FILE_NAME = "HI008_0000_P23.JP2"
  RECORD_TYPE = UNDEFINED
  FILE_RECORDS = UNK
  ENCODING_TYPE = "JP2"
  INTERCHANGE_FORMAT = BINARY
  UNCOMPRESSED_FILE_NAME = "HI008_0000_P23.IMG"
  REQUIRED_STORAGE_BYTES = "145358304"
  ^DESCRIPTION = "JP2INFO.TXT"
END_OBJECT = COMPRESSED_FILE
END
