PDS_VERSION_ID = PDS3
/* FILE DATA ELEMENTS */
RECORD_TYPE = STREAM
/* POINTERS TO DATA OBJECTS */
^COMPRESSED_FILE = "HI012_0000_BL3.JP2"
/* IDENTIFICATION DATA ELEMENTS */
DATA_SET_ID = "MEX-M-HRSC-5-REFDR-MAPPROJECTED-V3.0"
DATA_SET_NAME = "MARS EXPRESS HRSC MAP PROJECTED REFDR V3.0"
DETECTOR_ID = MEX_HRSC_BLUE
EVENT_TYPE = "MARS-LOCAL-MAPPING-Im-Eo-Ot"
INSTRUMENT_HOST_ID = MEX
INSTRUMENT_HOST_NAME = "MARS EXPRESS"
INSTRUMENT_ID = HRSC
INSTRUMENT_NAME = "HIGH RESOLUTION STEREO CAMERA"
MISSION_NAME = "MARS EXPRESS"
MISSION_PHASE_NAME = ME_Phase_38
PROCESSING_LEVEL_ID = 3
PRODUCT_CREATION_TIME = 2018-09-04T13:05:27.000Z
PRODUCT_ID = "HI012_0000_BL3.JP2"
RELEASE_ID = 0140
REVISION_ID = 0000
/* QUALITY DATA ELEMENTS */
DATA_QUALITY_ID = 1
DATA_QUALITY_DESC = "Data calculated based on original SPICE kernels"
/* TIME DATA ELEMENTS */
SPACECRAFT_CLOCK_START_COUNT = "1/0470157845.07344"
SPACECRAFT_CLOCK_STOP_COUNT = "1/0470158100.48987"
START_TIME = 2018-03-26T15:24:57.606Z
STOP_TIME = 2018-03-26T15:27:58.449Z
/* ORBITAL DATA ELEMENTS */
ASCENDING_NODE_LONGITUDE = 236.01
MAXIMUM_RESOLUTION = 61.5
FOOTPRINT_POINT_LATITUDE = (70.9751,70.9277,70.8834,70.8403, 70.6135,70.3866,70.1595,69.8185,69.4773 ,69.2496,69.0218,68.7939,68.5659, 68.3378,68.1095,67.8811,67.6527,67.3098 ,66.9668,66.738,66.509,66.2799,66.0508, 65.8214,65.5941,65.3654,65.1363,64.7923 ,64.4485,64.2192,63.9882,63.7583, 63.5292,63.2999,63.0707,62.8414,62.4973 ,62.268,62.0385,61.8092,61.5799,61.236, 60.8921,60.5482,60.2045,59.9753,59.7463 ,59.4027,59.3661,59.3856,59.4137, 59.4303,59.4454,59.6755,59.9057,60.2513 ,60.5969,60.8273,61.0578,61.2884, 61.5191,61.7498,61.9805,62.2112,62.442, 62.6729,62.9037,63.1346,63.3656,63.5965 ,63.8275,64.0584,64.4048,64.6357, 64.8665,65.0976,65.3287,65.56,65.791, 66.1376,66.3686,66.5996,66.8306,67.0615 ,67.4078,67.6387,67.8695,68.1003, 68.3311,68.5617,68.9077,69.2535,69.4838 ,69.8291,70.0593,70.2899,70.5201, 70.7503,70.9803,70.9751)
FOOTPRINT_POINT_LONGITUDE = (351.872,350.767,349.852,348.614, 348.739,348.861,348.98,349.152,349.318, 349.425,349.529,349.631,349.73,349.827, 349.922,350.014,350.105,350.236,350.363 ,350.445,350.526,350.605,350.682, 350.759,350.822,350.891,350.961,351.064 ,351.161,351.225,351.296,351.359, 351.418,351.475,351.532,351.587,351.669 ,351.721,351.773,351.824,351.873, 351.945,352.015,352.083,352.149,352.192 ,352.233,352.295,352.698,353.169, 353.938,354.46,354.965,354.94,354.914, 354.876,354.835,354.807,354.779,354.751 ,354.722,354.692,354.662,354.631,354.6, 354.568,354.535,354.502,354.468,354.433 ,354.398,354.361,354.305,354.267, 354.228,354.189,354.148,354.108,354.066 ,354.001,353.957,353.911,353.865, 353.818,353.745,353.695,353.643,353.591 ,353.537,353.483,353.398,353.31,353.249 ,353.154,353.09,353.026,352.958,352.89, 352.819,351.872)
ORBIT_NUMBER = 18012
ORBITAL_ECCENTRICITY = 0.571
ORBITAL_INCLINATION = 86.98
ORBITAL_SEMIMAJOR_AXIS = 8769.6
PERIAPSIS_ALTITUDE = 381.22
PERIAPSIS_ARGUMENT_ANGLE = 115.79
PERIAPSIS_TIME = 2018-03-26T15:26:40.000Z
SPACECRAFT_ORIENTATION = (0.0,-1.0,0.0)
^MEX_ORIENTATION_DESC = "MEX_ORIENTATION_DESC.TXT"
SPACECRAFT_POINTING_MODE = NADIR
^MEX_POINTING_DESC = "MEX_POINTING_DESC.TXT"
RIGHT_ASCENSION = -1e+32
DECLINATION = -1e+32
OFFSET_ANGLE = -1e+32
SPACECRAFT_SOLAR_DISTANCE = 2.30316e+08
TARGET_NAME = MARS
/* CAMERA DATA ELEMENTS */
DETECTOR_TEMPERATURE = 18.9822
FOCAL_PLANE_TEMPERATURE = 10.4184
INST_CMPRS_NAME = "DISCRETE COSINE TRANSFORMATION (DCT)"
INST_CMPRS_RATIO = 9.14053
INST_CMPRS_QUALITY = 0
INST_CMPRS_QUANTZ_TBL_ID = 0
INSTRUMENT_TEMPERATURE = 12.6613
LENS_TEMPERATURE = 11.0301
MACROPIXEL_SIZE = 4
MISSING_FRAMES = 0
PIXEL_SUBSAMPLING_FLAG = N
SIGNAL_CHAIN_ID = 2
/* RADIOMETRIC DATA ELEMENTS */
BANDWIDTH = 76.0
CENTER_FILTER_WAVELENGTH = 444.0
RADIANCE_OFFSET = 0.402347
RADIANCE_SCALING_FACTOR = 0.00355785
REFLECTANCE_SCALING_FACTOR = 0.000193907
MEX:REFLECTANCE_OFFSET = 0.0219283
/* IMAGE OBJECT DEFINITIONS */
OBJECT = IMAGE
  INTERCHANGE_FORMAT = BINARY
  LINES = 13852
  LINE_SAMPLES = 2857
  SAMPLE_TYPE = UNSIGNED_INTEGER
  SAMPLE_BITS = 8
  BANDS = 1
  BAND_STORAGE_TYPE = BAND_SEQUENTIAL
  MAXIMUM = 255
  MEAN = 54.6414
  MINIMUM = 1
  STANDARD_DEVIATION = 9.74482
END_OBJECT = IMAGE
/* MAP OBJECT DEFINITIONS */
OBJECT = IMAGE_MAP_PROJECTION
  ^DATA_SET_MAP_PROJECTION_CATALOG= "DSMAP.CAT"
  A_AXIS_RADIUS = 3396.0
  B_AXIS_RADIUS = 3396.0
  C_AXIS_RADIUS = 3396.0
  CENTER_LATITUDE = 0.0
  CENTER_LONGITUDE = 353.0
  COORDINATE_SYSTEM_NAME = PLANETOGRAPHIC
  COORDINATE_SYSTEM_TYPE = "BODY-FIXED ROTATING"
  EASTERNMOST_LONGITUDE = 354.965
  FIRST_STANDARD_PARALLEL = "N/A"
  LINE_FIRST_PIXEL = 1
  LINE_LAST_PIXEL = 13852
  LINE_PROJECTION_OFFSET = 84201.875
  MAP_PROJECTION_ROTATION = 0.0
  MAP_PROJECTION_TYPE = SINUSOIDAL
  MAP_RESOLUTION = 1185.42760773333
  MAP_SCALE = 0.05
  MAXIMUM_LATITUDE = 70.9803
  MINIMUM_LATITUDE = 59.3661
  POSITIVE_LONGITUDE_DIRECTION = EAST
  REFERENCE_LATITUDE = "N/A"
  REFERENCE_LONGITUDE = "N/A"
  SAMPLE_FIRST_PIXEL = 1
  SAMPLE_LAST_PIXEL = 2857
  SAMPLE_PROJECTION_OFFSET = 1673.625
  SECOND_STANDARD_PARALLEL = "N/A"
  WESTERNMOST_LONGITUDE = 348.614
END_OBJECT = IMAGE_MAP_PROJECTION
/* The JPEG2000 image data file associated with this label. */
OBJECT = COMPRESSED_FILE
  FILE_NAME = "HI012_0000_BL3.JP2"
  RECORD_TYPE = UNDEFINED
  FILE_RECORDS = UNK
  ENCODING_TYPE = "JP2"
  INTERCHANGE_FORMAT = BINARY
  UNCOMPRESSED_FILE_NAME = "HI012_0000_BL3.IMG"
  REQUIRED_STORAGE_BYTES = "39598020"
  ^DESCRIPTION = "JP2INFO.TXT"
END_OBJECT = COMPRESSED_FILE
END
