PDS_VERSION_ID = PDS3
/* FILE DATA ELEMENTS */
RECORD_TYPE = STREAM
/* POINTERS TO DATA OBJECTS */
^COMPRESSED_FILE = "HI016_0000_RE3.JP2"
/* IDENTIFICATION DATA ELEMENTS */
DATA_SET_ID = "MEX-M-HRSC-5-REFDR-MAPPROJECTED-V3.0"
DATA_SET_NAME = "MARS EXPRESS HRSC MAP PROJECTED REFDR V3.0"
DETECTOR_ID = MEX_HRSC_RED
EVENT_TYPE = "MARS-REGIONAL-MAPPING-Im-Fl-Eo"
INSTRUMENT_HOST_ID = MEX
INSTRUMENT_HOST_NAME = "MARS EXPRESS"
INSTRUMENT_ID = HRSC
INSTRUMENT_NAME = "HIGH RESOLUTION STEREO CAMERA"
MISSION_NAME = "MARS EXPRESS"
MISSION_PHASE_NAME = ME_Phase_38
PROCESSING_LEVEL_ID = 3
PRODUCT_CREATION_TIME = 2018-09-04T13:05:27.000Z
PRODUCT_ID = "HI016_0000_RE3.JP2"
RELEASE_ID = 0140
REVISION_ID = 0000
/* QUALITY DATA ELEMENTS */
DATA_QUALITY_ID = 1
DATA_QUALITY_DESC = "Data calculated based on original SPICE kernels"
/* TIME DATA ELEMENTS */
SPACECRAFT_CLOCK_START_COUNT = "1/0470258750.09043"
SPACECRAFT_CLOCK_STOP_COUNT = "1/0470258991.23461"
START_TIME = 2018-03-27T19:27:12.520Z
STOP_TIME = 2018-03-27T19:29:49.159Z
/* ORBITAL DATA ELEMENTS */
ASCENDING_NODE_LONGITUDE = 235.93
MAXIMUM_RESOLUTION = 74.5
FOOTPRINT_POINT_LATITUDE = (49.452,49.441,49.4292,49.4168,49.4038, 49.3902,49.3758,49.1964,49.0245,48.7674 ,48.4246,48.1679,47.9945,47.8202, 47.5593,47.2989,47.1249,46.8619,46.6846 ,46.5057,46.2422,46.0656,45.8892, 45.7104,45.4417,45.2623,45.083,44.9037, 44.7222,44.4474,44.2638,44.0815,43.9, 43.7164,43.5309,43.3458,43.1608,42.9763 ,42.789,42.6048,42.4179,42.2308,42.0435 ,41.8511,41.6584,41.4693,41.1863, 40.8976,40.7054,40.3663,40.3812,40.3905 ,40.4006,40.4115,40.4195,40.5275, 40.8166,41.1061,41.2991,41.4889,41.7746 ,41.9651,42.155,42.3422,42.6238,42.8121 ,43.0002,43.1849,43.3696,43.5551, 43.7407,43.9259,44.1077,44.2902,44.4724 ,44.6555,44.9296,45.1989,45.3784, 45.5607,45.7393,45.9202,46.0971,46.2742 ,46.5397,46.8061,47.0724,47.2466, 47.4208,47.5949,47.7693,47.9432,48.1188 ,48.2944,48.5476,48.7191,48.9791, 49.1515,49.3237,49.452)
FOOTPRINT_POINT_LONGITUDE = (308.211,307.855,307.501,307.151, 306.804,306.46,306.117,306.119,306.125, 306.134,306.145,306.153,306.159,306.164 ,306.171,306.178,306.183,306.189, 306.194,306.198,306.204,306.207,306.211 ,306.214,306.219,306.222,306.225, 306.228,306.231,306.235,306.237,306.24, 306.242,306.243,306.245,306.247,306.249 ,306.25,306.251,306.252,306.253,306.254 ,306.255,306.256,306.256,306.257, 306.257,306.257,306.256,306.344,306.732 ,307.007,307.398,307.887,308.238, 308.742,308.737,308.732,308.729,308.725 ,308.721,308.717,308.713,308.71,308.705 ,308.701,308.698,308.694,308.691, 308.687,308.684,308.68,308.676,308.673, 308.669,308.665,308.66,308.654,308.65, 308.649,308.643,308.64,308.636,308.632, 308.626,308.62,308.614,308.61,308.606, 308.602,308.597,308.592,308.588,308.586 ,308.576,308.571,308.567,308.563, 308.558,308.211)
ORBIT_NUMBER = 18016
ORBITAL_ECCENTRICITY = 0.571
ORBITAL_INCLINATION = 86.98
ORBITAL_SEMIMAJOR_AXIS = 8768.19
PERIAPSIS_ALTITUDE = 381.54
PERIAPSIS_ARGUMENT_ANGLE = 115.14
PERIAPSIS_TIME = 2018-03-27T19:22:38.000Z
SPACECRAFT_ORIENTATION = (0.0,-1.0,0.0)
^MEX_ORIENTATION_DESC = "MEX_ORIENTATION_DESC.TXT"
SPACECRAFT_POINTING_MODE = ACROSSTRACK
^MEX_POINTING_DESC = "MEX_POINTING_DESC.TXT"
RIGHT_ASCENSION = -1e+32
DECLINATION = -1e+32
OFFSET_ANGLE = 0.77
SPACECRAFT_SOLAR_DISTANCE = 2.30093e+08
TARGET_NAME = MARS
/* CAMERA DATA ELEMENTS */
DETECTOR_TEMPERATURE = 20.2056
FOCAL_PLANE_TEMPERATURE = 9.6028
INST_CMPRS_NAME = "DISCRETE COSINE TRANSFORMATION (DCT)"
INST_CMPRS_RATIO = 16.6422
INST_CMPRS_QUALITY = 0
INST_CMPRS_QUANTZ_TBL_ID = 0
INSTRUMENT_TEMPERATURE = 11.6418
LENS_TEMPERATURE = 9.195
MACROPIXEL_SIZE = 4
MISSING_FRAMES = 0
PIXEL_SUBSAMPLING_FLAG = N
SIGNAL_CHAIN_ID = 2
/* RADIOMETRIC DATA ELEMENTS */
BANDWIDTH = 48.0
CENTER_FILTER_WAVELENGTH = 748.0
RADIANCE_OFFSET = 0.815056
RADIANCE_SCALING_FACTOR = 0.00743326
REFLECTANCE_SCALING_FACTOR = 0.000898071
MEX:REFLECTANCE_OFFSET = 0.0984734
/* IMAGE OBJECT DEFINITIONS */
OBJECT = IMAGE
  INTERCHANGE_FORMAT = BINARY
  LINES = 10823
  LINE_SAMPLES = 2206
  SAMPLE_TYPE = UNSIGNED_INTEGER
  SAMPLE_BITS = 8
  BANDS = 1
  BAND_STORAGE_TYPE = BAND_SEQUENTIAL
  MAXIMUM = 255
  MEAN = 132.334
  MINIMUM = 1
  STANDARD_DEVIATION = 23.5123
END_OBJECT = IMAGE
/* MAP OBJECT DEFINITIONS */
OBJECT = IMAGE_MAP_PROJECTION
  ^DATA_SET_MAP_PROJECTION_CATALOG= "DSMAP.CAT"
  A_AXIS_RADIUS = 3396.0
  B_AXIS_RADIUS = 3396.0
  C_AXIS_RADIUS = 3396.0
  CENTER_LATITUDE = 0.0
  CENTER_LONGITUDE = 307.0
  COORDINATE_SYSTEM_NAME = PLANETOGRAPHIC
  COORDINATE_SYSTEM_TYPE = "BODY-FIXED ROTATING"
  EASTERNMOST_LONGITUDE = 308.742
  FIRST_STANDARD_PARALLEL = "N/A"
  LINE_FIRST_PIXEL = 1
  LINE_LAST_PIXEL = 10823
  LINE_PROJECTION_OFFSET = 58674.625
  MAP_PROJECTION_ROTATION = 0.0
  MAP_PROJECTION_TYPE = SINUSOIDAL
  MAP_RESOLUTION = 1185.42760773333
  MAP_SCALE = 0.05
  MAXIMUM_LATITUDE = 49.452
  MINIMUM_LATITUDE = 40.3663
  POSITIVE_LONGITUDE_DIRECTION = EAST
  REFERENCE_LATITUDE = "N/A"
  REFERENCE_LONGITUDE = "N/A"
  SAMPLE_FIRST_PIXEL = 1
  SAMPLE_LAST_PIXEL = 2206
  SAMPLE_PROJECTION_OFFSET = 664.125
  SECOND_STANDARD_PARALLEL = "N/A"
  WESTERNMOST_LONGITUDE = 306.117
END_OBJECT = IMAGE_MAP_PROJECTION
/* The JPEG2000 image data file associated with this label. */
OBJECT = COMPRESSED_FILE
  FILE_NAME = "HI016_0000_RE3.JP2"
  RECORD_TYPE = UNDEFINED
  FILE_RECORDS = UNK
  ENCODING_TYPE = "JP2"
  INTERCHANGE_FORMAT = BINARY
  UNCOMPRESSED_FILE_NAME = "HI016_0000_RE3.IMG"
  REQUIRED_STORAGE_BYTES = "23897598"
  ^DESCRIPTION = "JP2INFO.TXT"
END_OBJECT = COMPRESSED_FILE
END
