PDS_VERSION_ID = PDS3
/* FILE DATA ELEMENTS */
RECORD_TYPE = STREAM
/* POINTERS TO DATA OBJECTS */
^COMPRESSED_FILE = "HI022_0000_P23.JP2"
/* IDENTIFICATION DATA ELEMENTS */
DATA_SET_ID = "MEX-M-HRSC-5-REFDR-MAPPROJECTED-V3.0"
DATA_SET_NAME = "MARS EXPRESS HRSC MAP PROJECTED REFDR V3.0"
DETECTOR_ID = MEX_HRSC_P2
EVENT_TYPE = "MARS-REGIONAL-MAPPING-Pf-Eo"
INSTRUMENT_HOST_ID = MEX
INSTRUMENT_HOST_NAME = "MARS EXPRESS"
INSTRUMENT_ID = HRSC
INSTRUMENT_NAME = "HIGH RESOLUTION STEREO CAMERA"
MISSION_NAME = "MARS EXPRESS"
MISSION_PHASE_NAME = ME_Phase_38
PROCESSING_LEVEL_ID = 3
PRODUCT_CREATION_TIME = 2018-09-04T13:05:27.000Z
PRODUCT_ID = "HI022_0000_P23.JP2"
RELEASE_ID = 0140
REVISION_ID = 0000
/* QUALITY DATA ELEMENTS */
DATA_QUALITY_ID = 1
DATA_QUALITY_DESC = "Data calculated based on original SPICE kernels"
/* TIME DATA ELEMENTS */
SPACECRAFT_CLOCK_START_COUNT = "1/0470409254.09038"
SPACECRAFT_CLOCK_STOP_COUNT = "1/0470409485.16415"
START_TIME = 2018-03-29T13:15:16.420Z
STOP_TIME = 2018-03-29T13:18:02.431Z
/* ORBITAL DATA ELEMENTS */
ASCENDING_NODE_LONGITUDE = 235.81
MAXIMUM_RESOLUTION = 31.4
FOOTPRINT_POINT_LATITUDE = (72.3017,72.2435,72.1482,72.1091, 72.0654,71.828,71.5907,71.3534,70.9972, 70.7601,70.5229,70.2857,69.9302,69.6931 ,69.4562,69.1008,68.8641,68.6273, 68.3905,68.1539,67.7989,67.5624,67.2075 ,66.9713,66.7349,66.4987,66.1443,65.908 ,65.6717,65.436,65.2,64.9642,64.6105, 64.3747,64.139,63.9033,63.6677,63.4322, 63.1967,62.9611,62.7258,62.3729,62.1377 ,61.9024,61.6672,61.4321,61.197,60.9618 ,60.7268,60.4918,60.3988,60.4529, 60.4862,60.6206,60.8564,61.0924,61.3285 ,61.5647,61.801,62.0372,62.2737,62.5101 ,62.7466,62.9832,63.22,63.4567,63.812, 64.049,64.286,64.6419,64.8792,65.1166, 65.4726,65.7102,65.948,66.1857,66.4238, 66.781,67.1385,67.3768,67.6152,67.8538, 68.0926,68.3316,68.6902,68.9293,69.1686 ,69.4082,69.6477,69.8875,70.1272, 70.3672,70.6071,70.8473,71.0878,71.3283 ,71.569,71.8098,72.0507,72.3017)
FOOTPRINT_POINT_LONGITUDE = (50.8777,49.625,47.8449,47.1867,46.4633 ,46.6183,46.7687,46.9149,47.1269, 47.2627,47.395,47.5237,47.7098,47.83, 47.9467,48.1164,48.2255,48.332,48.4359, 48.5369,48.6838,48.7787,48.917,49.006, 49.0929,49.1778,49.3015,49.3816,49.4599 ,49.5357,49.6101,49.6827,49.7885, 49.8571,49.9241,49.9896,50.0537,50.1162 ,50.1776,50.2377,50.296,50.3812,50.4366 ,50.4907,50.5438,50.5957,50.6465, 50.6963,50.7451,50.7926,51.4999,52.4979 ,53.1824,53.5207,53.4911,53.461,53.4305 ,53.3993,53.3676,53.3352,53.3023, 53.2687,53.2344,53.1994,53.1639,53.1275 ,53.0716,53.0334,52.9943,52.9344, 52.8933,52.8514,52.7865,52.7423,52.6971 ,52.6509,52.6038,52.5311,52.4558, 52.4042,52.3512,52.2971,52.2418,52.1852 ,52.0976,52.0373,51.9756,51.9123, 51.8474,51.7809,51.7125,51.6424,51.5704 ,51.4964,51.4205,51.3425,51.2623, 51.1798,51.0949,50.8777)
ORBIT_NUMBER = 18022
ORBITAL_ECCENTRICITY = 0.571
ORBITAL_INCLINATION = 86.98
ORBITAL_SEMIMAJOR_AXIS = 8770.67
PERIAPSIS_ALTITUDE = 381.65
PERIAPSIS_ARGUMENT_ANGLE = 114.08
PERIAPSIS_TIME = 2018-03-29T13:16:27.000Z
SPACECRAFT_ORIENTATION = (0.0,-1.0,0.0)
^MEX_ORIENTATION_DESC = "MEX_ORIENTATION_DESC.TXT"
SPACECRAFT_POINTING_MODE = INERT
^MEX_POINTING_DESC = "MEX_POINTING_DESC.TXT"
RIGHT_ASCENSION = 179.298
DECLINATION = -66.113
OFFSET_ANGLE = -1e+32
SPACECRAFT_SOLAR_DISTANCE = 2.29757e+08
TARGET_NAME = MARS
/* CAMERA DATA ELEMENTS */
DETECTOR_TEMPERATURE = 18.7783
FOCAL_PLANE_TEMPERATURE = 8.7872
INST_CMPRS_NAME = "DISCRETE COSINE TRANSFORMATION (DCT)"
INST_CMPRS_RATIO = 8.70668
INST_CMPRS_QUALITY = 0
INST_CMPRS_QUANTZ_TBL_ID = 0
INSTRUMENT_TEMPERATURE = 11.8457
LENS_TEMPERATURE = 9.195
MACROPIXEL_SIZE = 2
MISSING_FRAMES = 0
PIXEL_SUBSAMPLING_FLAG = N
SIGNAL_CHAIN_ID = 3
/* RADIOMETRIC DATA ELEMENTS */
BANDWIDTH = 177.0
CENTER_FILTER_WAVELENGTH = 676.5
RADIANCE_OFFSET = 3.28319
RADIANCE_SCALING_FACTOR = 0.00970308
REFLECTANCE_SCALING_FACTOR = 0.000271587
MEX:REFLECTANCE_OFFSET = 0.0918956
/* IMAGE OBJECT DEFINITIONS */
OBJECT = IMAGE
  INTERCHANGE_FORMAT = BINARY
  LINES = 28442
  LINE_SAMPLES = 6293
  SAMPLE_TYPE = UNSIGNED_INTEGER
  SAMPLE_BITS = 8
  BANDS = 1
  BAND_STORAGE_TYPE = BAND_SEQUENTIAL
  MAXIMUM = 255
  MEAN = 157.056
  MINIMUM = 1
  STANDARD_DEVIATION = 38.4024
END_OBJECT = IMAGE
/* MAP OBJECT DEFINITIONS */
OBJECT = IMAGE_MAP_PROJECTION
  ^DATA_SET_MAP_PROJECTION_CATALOG= "DSMAP.CAT"
  A_AXIS_RADIUS = 3396.0
  B_AXIS_RADIUS = 3396.0
  C_AXIS_RADIUS = 3396.0
  CENTER_LATITUDE = 0.0
  CENTER_LONGITUDE = 51.0
  COORDINATE_SYSTEM_NAME = PLANETOGRAPHIC
  COORDINATE_SYSTEM_TYPE = "BODY-FIXED ROTATING"
  EASTERNMOST_LONGITUDE = 53.5207
  FIRST_STANDARD_PARALLEL = "N/A"
  LINE_FIRST_PIXEL = 1
  LINE_LAST_PIXEL = 28442
  LINE_PROJECTION_OFFSET = 171600.75
  MAP_PROJECTION_ROTATION = 0.0
  MAP_PROJECTION_TYPE = SINUSOIDAL
  MAP_RESOLUTION = 2370.85521546667
  MAP_SCALE = 0.025
  MAXIMUM_LATITUDE = 72.3017
  MINIMUM_LATITUDE = 60.3988
  POSITIVE_LONGITUDE_DIRECTION = EAST
  REFERENCE_LATITUDE = "N/A"
  REFERENCE_LONGITUDE = "N/A"
  SAMPLE_FIRST_PIXEL = 1
  SAMPLE_LAST_PIXEL = 6293
  SAMPLE_PROJECTION_OFFSET = 3197.75
  SECOND_STANDARD_PARALLEL = "N/A"
  WESTERNMOST_LONGITUDE = 46.4633
END_OBJECT = IMAGE_MAP_PROJECTION
/* The JPEG2000 image data file associated with this label. */
OBJECT = COMPRESSED_FILE
  FILE_NAME = "HI022_0000_P23.JP2"
  RECORD_TYPE = UNDEFINED
  FILE_RECORDS = UNK
  ENCODING_TYPE = "JP2"
  INTERCHANGE_FORMAT = BINARY
  UNCOMPRESSED_FILE_NAME = "HI022_0000_P23.IMG"
  REQUIRED_STORAGE_BYTES = "179016971"
  ^DESCRIPTION = "JP2INFO.TXT"
END_OBJECT = COMPRESSED_FILE
END
