PDS_VERSION_ID = PDS3
/* FILE DATA ELEMENTS */
RECORD_TYPE = STREAM
/* POINTERS TO DATA OBJECTS */
^COMPRESSED_FILE = "HI023_0000_RE3.JP2"
/* IDENTIFICATION DATA ELEMENTS */
DATA_SET_ID = "MEX-M-HRSC-5-REFDR-MAPPROJECTED-V3.0"
DATA_SET_NAME = "MARS EXPRESS HRSC MAP PROJECTED REFDR V3.0"
DETECTOR_ID = MEX_HRSC_RED
EVENT_TYPE = "MARS-REGIONAL-MAPPING-Gl-Pf-Eo"
INSTRUMENT_HOST_ID = MEX
INSTRUMENT_HOST_NAME = "MARS EXPRESS"
INSTRUMENT_ID = HRSC
INSTRUMENT_NAME = "HIGH RESOLUTION STEREO CAMERA"
MISSION_NAME = "MARS EXPRESS"
MISSION_PHASE_NAME = ME_Phase_38
PROCESSING_LEVEL_ID = 3
PRODUCT_CREATION_TIME = 2018-09-04T13:05:27.000Z
PRODUCT_ID = "HI023_0000_RE3.JP2"
RELEASE_ID = 0140
REVISION_ID = 0000
/* QUALITY DATA ELEMENTS */
DATA_QUALITY_ID = 1
DATA_QUALITY_DESC = "Data calculated based on original SPICE kernels"
/* TIME DATA ELEMENTS */
SPACECRAFT_CLOCK_START_COUNT = "1/0470434361.07353"
SPACECRAFT_CLOCK_STOP_COUNT = "1/0470434618.05285"
START_TIME = 2018-03-29T20:13:57.881Z
STOP_TIME = 2018-03-29T20:16:59.608Z
/* ORBITAL DATA ELEMENTS */
ASCENDING_NODE_LONGITUDE = 235.81
MAXIMUM_RESOLUTION = 64.7
FOOTPRINT_POINT_LATITUDE = (73.5347,73.5171,73.4898,73.4607, 73.4297,73.397,73.3626,73.2085,72.9767, 72.7451,72.3976,72.0498,71.818,71.4701, 71.1222,70.8902,70.5421,70.194,69.9619, 69.7299,69.498,69.1499,68.802,68.57, 68.2221,67.8743,67.6427,67.295,67.0635, 66.7161,66.3689,66.1376,65.7908,65.4441 ,65.0977,64.867,64.5209,64.1749,63.8293 ,63.5991,63.3691,63.1393,62.9096,62.68, 62.4505,62.2213,61.8774,61.8927,61.9125 ,61.9274,61.9496,61.9655,61.9827, 62.1068,62.4524,62.6828,62.9136,63.1445 ,63.3756,63.6068,63.8382,64.0697, 64.3013,64.5332,64.7651,64.9973,65.2294 ,65.4617,65.6939,65.9268,66.1595, 66.5091,66.7421,66.9751,67.325,67.5583, 67.7919,68.0255,68.2593,68.4931,68.727, 68.961,69.3122,69.6635,69.8976,70.1319, 70.4834,70.718,70.9525,71.1871,71.4217, 71.7738,72.0085,72.3607,72.7129,72.9477 ,73.1826,73.4175,73.6524,73.5347)
FOOTPRINT_POINT_LONGITUDE = (310.314,309.833,309.139,308.451,307.77 ,307.097,306.429,305.808,305.949, 306.085,306.282,306.47,306.591,306.766, 306.933,307.041,307.197,307.347,307.443 ,307.537,307.628,307.761,307.888,307.97 ,308.09,308.204,308.278,308.386,308.455 ,308.556,308.653,308.716,308.807, 308.895,308.98,309.035,309.115,309.192, 309.266,309.314,309.361,309.407,309.451 ,309.495,309.538,309.579,309.64,310.152 ,310.586,310.941,311.465,311.881, 312.357,312.581,312.548,312.525,312.502 ,312.479,312.455,312.43,312.405,312.379 ,312.353,312.326,312.299,312.271, 312.242,312.213,312.182,312.152,312.121 ,312.072,312.039,312.005,311.952, 311.916,311.879,311.841,311.803,311.763 ,311.722,311.68,311.616,311.548,311.502 ,311.454,311.38,311.33,311.277,311.224, 311.168,311.083,311.023,310.932,310.835 ,310.769,310.7,310.63,310.557,310.314)
ORBIT_NUMBER = 18023
ORBITAL_ECCENTRICITY = 0.571
ORBITAL_INCLINATION = 86.98
ORBITAL_SEMIMAJOR_AXIS = 8766.43
PERIAPSIS_ALTITUDE = 382.07
PERIAPSIS_ARGUMENT_ANGLE = 113.92
PERIAPSIS_TIME = 2018-03-29T20:15:27.000Z
SPACECRAFT_ORIENTATION = (0.0,-1.0,0.0)
^MEX_ORIENTATION_DESC = "MEX_ORIENTATION_DESC.TXT"
SPACECRAFT_POINTING_MODE = ACROSSTRACK
^MEX_POINTING_DESC = "MEX_POINTING_DESC.TXT"
RIGHT_ASCENSION = -1e+32
DECLINATION = -1e+32
OFFSET_ANGLE = 0.539
SPACECRAFT_SOLAR_DISTANCE = 2.29702e+08
TARGET_NAME = MARS
/* CAMERA DATA ELEMENTS */
DETECTOR_TEMPERATURE = 19.39
FOCAL_PLANE_TEMPERATURE = 9.8067
INST_CMPRS_NAME = "DISCRETE COSINE TRANSFORMATION (DCT)"
INST_CMPRS_RATIO = 18.477
INST_CMPRS_QUALITY = 0
INST_CMPRS_QUANTZ_TBL_ID = 0
INSTRUMENT_TEMPERATURE = 12.0496
LENS_TEMPERATURE = 10.2145
MACROPIXEL_SIZE = 4
MISSING_FRAMES = 0
PIXEL_SUBSAMPLING_FLAG = N
SIGNAL_CHAIN_ID = 2
/* RADIOMETRIC DATA ELEMENTS */
BANDWIDTH = 48.0
CENTER_FILTER_WAVELENGTH = 748.0
RADIANCE_OFFSET = 0.432132
RADIANCE_SCALING_FACTOR = 0.00272034
REFLECTANCE_SCALING_FACTOR = 0.000327551
MEX:REFLECTANCE_OFFSET = 0.0520323
/* IMAGE OBJECT DEFINITIONS */
OBJECT = IMAGE
  INTERCHANGE_FORMAT = BINARY
  LINES = 13934
  LINE_SAMPLES = 2909
  SAMPLE_TYPE = UNSIGNED_INTEGER
  SAMPLE_BITS = 8
  BANDS = 1
  BAND_STORAGE_TYPE = BAND_SEQUENTIAL
  MAXIMUM = 255
  MEAN = 139.273
  MINIMUM = 1
  STANDARD_DEVIATION = 62.5903
END_OBJECT = IMAGE
/* MAP OBJECT DEFINITIONS */
OBJECT = IMAGE_MAP_PROJECTION
  ^DATA_SET_MAP_PROJECTION_CATALOG= "DSMAP.CAT"
  A_AXIS_RADIUS = 3396.0
  B_AXIS_RADIUS = 3396.0
  C_AXIS_RADIUS = 3396.0
  CENTER_LATITUDE = 0.0
  CENTER_LONGITUDE = 310.0
  COORDINATE_SYSTEM_NAME = PLANETOGRAPHIC
  COORDINATE_SYSTEM_TYPE = "BODY-FIXED ROTATING"
  EASTERNMOST_LONGITUDE = 312.581
  FIRST_STANDARD_PARALLEL = "N/A"
  LINE_FIRST_PIXEL = 1
  LINE_LAST_PIXEL = 13934
  LINE_PROJECTION_OFFSET = 87273.875
  MAP_PROJECTION_ROTATION = 0.0
  MAP_PROJECTION_TYPE = SINUSOIDAL
  MAP_RESOLUTION = 1185.42760773333
  MAP_SCALE = 0.05
  MAXIMUM_LATITUDE = 73.6524
  MINIMUM_LATITUDE = 61.8774
  POSITIVE_LONGITUDE_DIRECTION = EAST
  REFERENCE_LATITUDE = "N/A"
  REFERENCE_LONGITUDE = "N/A"
  SAMPLE_FIRST_PIXEL = 1
  SAMPLE_LAST_PIXEL = 2909
  SAMPLE_PROJECTION_OFFSET = 1473.875
  SECOND_STANDARD_PARALLEL = "N/A"
  WESTERNMOST_LONGITUDE = 305.808
END_OBJECT = IMAGE_MAP_PROJECTION
/* The JPEG2000 image data file associated with this label. */
OBJECT = COMPRESSED_FILE
  FILE_NAME = "HI023_0000_RE3.JP2"
  RECORD_TYPE = UNDEFINED
  FILE_RECORDS = UNK
  ENCODING_TYPE = "JP2"
  INTERCHANGE_FORMAT = BINARY
  UNCOMPRESSED_FILE_NAME = "HI023_0000_RE3.IMG"
  REQUIRED_STORAGE_BYTES = "40557278"
  ^DESCRIPTION = "JP2INFO.TXT"
END_OBJECT = COMPRESSED_FILE
END
