PDS_VERSION_ID = PDS3
/* FILE DATA ELEMENTS */
RECORD_TYPE = STREAM
/* POINTERS TO DATA OBJECTS */
^COMPRESSED_FILE = "HI023_0000_S13.JP2"
/* IDENTIFICATION DATA ELEMENTS */
DATA_SET_ID = "MEX-M-HRSC-5-REFDR-MAPPROJECTED-V3.0"
DATA_SET_NAME = "MARS EXPRESS HRSC MAP PROJECTED REFDR V3.0"
DETECTOR_ID = MEX_HRSC_S1
EVENT_TYPE = "MARS-REGIONAL-MAPPING-Gl-Pf-Eo"
INSTRUMENT_HOST_ID = MEX
INSTRUMENT_HOST_NAME = "MARS EXPRESS"
INSTRUMENT_ID = HRSC
INSTRUMENT_NAME = "HIGH RESOLUTION STEREO CAMERA"
MISSION_NAME = "MARS EXPRESS"
MISSION_PHASE_NAME = ME_Phase_38
PROCESSING_LEVEL_ID = 3
PRODUCT_CREATION_TIME = 2018-09-04T13:05:27.000Z
PRODUCT_ID = "HI023_0000_S13.JP2"
RELEASE_ID = 0140
REVISION_ID = 0000
/* QUALITY DATA ELEMENTS */
DATA_QUALITY_ID = 1
DATA_QUALITY_DESC = "Data calculated based on original SPICE kernels"
/* TIME DATA ELEMENTS */
SPACECRAFT_CLOCK_START_COUNT = "1/0470434361.07353"
SPACECRAFT_CLOCK_STOP_COUNT = "1/0470434618.05285"
START_TIME = 2018-03-29T20:12:50.631Z
STOP_TIME = 2018-03-29T20:15:55.271Z
/* ORBITAL DATA ELEMENTS */
ASCENDING_NODE_LONGITUDE = 235.81
MAXIMUM_RESOLUTION = 32.8
FOOTPRINT_POINT_LATITUDE = (73.7247,73.7014,73.6593,73.6062, 73.4359,73.2121,72.9881,72.7635,72.5385 ,72.3133,72.0876,71.8616,71.6353, 71.4087,71.1816,70.9543,70.7269,70.4989 ,70.2708,69.928,69.6991,69.4699,69.2404 ,69.0107,68.7806,68.5505,68.32,68.0894, 67.7388,67.5075,67.1601,66.9283,66.5802 ,66.2313,65.9986,65.6491,65.4159, 65.1825,64.9486,64.7149,64.481,64.1299, 63.8955,63.5434,63.3086,62.9558,62.7205 ,62.3671,62.1315,61.8958,61.8736, 61.8935,61.8977,62.137,62.374,62.6108, 62.8476,63.084,63.3204,63.5567,63.793, 64.0289,64.2648,64.5005,64.7362,65.0891 ,65.3245,65.5596,65.9117,66.2634, 66.6148,66.9661,67.1999,67.4336,67.6671 ,67.9002,68.1373,68.3701,68.6026, 68.8351,69.0672,69.2993,69.5311,69.7626 ,70.1098,70.3408,70.5719,70.8023, 71.0327,71.2627,71.4927,71.7223,71.9517 ,72.1808,72.4097,72.6383,72.8667, 73.0949,73.3227,73.7247)
FOOTPRINT_POINT_LONGITUDE = (310.359,309.258,307.748,306.267, 305.581,305.725,305.865,306.001,306.134 ,306.262,306.387,306.509,306.628, 306.743,306.855,306.965,307.071,307.175 ,307.276,307.423,307.518,307.61,307.7, 307.788,307.874,307.958,308.039,308.119 ,308.236,308.311,308.42,308.49,308.593, 308.692,308.756,308.849,308.909,308.968 ,309.026,309.082,309.138,309.218,309.27 ,309.345,309.395,309.466,309.513,309.58 ,309.624,309.667,310.449,311.66,312.174 ,312.567,312.545,312.524,312.502, 312.479,312.456,312.433,312.409,312.385 ,312.36,312.334,312.308,312.268,312.24, 312.212,312.169,312.125,312.078,312.03, 311.997,311.964,311.929,311.894,311.858 ,311.821,311.784,311.745,311.706, 311.665,311.624,311.581,311.515,311.47, 311.423,311.376,311.328,311.278,311.226 ,311.174,311.12,311.064,311.007,310.949 ,310.889,310.827,310.763,310.359)
ORBIT_NUMBER = 18023
ORBITAL_ECCENTRICITY = 0.571
ORBITAL_INCLINATION = 86.98
ORBITAL_SEMIMAJOR_AXIS = 8766.43
PERIAPSIS_ALTITUDE = 382.07
PERIAPSIS_ARGUMENT_ANGLE = 113.92
PERIAPSIS_TIME = 2018-03-29T20:15:27.000Z
SPACECRAFT_ORIENTATION = (0.0,-1.0,0.0)
^MEX_ORIENTATION_DESC = "MEX_ORIENTATION_DESC.TXT"
SPACECRAFT_POINTING_MODE = ACROSSTRACK
^MEX_POINTING_DESC = "MEX_POINTING_DESC.TXT"
RIGHT_ASCENSION = -1e+32
DECLINATION = -1e+32
OFFSET_ANGLE = 0.539
SPACECRAFT_SOLAR_DISTANCE = 2.29702e+08
TARGET_NAME = MARS
/* CAMERA DATA ELEMENTS */
DETECTOR_TEMPERATURE = 17.5549
FOCAL_PLANE_TEMPERATURE = 9.8067
INST_CMPRS_NAME = "DISCRETE COSINE TRANSFORMATION (DCT)"
INST_CMPRS_RATIO = 9.33169
INST_CMPRS_QUALITY = 0
INST_CMPRS_QUANTZ_TBL_ID = 0
INSTRUMENT_TEMPERATURE = 12.0496
LENS_TEMPERATURE = 10.2145
MACROPIXEL_SIZE = 2
MISSING_FRAMES = 1
PIXEL_SUBSAMPLING_FLAG = N
SIGNAL_CHAIN_ID = 1
/* RADIOMETRIC DATA ELEMENTS */
BANDWIDTH = 180.0
CENTER_FILTER_WAVELENGTH = 677.0
RADIANCE_OFFSET = 1.93466
RADIANCE_SCALING_FACTOR = 0.00882557
REFLECTANCE_SCALING_FACTOR = 0.000242947
MEX:REFLECTANCE_OFFSET = 0.0532566
/* IMAGE OBJECT DEFINITIONS */
OBJECT = IMAGE
  INTERCHANGE_FORMAT = BINARY
  LINES = 27867
  LINE_SAMPLES = 5818
  SAMPLE_TYPE = UNSIGNED_INTEGER
  SAMPLE_BITS = 8
  BANDS = 1
  BAND_STORAGE_TYPE = BAND_SEQUENTIAL
  MAXIMUM = 255
  MEAN = 139.586
  MINIMUM = 1
  STANDARD_DEVIATION = 56.1258
END_OBJECT = IMAGE
/* MAP OBJECT DEFINITIONS */
OBJECT = IMAGE_MAP_PROJECTION
  ^DATA_SET_MAP_PROJECTION_CATALOG= "DSMAP.CAT"
  A_AXIS_RADIUS = 3396.0
  B_AXIS_RADIUS = 3396.0
  C_AXIS_RADIUS = 3396.0
  CENTER_LATITUDE = 0.0
  CENTER_LONGITUDE = 310.0
  COORDINATE_SYSTEM_NAME = PLANETOGRAPHIC
  COORDINATE_SYSTEM_TYPE = "BODY-FIXED ROTATING"
  EASTERNMOST_LONGITUDE = 312.567
  FIRST_STANDARD_PARALLEL = "N/A"
  LINE_FIRST_PIXEL = 1
  LINE_LAST_PIXEL = 27867
  LINE_PROJECTION_OFFSET = 174548.25
  MAP_PROJECTION_ROTATION = 0.0
  MAP_PROJECTION_TYPE = SINUSOIDAL
  MAP_RESOLUTION = 2370.85521546667
  MAP_SCALE = 0.025
  MAXIMUM_LATITUDE = 73.7247
  MINIMUM_LATITUDE = 61.8736
  POSITIVE_LONGITUDE_DIRECTION = EAST
  REFERENCE_LATITUDE = "N/A"
  REFERENCE_LONGITUDE = "N/A"
  SAMPLE_FIRST_PIXEL = 1
  SAMPLE_LAST_PIXEL = 5818
  SAMPLE_PROJECTION_OFFSET = 2948.25
  SECOND_STANDARD_PARALLEL = "N/A"
  WESTERNMOST_LONGITUDE = 305.581
END_OBJECT = IMAGE_MAP_PROJECTION
/* The JPEG2000 image data file associated with this label. */
OBJECT = COMPRESSED_FILE
  FILE_NAME = "HI023_0000_S13.JP2"
  RECORD_TYPE = UNDEFINED
  FILE_RECORDS = UNK
  ENCODING_TYPE = "JP2"
  INTERCHANGE_FORMAT = BINARY
  UNCOMPRESSED_FILE_NAME = "HI023_0000_S13.IMG"
  REQUIRED_STORAGE_BYTES = "162159296"
  ^DESCRIPTION = "JP2INFO.TXT"
END_OBJECT = COMPRESSED_FILE
END
