PDS_VERSION_ID = PDS3
/* FILE DATA ELEMENTS */
RECORD_TYPE = STREAM
/* POINTERS TO DATA OBJECTS */
^COMPRESSED_FILE = "HI037_0000_P23.JP2"
/* IDENTIFICATION DATA ELEMENTS */
DATA_SET_ID = "MEX-M-HRSC-5-REFDR-MAPPROJECTED-V3.0"
DATA_SET_NAME = "MARS EXPRESS HRSC MAP PROJECTED REFDR V3.0"
DETECTOR_ID = MEX_HRSC_P2
EVENT_TYPE = "MARS-REGIONAL-MAPPING-Gl-Pf-Eo"
INSTRUMENT_HOST_ID = MEX
INSTRUMENT_HOST_NAME = "MARS EXPRESS"
INSTRUMENT_ID = HRSC
INSTRUMENT_NAME = "HIGH RESOLUTION STEREO CAMERA"
MISSION_NAME = "MARS EXPRESS"
MISSION_PHASE_NAME = ME_Phase_38
PROCESSING_LEVEL_ID = 3
PRODUCT_CREATION_TIME = 2018-09-04T13:05:27.000Z
PRODUCT_ID = "HI037_0000_P23.JP2"
RELEASE_ID = 0140
REVISION_ID = 0000
/* QUALITY DATA ELEMENTS */
DATA_QUALITY_ID = 1
DATA_QUALITY_DESC = "Data calculated based on original SPICE kernels"
/* TIME DATA ELEMENTS */
SPACECRAFT_CLOCK_START_COUNT = "1/0470786358.09067"
SPACECRAFT_CLOCK_STOP_COUNT = "1/0470786574.59104"
START_TIME = 2018-04-02T22:00:26.556Z
STOP_TIME = 2018-04-02T22:02:50.023Z
/* ORBITAL DATA ELEMENTS */
ASCENDING_NODE_LONGITUDE = 235.55
MAXIMUM_RESOLUTION = 31.9
FOOTPRINT_POINT_LATITUDE = (72.0363,72.0132,71.9744,71.9451, 71.9159,71.883,71.8451,71.5743,71.3031, 71.0321,70.8512,70.6703,70.4896,70.3087 ,70.0373,69.8565,69.6754,69.4944, 69.3135,69.1325,68.9516,68.7707,68.4993 ,68.3184,68.1375,67.9566,67.7758, 67.5949,67.4142,67.1431,66.872,66.6913, 66.4203,66.2397,66.0593,65.7886,65.608, 65.4277,65.2474,65.0671,64.8869,64.6167 ,64.4366,64.2567,63.9869,63.717,63.5374 ,63.3578,63.1782,62.9089,62.9035, 62.9221,62.9357,62.955,62.9686,62.9907, 63.2616,63.4422,63.6229,63.8037,64.0753 ,64.2563,64.528,64.7092,64.8905,65.072, 65.3444,65.617,65.7987,65.9806,66.2535, 66.5267,66.7088,66.891,67.0733,67.3468, 67.5292,67.8029,67.9854,68.168,68.3506, 68.5333,68.7158,68.8987,69.0816,69.2645 ,69.5388,69.7217,69.9047,70.0877, 70.3623,70.5454,70.7285,70.9117,71.0949 ,71.3697,71.5528,71.7361,71.9193, 72.0363)
FOOTPRINT_POINT_LONGITUDE = (319.08,318.479,317.562,316.926,316.331 ,315.699,315.003,315.166,315.325, 315.478,315.577,315.675,315.77,315.863, 316.0,316.088,316.175,316.26,316.343, 316.425,316.505,316.583,316.697,316.772 ,316.845,316.916,316.987,317.055, 317.123,317.222,317.318,317.38,317.472, 317.531,317.59,317.675,317.731,317.786, 317.839,317.892,317.944,318.02,318.07, 318.118,318.189,318.259,318.304,318.348 ,318.392,318.456,319.141,319.584, 319.908,320.441,320.825,321.518,321.477 ,321.449,321.42,321.391,321.347,321.317 ,321.271,321.24,321.208,321.176,321.126 ,321.075,321.041,321.005,320.952, 320.896,320.859,320.82,320.781,320.721, 320.68,320.618,320.575,320.531,320.487, 320.442,320.395,320.349,320.301,320.252 ,320.177,320.126,320.074,320.02,319.938 ,319.882,319.825,319.767,319.707, 319.615,319.552,319.488,319.423,319.08)
ORBIT_NUMBER = 18037
ORBITAL_ECCENTRICITY = 0.571
ORBITAL_INCLINATION = 86.99
ORBITAL_SEMIMAJOR_AXIS = 8763.34
PERIAPSIS_ALTITUDE = 382.85
PERIAPSIS_ARGUMENT_ANGLE = 111.5
PERIAPSIS_TIME = 2018-04-02T22:01:02.000Z
SPACECRAFT_ORIENTATION = (0.0,-1.0,0.0)
^MEX_ORIENTATION_DESC = "MEX_ORIENTATION_DESC.TXT"
SPACECRAFT_POINTING_MODE = NADIR
^MEX_POINTING_DESC = "MEX_POINTING_DESC.TXT"
RIGHT_ASCENSION = -1e+32
DECLINATION = -1e+32
OFFSET_ANGLE = -1e+32
SPACECRAFT_SOLAR_DISTANCE = 2.28915e+08
TARGET_NAME = MARS
/* CAMERA DATA ELEMENTS */
DETECTOR_TEMPERATURE = 18.9822
FOCAL_PLANE_TEMPERATURE = 8.7872
INST_CMPRS_NAME = "DISCRETE COSINE TRANSFORMATION (DCT)"
INST_CMPRS_RATIO = 8.14986
INST_CMPRS_QUALITY = 0
INST_CMPRS_QUANTZ_TBL_ID = 0
INSTRUMENT_TEMPERATURE = 9.8067
LENS_TEMPERATURE = 9.6028
MACROPIXEL_SIZE = 2
MISSING_FRAMES = 0
PIXEL_SUBSAMPLING_FLAG = N
SIGNAL_CHAIN_ID = 3
/* RADIOMETRIC DATA ELEMENTS */
BANDWIDTH = 177.0
CENTER_FILTER_WAVELENGTH = 676.5
RADIANCE_OFFSET = 1.91202
RADIANCE_SCALING_FACTOR = 0.0263093
REFLECTANCE_SCALING_FACTOR = 0.000730996
MEX:REFLECTANCE_OFFSET = 0.0531251
/* IMAGE OBJECT DEFINITIONS */
OBJECT = IMAGE
  INTERCHANGE_FORMAT = BINARY
  LINES = 21959
  LINE_SAMPLES = 5574
  SAMPLE_TYPE = UNSIGNED_INTEGER
  SAMPLE_BITS = 8
  BANDS = 1
  BAND_STORAGE_TYPE = BAND_SEQUENTIAL
  MAXIMUM = 255
  MEAN = 78.9719
  MINIMUM = 1
  STANDARD_DEVIATION = 29.3182
END_OBJECT = IMAGE
/* MAP OBJECT DEFINITIONS */
OBJECT = IMAGE_MAP_PROJECTION
  ^DATA_SET_MAP_PROJECTION_CATALOG= "DSMAP.CAT"
  A_AXIS_RADIUS = 3396.0
  B_AXIS_RADIUS = 3396.0
  C_AXIS_RADIUS = 3396.0
  CENTER_LATITUDE = 0.0
  CENTER_LONGITUDE = 319.0
  COORDINATE_SYSTEM_NAME = PLANETOGRAPHIC
  COORDINATE_SYSTEM_TYPE = "BODY-FIXED ROTATING"
  EASTERNMOST_LONGITUDE = 321.518
  FIRST_STANDARD_PARALLEL = "N/A"
  LINE_FIRST_PIXEL = 1
  LINE_LAST_PIXEL = 21959
  LINE_PROJECTION_OFFSET = 170988.75
  MAP_PROJECTION_ROTATION = 0.0
  MAP_PROJECTION_TYPE = SINUSOIDAL
  MAP_RESOLUTION = 2370.85521546667
  MAP_SCALE = 0.025
  MAXIMUM_LATITUDE = 72.0363
  MINIMUM_LATITUDE = 62.9035
  POSITIVE_LONGITUDE_DIRECTION = EAST
  REFERENCE_LATITUDE = "N/A"
  REFERENCE_LONGITUDE = "N/A"
  SAMPLE_FIRST_PIXEL = 1
  SAMPLE_LAST_PIXEL = 5574
  SAMPLE_PROJECTION_OFFSET = 2881.25
  SECOND_STANDARD_PARALLEL = "N/A"
  WESTERNMOST_LONGITUDE = 315.003
END_OBJECT = IMAGE_MAP_PROJECTION
/* The JPEG2000 image data file associated with this label. */
OBJECT = COMPRESSED_FILE
  FILE_NAME = "HI037_0000_P23.JP2"
  RECORD_TYPE = UNDEFINED
  FILE_RECORDS = UNK
  ENCODING_TYPE = "JP2"
  INTERCHANGE_FORMAT = BINARY
  UNCOMPRESSED_FILE_NAME = "HI037_0000_P23.IMG"
  REQUIRED_STORAGE_BYTES = "122427336"
  ^DESCRIPTION = "JP2INFO.TXT"
END_OBJECT = COMPRESSED_FILE
END
