PDS_VERSION_ID = PDS3
/* FILE DATA ELEMENTS */
RECORD_TYPE = STREAM
/* POINTERS TO DATA OBJECTS */
^COMPRESSED_FILE = "HI039_0000_S13.JP2"
/* IDENTIFICATION DATA ELEMENTS */
DATA_SET_ID = "MEX-M-HRSC-5-REFDR-MAPPROJECTED-V3.0"
DATA_SET_NAME = "MARS EXPRESS HRSC MAP PROJECTED REFDR V3.0"
DETECTOR_ID = MEX_HRSC_S1
EVENT_TYPE = "MARS-REGIONAL-MAPPING-Gl-Pf-Eo"
INSTRUMENT_HOST_ID = MEX
INSTRUMENT_HOST_NAME = "MARS EXPRESS"
INSTRUMENT_ID = HRSC
INSTRUMENT_NAME = "HIGH RESOLUTION STEREO CAMERA"
MISSION_NAME = "MARS EXPRESS"
MISSION_PHASE_NAME = ME_Phase_38
PROCESSING_LEVEL_ID = 3
PRODUCT_CREATION_TIME = 2018-09-04T13:05:27.000Z
PRODUCT_ID = "HI039_0000_S13.JP2"
RELEASE_ID = 0140
REVISION_ID = 0000
/* QUALITY DATA ELEMENTS */
DATA_QUALITY_ID = 1
DATA_QUALITY_DESC = "Data calculated based on original SPICE kernels"
/* TIME DATA ELEMENTS */
SPACECRAFT_CLOCK_START_COUNT = "1/0470836514.09094"
SPACECRAFT_CLOCK_STOP_COUNT = "1/0470836759.64028"
START_TIME = 2018-04-03T11:55:23.666Z
STOP_TIME = 2018-04-03T11:58:25.025Z
/* ORBITAL DATA ELEMENTS */
ASCENDING_NODE_LONGITUDE = 235.51
MAXIMUM_RESOLUTION = 33.5
FOOTPRINT_POINT_LATITUDE = (80.7624,80.6205,80.5468,80.4686, 80.2602,80.0188,79.776,79.5319,79.1653, 78.8041,78.5623,78.3194,77.9536,77.7089 ,77.4637,77.224,76.8631,76.5007,76.2585 ,76.0156,75.7722,75.5283,75.2838, 75.0388,74.6709,74.4245,74.1778,73.9307 ,73.5594,73.3113,73.0627,72.6891, 72.4396,72.1899,71.9395,71.6888,71.4375 ,71.0603,70.8082,70.5552,70.1757, 69.7952,69.5413,69.2867,69.032,68.7771, 68.5214,68.2653,68.0088,67.8604,67.9008 ,67.9523,68.0095,68.1658,68.4244, 68.6824,69.0693,69.3264,69.5841,69.8407 ,70.2253,70.7377,70.9938,71.2484, 71.5034,71.7583,72.0129,72.2665,72.5204 ,72.7741,73.0273,73.2803,73.6594, 73.9118,74.1639,74.4158,74.667,74.9182, 75.1692,75.4198,75.7954,76.0453,76.2948 ,76.544,76.793,77.0419,77.2902,77.6619, 77.911,78.1648,78.4181,78.7976,79.0499, 79.3018,79.5533,79.9365,80.1931,80.4494 ,80.7049,80.7624)
FOOTPRINT_POINT_LONGITUDE = (105.603,102.968,101.755,100.557, 98.8897,99.5126,100.105,100.67,101.464, 102.19,102.648,103.086,103.709,104.103, 104.481,104.835,105.341,105.818,106.122 ,106.415,106.697,106.97,107.233,107.487 ,107.852,108.085,108.311,108.529, 108.844,109.045,109.24,109.521,109.702, 109.877,110.047,110.212,110.372,110.604 ,110.752,110.897,111.106,111.307, 111.436,111.562,111.684,111.803,111.919 ,112.032,112.142,112.607,113.251, 114.146,115.294,115.882,115.809,115.735 ,115.62,115.541,115.459,115.376,115.247 ,115.066,114.971,114.876,114.776, 114.674,114.569,114.461,114.35,114.235, 114.117,113.996,113.806,113.674,113.538 ,113.398,113.253,113.103,112.948, 112.787,112.536,112.36,112.179,111.99, 111.794,111.59,111.379,111.046,110.81, 110.56,110.298,109.883,109.591,109.284, 108.963,108.44,108.067,107.672,107.256, 105.603)
ORBIT_NUMBER = 18039
ORBITAL_ECCENTRICITY = 0.571
ORBITAL_INCLINATION = 86.98
ORBITAL_SEMIMAJOR_AXIS = 8766.73
PERIAPSIS_ALTITUDE = 382.68
PERIAPSIS_ARGUMENT_ANGLE = 111.14
PERIAPSIS_TIME = 2018-04-03T11:58:58.000Z
SPACECRAFT_ORIENTATION = (0.0,-1.0,0.0)
^MEX_ORIENTATION_DESC = "MEX_ORIENTATION_DESC.TXT"
SPACECRAFT_POINTING_MODE = INERT
^MEX_POINTING_DESC = "MEX_POINTING_DESC.TXT"
RIGHT_ASCENSION = 172.849
DECLINATION = -64.857
OFFSET_ANGLE = -1e+32
SPACECRAFT_SOLAR_DISTANCE = 2.28802e+08
TARGET_NAME = MARS
/* CAMERA DATA ELEMENTS */
DETECTOR_TEMPERATURE = 17.5549
FOCAL_PLANE_TEMPERATURE = 7.9716
INST_CMPRS_NAME = "DISCRETE COSINE TRANSFORMATION (DCT)"
INST_CMPRS_RATIO = 11.5054
INST_CMPRS_QUALITY = 0
INST_CMPRS_QUANTZ_TBL_ID = 0
INSTRUMENT_TEMPERATURE = 11.0301
LENS_TEMPERATURE = 8.7872
MACROPIXEL_SIZE = 2
MISSING_FRAMES = 0
PIXEL_SUBSAMPLING_FLAG = N
SIGNAL_CHAIN_ID = 1
/* RADIOMETRIC DATA ELEMENTS */
BANDWIDTH = 180.0
CENTER_FILTER_WAVELENGTH = 677.0
RADIANCE_OFFSET = 1.64389
RADIANCE_SCALING_FACTOR = 0.0289059
REFLECTANCE_SCALING_FACTOR = 0.000789498
MEX:REFLECTANCE_OFFSET = 0.0448992
/* IMAGE OBJECT DEFINITIONS */
OBJECT = IMAGE
  INTERCHANGE_FORMAT = BINARY
  LINES = 30337
  LINE_SAMPLES = 8910
  SAMPLE_TYPE = UNSIGNED_INTEGER
  SAMPLE_BITS = 8
  BANDS = 1
  BAND_STORAGE_TYPE = BAND_SEQUENTIAL
  MAXIMUM = 255
  MEAN = 87.2163
  MINIMUM = 1
  STANDARD_DEVIATION = 37.2251
END_OBJECT = IMAGE
/* MAP OBJECT DEFINITIONS */
OBJECT = IMAGE_MAP_PROJECTION
  ^DATA_SET_MAP_PROJECTION_CATALOG= "DSMAP.CAT"
  A_AXIS_RADIUS = 3396.0
  B_AXIS_RADIUS = 3396.0
  C_AXIS_RADIUS = 3396.0
  CENTER_LATITUDE = 0.0
  CENTER_LONGITUDE = 111.0
  COORDINATE_SYSTEM_NAME = PLANETOGRAPHIC
  COORDINATE_SYSTEM_TYPE = "BODY-FIXED ROTATING"
  EASTERNMOST_LONGITUDE = 115.882
  FIRST_STANDARD_PARALLEL = "N/A"
  LINE_FIRST_PIXEL = 1
  LINE_LAST_PIXEL = 30337
  LINE_PROJECTION_OFFSET = 191344.25
  MAP_PROJECTION_ROTATION = 0.0
  MAP_PROJECTION_TYPE = SINUSOIDAL
  MAP_RESOLUTION = 2370.85521546667
  MAP_SCALE = 0.025
  MAXIMUM_LATITUDE = 80.7624
  MINIMUM_LATITUDE = 67.8604
  POSITIVE_LONGITUDE_DIRECTION = EAST
  REFERENCE_LATITUDE = "N/A"
  REFERENCE_LONGITUDE = "N/A"
  SAMPLE_FIRST_PIXEL = 1
  SAMPLE_LAST_PIXEL = 8910
  SAMPLE_PROJECTION_OFFSET = 4700.75
  SECOND_STANDARD_PARALLEL = "N/A"
  WESTERNMOST_LONGITUDE = 98.8897
END_OBJECT = IMAGE_MAP_PROJECTION
/* The JPEG2000 image data file associated with this label. */
OBJECT = COMPRESSED_FILE
  FILE_NAME = "HI039_0000_S13.JP2"
  RECORD_TYPE = UNDEFINED
  FILE_RECORDS = UNK
  ENCODING_TYPE = "JP2"
  INTERCHANGE_FORMAT = BINARY
  UNCOMPRESSED_FILE_NAME = "HI039_0000_S13.IMG"
  REQUIRED_STORAGE_BYTES = "270338310"
  ^DESCRIPTION = "JP2INFO.TXT"
END_OBJECT = COMPRESSED_FILE
END
