PDS_VERSION_ID = PDS3
/* FILE DATA ELEMENTS */
RECORD_TYPE = STREAM
/* POINTERS TO DATA OBJECTS */
^COMPRESSED_FILE = "HI040_0000_BL3.JP2"
/* IDENTIFICATION DATA ELEMENTS */
DATA_SET_ID = "MEX-M-HRSC-5-REFDR-MAPPROJECTED-V3.0"
DATA_SET_NAME = "MARS EXPRESS HRSC MAP PROJECTED REFDR V3.0"
DETECTOR_ID = MEX_HRSC_BLUE
EVENT_TYPE = "MARS-REGIONAL-MAPPING-Im-Pf"
INSTRUMENT_HOST_ID = MEX
INSTRUMENT_HOST_NAME = "MARS EXPRESS"
INSTRUMENT_ID = HRSC
INSTRUMENT_NAME = "HIGH RESOLUTION STEREO CAMERA"
MISSION_NAME = "MARS EXPRESS"
MISSION_PHASE_NAME = ME_Phase_38
PROCESSING_LEVEL_ID = 3
PRODUCT_CREATION_TIME = 2018-09-04T13:05:27.000Z
PRODUCT_ID = "HI040_0000_BL3.JP2"
RELEASE_ID = 0140
REVISION_ID = 0000
/* QUALITY DATA ELEMENTS */
DATA_QUALITY_ID = 1
DATA_QUALITY_DESC = "Data calculated based on original SPICE kernels"
/* TIME DATA ELEMENTS */
SPACECRAFT_CLOCK_START_COUNT = "1/0470861930.09082"
SPACECRAFT_CLOCK_STOP_COUNT = "1/0470862175.64323"
START_TIME = 2018-04-03T18:59:41.127Z
STOP_TIME = 2018-04-03T19:02:27.023Z
/* ORBITAL DATA ELEMENTS */
ASCENDING_NODE_LONGITUDE = 235.49
MAXIMUM_RESOLUTION = 63.2
FOOTPRINT_POINT_LATITUDE = (62.4389,62.4167,62.3973,62.3705,62.249 ,62.0453,61.8416,61.6381,61.4345,61.231 ,61.0277,60.8244,60.5193,60.3163, 60.0117,59.8088,59.5045,59.3017,59.0991 ,58.8965,58.694,58.4916,58.2894,58.0872 ,57.6832,57.2795,56.8764,56.5716,56.365 ,56.1584,55.952,55.7458,55.5397,55.3337 ,55.1278,54.9221,54.7135,54.5026, 54.2919,54.0814,53.871,53.6609,53.4509, 53.2411,53.0266,52.8117,52.597,52.3825, 51.9792,51.996,52.0173,52.0315,52.039, 52.046,52.3722,52.5875,52.8029,53.0185, 53.3409,53.5516,53.7624,53.9735,54.1846 ,54.3958,54.608,54.9245,55.131,55.3377, 55.5444,55.7514,56.062,56.3731,56.5804, 56.7873,57.192,57.3946,57.5971,57.7999, 58.0027,58.2058,58.4089,58.612,58.8154, 59.0188,59.2223,59.4259,59.6297,59.8336 ,60.0375,60.2415,60.4457,60.6499, 60.8542,61.0586,61.2631,61.4677,61.6724 ,61.8771,62.0819,62.4389)
FOOTPRINT_POINT_LONGITUDE = (14.9568,14.2744,13.75,13.0962,12.2469, 12.2916,12.3353,12.3781,12.4202,12.4614 ,12.5017,12.5413,12.6001,12.6374, 12.6926,12.7285,12.7813,12.8157,12.8492 ,12.8822,12.9148,12.9464,12.9774, 13.0079,13.0672,13.1244,13.1791,13.2192 ,13.2457,13.2717,13.2971,13.322,13.3465 ,13.3705,13.394,13.4171,13.4399,13.4625 ,13.4847,13.5065,13.5279,13.5484, 13.5687,13.5885,13.6085,13.6281,13.6472 ,13.6659,13.6999,14.1685,14.8497, 15.3907,15.7201,16.0731,16.2007,16.1861 ,16.1712,16.1559,16.1327,16.1172, 16.1017,16.0858,16.0696,16.0527,16.0381 ,16.0107,15.994,15.9769,15.9595,15.9419 ,15.9149,15.8877,15.8684,15.8492, 15.8112,15.7918,15.7717,15.7517,15.7312 ,15.7105,15.6895,15.6678,15.6461, 15.6239,15.6013,15.5785,15.5554,15.5319 ,15.5079,15.4835,15.4587,15.4335, 15.4079,15.3818,15.3553,15.3284,15.301, 15.2731,15.2447,14.9568)
ORBIT_NUMBER = 18040
ORBITAL_ECCENTRICITY = 0.571
ORBITAL_INCLINATION = 86.97
ORBITAL_SEMIMAJOR_AXIS = 8765.36
PERIAPSIS_ALTITUDE = 383.43
PERIAPSIS_ARGUMENT_ANGLE = 110.96
PERIAPSIS_TIME = 2018-04-03T18:57:54.000Z
SPACECRAFT_ORIENTATION = (0.0,-1.0,0.0)
^MEX_ORIENTATION_DESC = "MEX_ORIENTATION_DESC.TXT"
SPACECRAFT_POINTING_MODE = NADIR
^MEX_POINTING_DESC = "MEX_POINTING_DESC.TXT"
RIGHT_ASCENSION = -1e+32
DECLINATION = -1e+32
OFFSET_ANGLE = -1e+32
SPACECRAFT_SOLAR_DISTANCE = 2.28746e+08
TARGET_NAME = MARS
/* CAMERA DATA ELEMENTS */
DETECTOR_TEMPERATURE = 18.5744
FOCAL_PLANE_TEMPERATURE = 8.1755
INST_CMPRS_NAME = "DISCRETE COSINE TRANSFORMATION (DCT)"
INST_CMPRS_RATIO = 16.5735
INST_CMPRS_QUALITY = 0
INST_CMPRS_QUANTZ_TBL_ID = 0
INSTRUMENT_TEMPERATURE = 11.4379
LENS_TEMPERATURE = 8.7872
MACROPIXEL_SIZE = 4
MISSING_FRAMES = 0
PIXEL_SUBSAMPLING_FLAG = N
SIGNAL_CHAIN_ID = 2
/* RADIOMETRIC DATA ELEMENTS */
BANDWIDTH = 76.0
CENTER_FILTER_WAVELENGTH = 444.0
RADIANCE_OFFSET = 0.456654
RADIANCE_SCALING_FACTOR = 0.0018315
REFLECTANCE_SCALING_FACTOR = 9.84619e-05
MEX:REFLECTANCE_OFFSET = 0.0245498
/* IMAGE OBJECT DEFINITIONS */
OBJECT = IMAGE
  INTERCHANGE_FORMAT = BINARY
  LINES = 12440
  LINE_SAMPLES = 2545
  SAMPLE_TYPE = UNSIGNED_INTEGER
  SAMPLE_BITS = 8
  BANDS = 1
  BAND_STORAGE_TYPE = BAND_SEQUENTIAL
  MAXIMUM = 255
  MEAN = 117.555
  MINIMUM = 1
  STANDARD_DEVIATION = 21.8485
END_OBJECT = IMAGE
/* MAP OBJECT DEFINITIONS */
OBJECT = IMAGE_MAP_PROJECTION
  ^DATA_SET_MAP_PROJECTION_CATALOG= "DSMAP.CAT"
  A_AXIS_RADIUS = 3396.0
  B_AXIS_RADIUS = 3396.0
  C_AXIS_RADIUS = 3396.0
  CENTER_LATITUDE = 0.0
  CENTER_LONGITUDE = 14.0
  COORDINATE_SYSTEM_NAME = PLANETOGRAPHIC
  COORDINATE_SYSTEM_TYPE = "BODY-FIXED ROTATING"
  EASTERNMOST_LONGITUDE = 16.2007
  FIRST_STANDARD_PARALLEL = "N/A"
  LINE_FIRST_PIXEL = 1
  LINE_LAST_PIXEL = 12440
  LINE_PROJECTION_OFFSET = 74056.625
  MAP_PROJECTION_ROTATION = 0.0
  MAP_PROJECTION_TYPE = SINUSOIDAL
  MAP_RESOLUTION = 1185.42760773333
  MAP_SCALE = 0.05
  MAXIMUM_LATITUDE = 62.4389
  MINIMUM_LATITUDE = 51.9792
  POSITIVE_LONGITUDE_DIRECTION = EAST
  REFERENCE_LATITUDE = "N/A"
  REFERENCE_LONGITUDE = "N/A"
  SAMPLE_FIRST_PIXEL = 1
  SAMPLE_LAST_PIXEL = 2545
  SAMPLE_PROJECTION_OFFSET = 956.625
  SECOND_STANDARD_PARALLEL = "N/A"
  WESTERNMOST_LONGITUDE = 12.2469
END_OBJECT = IMAGE_MAP_PROJECTION
/* The JPEG2000 image data file associated with this label. */
OBJECT = COMPRESSED_FILE
  FILE_NAME = "HI040_0000_BL3.JP2"
  RECORD_TYPE = UNDEFINED
  FILE_RECORDS = UNK
  ENCODING_TYPE = "JP2"
  INTERCHANGE_FORMAT = BINARY
  UNCOMPRESSED_FILE_NAME = "HI040_0000_BL3.IMG"
  REQUIRED_STORAGE_BYTES = "31680160"
  ^DESCRIPTION = "JP2INFO.TXT"
END_OBJECT = COMPRESSED_FILE
END
