PDS_VERSION_ID = PDS3
/* FILE DATA ELEMENTS */
RECORD_TYPE = STREAM
/* POINTERS TO DATA OBJECTS */
^COMPRESSED_FILE = "HI040_0000_P23.JP2"
/* IDENTIFICATION DATA ELEMENTS */
DATA_SET_ID = "MEX-M-HRSC-5-REFDR-MAPPROJECTED-V3.0"
DATA_SET_NAME = "MARS EXPRESS HRSC MAP PROJECTED REFDR V3.0"
DETECTOR_ID = MEX_HRSC_P2
EVENT_TYPE = "MARS-REGIONAL-MAPPING-Im-Pf"
INSTRUMENT_HOST_ID = MEX
INSTRUMENT_HOST_NAME = "MARS EXPRESS"
INSTRUMENT_ID = HRSC
INSTRUMENT_NAME = "HIGH RESOLUTION STEREO CAMERA"
MISSION_NAME = "MARS EXPRESS"
MISSION_PHASE_NAME = ME_Phase_38
PROCESSING_LEVEL_ID = 3
PRODUCT_CREATION_TIME = 2018-09-04T13:05:27.000Z
PRODUCT_ID = "HI040_0000_P23.JP2"
RELEASE_ID = 0140
REVISION_ID = 0000
/* QUALITY DATA ELEMENTS */
DATA_QUALITY_ID = 1
DATA_QUALITY_DESC = "Data calculated based on original SPICE kernels"
/* TIME DATA ELEMENTS */
SPACECRAFT_CLOCK_START_COUNT = "1/0470861930.09082"
SPACECRAFT_CLOCK_STOP_COUNT = "1/0470862175.64323"
START_TIME = 2018-04-03T18:59:58.812Z
STOP_TIME = 2018-04-03T19:02:47.950Z
/* ORBITAL DATA ELEMENTS */
ASCENDING_NODE_LONGITUDE = 235.49
MAXIMUM_RESOLUTION = 32.8
FOOTPRINT_POINT_LATITUDE = (62.3834,62.3593,62.3278,62.3086,62.367 ,62.1626,61.9583,61.7542,61.5503, 61.3463,61.1427,60.9393,60.6333,60.3289 ,60.126,59.9231,59.7203,59.4162,59.2139 ,59.0117,58.8095,58.6074,58.4059, 58.2042,58.0029,57.7999,57.5933,57.3867 ,57.1806,56.9747,56.6661,56.4606, 56.2554,55.945,55.7349,55.5249,55.3151, 55.1055,54.8962,54.6871,54.4783,54.2645 ,54.0507,53.8371,53.6242,53.4112, 53.1985,52.984,52.7666,52.5492,52.3322, 52.0032,52.0161,52.0336,52.0452,52.0529 ,52.1752,52.5019,52.7197,52.9381, 53.1559,53.3693,53.6901,54.0114,54.2256 ,54.4396,54.6543,54.9671,55.2826,55.493 ,55.7038,55.9147,56.1261,56.3323, 56.6413,56.8477,57.0546,57.2615,57.5719 ,57.8831,58.0873,58.3909,58.5933, 58.7962,58.999,59.3038,59.609,59.8127, 60.0166,60.2205,60.5268,60.7311,61.038, 61.2427,61.5501,61.7552,61.9604,62.1659 ,62.3713,62.3834)
FOOTPRINT_POINT_LONGITUDE = (14.6133,13.9208,13.1191,12.6771,12.185 ,12.2302,12.2743,12.3176,12.36,12.4016, 12.4423,12.482,12.5414,12.5975,12.6343, 12.6704,12.7058,12.7579,12.7916,12.8246 ,12.8571,12.8891,12.92,12.9506,12.9804, 13.01,13.0396,13.0688,13.097,13.1247, 13.1653,13.1917,13.2175,13.2556,13.2807 ,13.3053,13.3294,13.3531,13.3762, 13.3988,13.4208,13.4432,13.4649,13.4861 ,13.5066,13.5269,13.5466,13.5662, 13.5855,13.6045,13.623,13.801,14.205, 14.81,15.2641,15.592,16.2506,16.228, 16.2125,16.1969,16.1809,16.1652,16.1411 ,16.1165,16.0995,16.082,16.0667,16.0395 ,16.0132,15.9952,15.977,15.9584,15.9397 ,15.921,15.8923,15.8728,15.8532,15.8333 ,15.8024,15.7711,15.7502,15.7184, 15.6966,15.6747,15.6523,15.6181,15.5832 ,15.5594,15.5352,15.5106,15.4729, 15.4472,15.4079,15.3811,15.3401,15.3121 ,15.2837,15.2548,15.2253,14.6133)
ORBIT_NUMBER = 18040
ORBITAL_ECCENTRICITY = 0.571
ORBITAL_INCLINATION = 86.97
ORBITAL_SEMIMAJOR_AXIS = 8765.36
PERIAPSIS_ALTITUDE = 383.43
PERIAPSIS_ARGUMENT_ANGLE = 110.96
PERIAPSIS_TIME = 2018-04-03T18:57:54.000Z
SPACECRAFT_ORIENTATION = (0.0,-1.0,0.0)
^MEX_ORIENTATION_DESC = "MEX_ORIENTATION_DESC.TXT"
SPACECRAFT_POINTING_MODE = NADIR
^MEX_POINTING_DESC = "MEX_POINTING_DESC.TXT"
RIGHT_ASCENSION = -1e+32
DECLINATION = -1e+32
OFFSET_ANGLE = -1e+32
SPACECRAFT_SOLAR_DISTANCE = 2.28746e+08
TARGET_NAME = MARS
/* CAMERA DATA ELEMENTS */
DETECTOR_TEMPERATURE = 18.5744
FOCAL_PLANE_TEMPERATURE = 8.1755
INST_CMPRS_NAME = "DISCRETE COSINE TRANSFORMATION (DCT)"
INST_CMPRS_RATIO = 9.71841
INST_CMPRS_QUALITY = 0
INST_CMPRS_QUANTZ_TBL_ID = 0
INSTRUMENT_TEMPERATURE = 11.4379
LENS_TEMPERATURE = 8.7872
MACROPIXEL_SIZE = 2
MISSING_FRAMES = 0
PIXEL_SUBSAMPLING_FLAG = N
SIGNAL_CHAIN_ID = 3
/* RADIOMETRIC DATA ELEMENTS */
BANDWIDTH = 177.0
CENTER_FILTER_WAVELENGTH = 676.5
RADIANCE_OFFSET = 2.87117
RADIANCE_SCALING_FACTOR = 0.0234772
REFLECTANCE_SCALING_FACTOR = 0.000651343
MEX:REFLECTANCE_OFFSET = 0.0796565
/* IMAGE OBJECT DEFINITIONS */
OBJECT = IMAGE
  INTERCHANGE_FORMAT = BINARY
  LINES = 24879
  LINE_SAMPLES = 5090
  SAMPLE_TYPE = UNSIGNED_INTEGER
  SAMPLE_BITS = 8
  BANDS = 1
  BAND_STORAGE_TYPE = BAND_SEQUENTIAL
  MAXIMUM = 255
  MEAN = 120.683
  MINIMUM = 1
  STANDARD_DEVIATION = 30.8081
END_OBJECT = IMAGE
/* MAP OBJECT DEFINITIONS */
OBJECT = IMAGE_MAP_PROJECTION
  ^DATA_SET_MAP_PROJECTION_CATALOG= "DSMAP.CAT"
  A_AXIS_RADIUS = 3396.0
  B_AXIS_RADIUS = 3396.0
  C_AXIS_RADIUS = 3396.0
  CENTER_LATITUDE = 0.0
  CENTER_LONGITUDE = 14.0
  COORDINATE_SYSTEM_NAME = PLANETOGRAPHIC
  COORDINATE_SYSTEM_TYPE = "BODY-FIXED ROTATING"
  EASTERNMOST_LONGITUDE = 16.2506
  FIRST_STANDARD_PARALLEL = "N/A"
  LINE_FIRST_PIXEL = 1
  LINE_LAST_PIXEL = 24879
  LINE_PROJECTION_OFFSET = 148113.75
  MAP_PROJECTION_ROTATION = 0.0
  MAP_PROJECTION_TYPE = SINUSOIDAL
  MAP_RESOLUTION = 2370.85521546667
  MAP_SCALE = 0.025
  MAXIMUM_LATITUDE = 62.3834
  MINIMUM_LATITUDE = 52.0032
  POSITIVE_LONGITUDE_DIRECTION = EAST
  REFERENCE_LATITUDE = "N/A"
  REFERENCE_LONGITUDE = "N/A"
  SAMPLE_FIRST_PIXEL = 1
  SAMPLE_LAST_PIXEL = 5090
  SAMPLE_PROJECTION_OFFSET = 1913.75
  SECOND_STANDARD_PARALLEL = "N/A"
  WESTERNMOST_LONGITUDE = 12.185
END_OBJECT = IMAGE_MAP_PROJECTION
/* The JPEG2000 image data file associated with this label. */
OBJECT = COMPRESSED_FILE
  FILE_NAME = "HI040_0000_P23.JP2"
  RECORD_TYPE = UNDEFINED
  FILE_RECORDS = UNK
  ENCODING_TYPE = "JP2"
  INTERCHANGE_FORMAT = BINARY
  UNCOMPRESSED_FILE_NAME = "HI040_0000_P23.IMG"
  REQUIRED_STORAGE_BYTES = "126659560"
  ^DESCRIPTION = "JP2INFO.TXT"
END_OBJECT = COMPRESSED_FILE
END
