PDS_VERSION_ID = PDS3
/* FILE DATA ELEMENTS */
RECORD_TYPE = STREAM
/* POINTERS TO DATA OBJECTS */
^COMPRESSED_FILE = "HI047_0000_P13.JP2"
/* IDENTIFICATION DATA ELEMENTS */
DATA_SET_ID = "MEX-M-HRSC-5-REFDR-MAPPROJECTED-V3.0"
DATA_SET_NAME = "MARS EXPRESS HRSC MAP PROJECTED REFDR V3.0"
DETECTOR_ID = MEX_HRSC_P1
EVENT_TYPE = "MARS-REGIONAL-MAPPING-Im-Pf"
INSTRUMENT_HOST_ID = MEX
INSTRUMENT_HOST_NAME = "MARS EXPRESS"
INSTRUMENT_ID = HRSC
INSTRUMENT_NAME = "HIGH RESOLUTION STEREO CAMERA"
MISSION_NAME = "MARS EXPRESS"
MISSION_PHASE_NAME = ME_Phase_38
PROCESSING_LEVEL_ID = 3
PRODUCT_CREATION_TIME = 2018-09-04T13:05:27.000Z
PRODUCT_ID = "HI047_0000_P13.JP2"
RELEASE_ID = 0140
REVISION_ID = 0000
/* QUALITY DATA ELEMENTS */
DATA_QUALITY_ID = 1
DATA_QUALITY_DESC = "Data calculated based on original SPICE kernels"
/* TIME DATA ELEMENTS */
SPACECRAFT_CLOCK_START_COUNT = "1/0471037865.07328"
SPACECRAFT_CLOCK_STOP_COUNT = "1/0471038143.45702"
START_TIME = 2018-04-05T19:51:26.667Z
STOP_TIME = 2018-04-05T19:54:41.388Z
/* ORBITAL DATA ELEMENTS */
ASCENDING_NODE_LONGITUDE = 235.36
MAXIMUM_RESOLUTION = 31.9
FOOTPRINT_POINT_LATITUDE = (65.8556,65.821,65.7967,65.7457,65.6971 ,65.4852,65.2401,64.9946,64.6265, 64.3808,64.1352,63.7664,63.5202,63.2742 ,62.9054,62.5357,62.1662,61.9199, 61.6731,61.4265,61.1798,60.8099,60.5631 ,60.3164,59.9464,59.5768,59.3294, 59.0826,58.8359,58.5892,58.3425,58.0956 ,57.7256,57.3556,56.9853,56.7388, 56.4921,56.1222,55.8715,55.6184,55.3654 ,55.1125,54.8599,54.6068,54.2273, 53.9711,53.7119,53.3235,53.1727,53.207, 53.2216,53.2366,53.258,53.6479,53.9079, 54.1683,54.4231,54.6767,54.9306,55.1846 ,55.5657,55.8197,56.1997,56.4473, 56.6951,56.9426,57.3144,57.5623,57.8103 ,58.0581,58.306,58.554,58.8018,59.0499, 59.298,59.6701,59.9182,60.1663,60.4143, 60.6624,60.9106,61.1585,61.4065,61.7785 ,62.0266,62.2746,62.5225,62.7706, 63.0184,63.2663,63.5142,63.8857,64.1334 ,64.381,64.6287,64.8761,65.1236,65.3712 ,65.6184,65.8556)
FOOTPRINT_POINT_LONGITUDE = (19.1305,18.3163,17.8028,16.8364,16.019 ,15.9551,16.035,16.1128,16.2263,16.2997 ,16.3714,16.4758,16.5431,16.6093,16.706 ,16.7986,16.8884,16.9467,17.0033, 17.0587,17.1129,17.1921,17.2434,17.2936 ,17.3668,17.438,17.4833,17.528,17.572, 17.6148,17.6568,17.6977,17.7574,17.8152 ,17.8708,17.9071,17.9424,17.9939, 18.0279,18.0614,18.0942,18.1262,18.1578 ,18.1881,18.2322,18.2613,18.2901, 18.3322,18.6686,19.4295,19.7967,20.2124 ,20.8794,20.8478,20.8262,20.804,20.7819 ,20.7598,20.737,20.7137,20.6782,20.6539 ,20.6167,20.592,20.5667,20.5411,20.5016 ,20.4747,20.4472,20.4194,20.391,20.362, 20.3326,20.3025,20.2717,20.2246,20.1924 ,20.1597,20.1262,20.0922,20.0573,20.022 ,19.9858,19.9302,19.8922,19.8533, 19.8138,19.7732,19.732,19.6899,19.6468, 19.5807,19.5354,19.4891,19.4418,19.3935 ,19.3441,19.2934,19.2419,19.1305)
ORBIT_NUMBER = 18047
ORBITAL_ECCENTRICITY = 0.571
ORBITAL_INCLINATION = 86.97
ORBITAL_SEMIMAJOR_AXIS = 8764.33
PERIAPSIS_ALTITUDE = 383.9
PERIAPSIS_ARGUMENT_ANGLE = 109.76
PERIAPSIS_TIME = 2018-04-05T19:50:42.000Z
SPACECRAFT_ORIENTATION = (0.0,-1.0,0.0)
^MEX_ORIENTATION_DESC = "MEX_ORIENTATION_DESC.TXT"
SPACECRAFT_POINTING_MODE = ACROSSTRACK
^MEX_POINTING_DESC = "MEX_POINTING_DESC.TXT"
RIGHT_ASCENSION = -1e+32
DECLINATION = -1e+32
OFFSET_ANGLE = -0.22
SPACECRAFT_SOLAR_DISTANCE = 2.28351e+08
TARGET_NAME = MARS
/* CAMERA DATA ELEMENTS */
DETECTOR_TEMPERATURE = 18.3705
FOCAL_PLANE_TEMPERATURE = 9.8067
INST_CMPRS_NAME = "DISCRETE COSINE TRANSFORMATION (DCT)"
INST_CMPRS_RATIO = 9.00325
INST_CMPRS_QUALITY = 0
INST_CMPRS_QUANTZ_TBL_ID = 0
INSTRUMENT_TEMPERATURE = 12.6613
LENS_TEMPERATURE = 10.6223
MACROPIXEL_SIZE = 2
MISSING_FRAMES = 0
PIXEL_SUBSAMPLING_FLAG = N
SIGNAL_CHAIN_ID = 3
/* RADIOMETRIC DATA ELEMENTS */
BANDWIDTH = 174.0
CENTER_FILTER_WAVELENGTH = 675.0
RADIANCE_OFFSET = 3.26702
RADIANCE_SCALING_FACTOR = 0.0169621
REFLECTANCE_SCALING_FACTOR = 0.00047574
MEX:REFLECTANCE_OFFSET = 0.0916305
/* IMAGE OBJECT DEFINITIONS */
OBJECT = IMAGE
  INTERCHANGE_FORMAT = BINARY
  LINES = 29869
  LINE_SAMPLES = 5691
  SAMPLE_TYPE = UNSIGNED_INTEGER
  SAMPLE_BITS = 8
  BANDS = 1
  BAND_STORAGE_TYPE = BAND_SEQUENTIAL
  MAXIMUM = 255
  MEAN = 140.879
  MINIMUM = 1
  STANDARD_DEVIATION = 29.0872
END_OBJECT = IMAGE
/* MAP OBJECT DEFINITIONS */
OBJECT = IMAGE_MAP_PROJECTION
  ^DATA_SET_MAP_PROJECTION_CATALOG= "DSMAP.CAT"
  A_AXIS_RADIUS = 3396.0
  B_AXIS_RADIUS = 3396.0
  C_AXIS_RADIUS = 3396.0
  CENTER_LATITUDE = 0.0
  CENTER_LONGITUDE = 19.0
  COORDINATE_SYSTEM_NAME = PLANETOGRAPHIC
  COORDINATE_SYSTEM_TYPE = "BODY-FIXED ROTATING"
  EASTERNMOST_LONGITUDE = 20.8794
  FIRST_STANDARD_PARALLEL = "N/A"
  LINE_FIRST_PIXEL = 1
  LINE_LAST_PIXEL = 29869
  LINE_PROJECTION_OFFSET = 155968.25
  MAP_PROJECTION_ROTATION = 0.0
  MAP_PROJECTION_TYPE = SINUSOIDAL
  MAP_RESOLUTION = 2370.85521546667
  MAP_SCALE = 0.025
  MAXIMUM_LATITUDE = 65.8556
  MINIMUM_LATITUDE = 53.1727
  POSITIVE_LONGITUDE_DIRECTION = EAST
  REFERENCE_LATITUDE = "N/A"
  REFERENCE_LONGITUDE = "N/A"
  SAMPLE_FIRST_PIXEL = 1
  SAMPLE_LAST_PIXEL = 5691
  SAMPLE_PROJECTION_OFFSET = 3016.75
  SECOND_STANDARD_PARALLEL = "N/A"
  WESTERNMOST_LONGITUDE = 15.9551
END_OBJECT = IMAGE_MAP_PROJECTION
/* The JPEG2000 image data file associated with this label. */
OBJECT = COMPRESSED_FILE
  FILE_NAME = "HI047_0000_P13.JP2"
  RECORD_TYPE = UNDEFINED
  FILE_RECORDS = UNK
  ENCODING_TYPE = "JP2"
  INTERCHANGE_FORMAT = BINARY
  UNCOMPRESSED_FILE_NAME = "HI047_0000_P13.IMG"
  REQUIRED_STORAGE_BYTES = "170012934"
  ^DESCRIPTION = "JP2INFO.TXT"
END_OBJECT = COMPRESSED_FILE
END
