PDS_VERSION_ID = PDS3
/* FILE DATA ELEMENTS */
RECORD_TYPE = STREAM
/* POINTERS TO DATA OBJECTS */
^COMPRESSED_FILE = "HI047_0000_P23.JP2"
/* IDENTIFICATION DATA ELEMENTS */
DATA_SET_ID = "MEX-M-HRSC-5-REFDR-MAPPROJECTED-V3.0"
DATA_SET_NAME = "MARS EXPRESS HRSC MAP PROJECTED REFDR V3.0"
DETECTOR_ID = MEX_HRSC_P2
EVENT_TYPE = "MARS-REGIONAL-MAPPING-Im-Pf"
INSTRUMENT_HOST_ID = MEX
INSTRUMENT_HOST_NAME = "MARS EXPRESS"
INSTRUMENT_ID = HRSC
INSTRUMENT_NAME = "HIGH RESOLUTION STEREO CAMERA"
MISSION_NAME = "MARS EXPRESS"
MISSION_PHASE_NAME = ME_Phase_38
PROCESSING_LEVEL_ID = 3
PRODUCT_CREATION_TIME = 2018-09-04T13:05:27.000Z
PRODUCT_ID = "HI047_0000_P23.JP2"
RELEASE_ID = 0140
REVISION_ID = 0000
/* QUALITY DATA ELEMENTS */
DATA_QUALITY_ID = 1
DATA_QUALITY_DESC = "Data calculated based on original SPICE kernels"
/* TIME DATA ELEMENTS */
SPACECRAFT_CLOCK_START_COUNT = "1/0471037865.07328"
SPACECRAFT_CLOCK_STOP_COUNT = "1/0471038143.45702"
START_TIME = 2018-04-05T19:52:13.145Z
STOP_TIME = 2018-04-05T19:55:35.920Z
/* ORBITAL DATA ELEMENTS */
ASCENDING_NODE_LONGITUDE = 235.36
MAXIMUM_RESOLUTION = 32.4
FOOTPRINT_POINT_LATITUDE = (65.6904,65.653,65.61,65.6566,65.4103, 65.0408,64.6715,64.4255,64.1797,63.9335 ,63.6885,63.4433,63.198,62.9526,62.7081 ,62.4634,62.2189,61.8521,61.6085, 61.3647,61.1212,60.8778,60.3916,59.9061 ,59.4216,59.1784,58.9302,58.6821, 58.4344,58.1871,57.94,57.6932,57.4466, 57.069,56.8166,56.5646,56.313,56.0616, 55.6819,55.4248,55.168,54.9114,54.6556, 54.4004,54.0087,53.7477,53.487,53.2267, 53.2213,53.2435,53.2613,53.2709,53.5322 ,53.794,54.0561,54.3185,54.7068,54.9638 ,55.221,55.4789,55.737,55.9927,56.245, 56.4977,56.7506,57.004,57.2575,57.5106, 57.7581,58.0062,58.2547,58.5032,58.7522 ,59.0013,59.3745,59.8611,60.1048, 60.3488,60.593,60.8373,61.0822,61.3272, 61.5724,61.8178,62.0633,62.3092,62.5552 ,62.8013,63.0479,63.2945,63.5411, 63.7882,64.0354,64.2829,64.5304,64.9023 ,65.1502,65.398,65.6465,65.6904)
FOOTPRINT_POINT_LONGITUDE = (18.6024,17.6233,16.6421,15.8665, 15.9466,16.0636,16.1766,16.2495,16.3204 ,16.3906,16.4572,16.523,16.5875,16.651, 16.7117,16.7716,16.83,16.9156,16.97, 17.0236,17.0759,17.1271,17.2259,17.3204 ,17.4105,17.4539,17.4975,17.5402, 17.5818,17.6222,17.6616,17.7002,17.738, 17.7938,17.8304,17.8658,17.9002,17.934, 17.9835,18.0161,18.0479,18.079,18.1089, 18.1378,18.1813,18.2094,18.2367,18.2633 ,18.8924,19.6727,20.4764,20.9514, 20.9292,20.9066,20.8834,20.8598,20.8244 ,20.8003,20.7757,20.7507,20.7252, 20.6995,20.6737,20.6474,20.6205,20.5932 ,20.5653,20.537,20.5087,20.4799,20.4507 ,20.4208,20.3904,20.3593,20.3117, 20.2475,20.2145,20.1808,20.1465,20.1114 ,20.0757,20.0393,20.0021,19.9641, 19.9253,19.8857,19.8453,19.804,19.7619, 19.7188,19.6748,19.6298,19.5839,19.537, 19.489,19.415,19.3642,19.3121,19.259, 18.6024)
ORBIT_NUMBER = 18047
ORBITAL_ECCENTRICITY = 0.571
ORBITAL_INCLINATION = 86.97
ORBITAL_SEMIMAJOR_AXIS = 8764.33
PERIAPSIS_ALTITUDE = 383.9
PERIAPSIS_ARGUMENT_ANGLE = 109.76
PERIAPSIS_TIME = 2018-04-05T19:50:42.000Z
SPACECRAFT_ORIENTATION = (0.0,-1.0,0.0)
^MEX_ORIENTATION_DESC = "MEX_ORIENTATION_DESC.TXT"
SPACECRAFT_POINTING_MODE = ACROSSTRACK
^MEX_POINTING_DESC = "MEX_POINTING_DESC.TXT"
RIGHT_ASCENSION = -1e+32
DECLINATION = -1e+32
OFFSET_ANGLE = -0.22
SPACECRAFT_SOLAR_DISTANCE = 2.28351e+08
TARGET_NAME = MARS
/* CAMERA DATA ELEMENTS */
DETECTOR_TEMPERATURE = 19.5939
FOCAL_PLANE_TEMPERATURE = 9.8067
INST_CMPRS_NAME = "DISCRETE COSINE TRANSFORMATION (DCT)"
INST_CMPRS_RATIO = 8.59028
INST_CMPRS_QUALITY = 0
INST_CMPRS_QUANTZ_TBL_ID = 0
INSTRUMENT_TEMPERATURE = 12.6613
LENS_TEMPERATURE = 10.6223
MACROPIXEL_SIZE = 2
MISSING_FRAMES = 0
PIXEL_SUBSAMPLING_FLAG = N
SIGNAL_CHAIN_ID = 3
/* RADIOMETRIC DATA ELEMENTS */
BANDWIDTH = 177.0
CENTER_FILTER_WAVELENGTH = 676.5
RADIANCE_OFFSET = 3.22055
RADIANCE_SCALING_FACTOR = 0.0175131
REFLECTANCE_SCALING_FACTOR = 0.0004842
MEX:REFLECTANCE_OFFSET = 0.0890415
/* IMAGE OBJECT DEFINITIONS */
OBJECT = IMAGE
  INTERCHANGE_FORMAT = BINARY
  LINES = 29869
  LINE_SAMPLES = 5691
  SAMPLE_TYPE = UNSIGNED_INTEGER
  SAMPLE_BITS = 8
  BANDS = 1
  BAND_STORAGE_TYPE = BAND_SEQUENTIAL
  MAXIMUM = 255
  MEAN = 147.645
  MINIMUM = 1
  STANDARD_DEVIATION = 28.0007
END_OBJECT = IMAGE
/* MAP OBJECT DEFINITIONS */
OBJECT = IMAGE_MAP_PROJECTION
  ^DATA_SET_MAP_PROJECTION_CATALOG= "DSMAP.CAT"
  A_AXIS_RADIUS = 3396.0
  B_AXIS_RADIUS = 3396.0
  C_AXIS_RADIUS = 3396.0
  CENTER_LATITUDE = 0.0
  CENTER_LONGITUDE = 19.0
  COORDINATE_SYSTEM_NAME = PLANETOGRAPHIC
  COORDINATE_SYSTEM_TYPE = "BODY-FIXED ROTATING"
  EASTERNMOST_LONGITUDE = 20.9514
  FIRST_STANDARD_PARALLEL = "N/A"
  LINE_FIRST_PIXEL = 1
  LINE_LAST_PIXEL = 29869
  LINE_PROJECTION_OFFSET = 155968.25
  MAP_PROJECTION_ROTATION = 0.0
  MAP_PROJECTION_TYPE = SINUSOIDAL
  MAP_RESOLUTION = 2370.85521546667
  MAP_SCALE = 0.025
  MAXIMUM_LATITUDE = 65.6904
  MINIMUM_LATITUDE = 53.2213
  POSITIVE_LONGITUDE_DIRECTION = EAST
  REFERENCE_LATITUDE = "N/A"
  REFERENCE_LONGITUDE = "N/A"
  SAMPLE_FIRST_PIXEL = 1
  SAMPLE_LAST_PIXEL = 5691
  SAMPLE_PROJECTION_OFFSET = 3016.75
  SECOND_STANDARD_PARALLEL = "N/A"
  WESTERNMOST_LONGITUDE = 15.8665
END_OBJECT = IMAGE_MAP_PROJECTION
/* The JPEG2000 image data file associated with this label. */
OBJECT = COMPRESSED_FILE
  FILE_NAME = "HI047_0000_P23.JP2"
  RECORD_TYPE = UNDEFINED
  FILE_RECORDS = UNK
  ENCODING_TYPE = "JP2"
  INTERCHANGE_FORMAT = BINARY
  UNCOMPRESSED_FILE_NAME = "HI047_0000_P23.IMG"
  REQUIRED_STORAGE_BYTES = "170012934"
  ^DESCRIPTION = "JP2INFO.TXT"
END_OBJECT = COMPRESSED_FILE
END
