PDS_VERSION_ID = PDS3
/* FILE DATA ELEMENTS */
RECORD_TYPE = STREAM
/* POINTERS TO DATA OBJECTS */
^COMPRESSED_FILE = "HI048_0000_P23.JP2"
/* IDENTIFICATION DATA ELEMENTS */
DATA_SET_ID = "MEX-M-HRSC-5-REFDR-MAPPROJECTED-V3.0"
DATA_SET_NAME = "MARS EXPRESS HRSC MAP PROJECTED REFDR V3.0"
DETECTOR_ID = MEX_HRSC_P2
EVENT_TYPE = "MARS-REGIONAL-MAPPING-Vo-Te-Im"
INSTRUMENT_HOST_ID = MEX
INSTRUMENT_HOST_NAME = "MARS EXPRESS"
INSTRUMENT_ID = HRSC
INSTRUMENT_NAME = "HIGH RESOLUTION STEREO CAMERA"
MISSION_NAME = "MARS EXPRESS"
MISSION_PHASE_NAME = ME_Phase_38
PROCESSING_LEVEL_ID = 3
PRODUCT_CREATION_TIME = 2018-09-04T13:05:27.000Z
PRODUCT_ID = "HI048_0000_P23.JP2"
RELEASE_ID = 0140
REVISION_ID = 0000
/* QUALITY DATA ELEMENTS */
DATA_QUALITY_ID = 1
DATA_QUALITY_DESC = "Data calculated based on original SPICE kernels"
/* TIME DATA ELEMENTS */
SPACECRAFT_CLOCK_START_COUNT = "1/0471063088.08255"
SPACECRAFT_CLOCK_STOP_COUNT = "1/0471063339.56145"
START_TIME = 2018-04-06T02:52:38.314Z
STOP_TIME = 2018-04-06T02:55:30.842Z
/* ORBITAL DATA ELEMENTS */
ASCENDING_NODE_LONGITUDE = 235.35
MAXIMUM_RESOLUTION = 33.7
FOOTPRINT_POINT_LATITUDE = (60.7789,60.7498,60.7202,60.7022, 60.7559,60.5585,60.3612,60.1641,59.9672 ,59.6719,59.2788,59.0783,58.8769, 58.6756,58.4745,58.2736,58.0728,57.8723 ,57.672,57.4718,57.2679,57.0627,56.7556 ,56.551,56.2444,56.0404,55.7321,55.5234 ,55.2111,55.0055,54.798,54.5882,54.2719 ,54.0597,53.8477,53.5302,53.213,52.8909 ,52.6752,52.4598,52.2448,51.9225, 51.7031,51.4841,51.2655,51.0472,50.8292 ,50.6064,50.3839,50.347,50.3649,50.3809 ,50.3897,50.3979,50.6213,50.9555, 51.1746,51.5038,51.7235,51.9436,52.1605 ,52.4841,52.7002,52.9167,53.2407, 53.4527,53.6649,53.8776,54.0906,54.3038 ,54.5167,54.7251,55.0381,55.2468, 55.4559,55.6652,55.978,56.1829,56.3878, 56.5928,56.7981,57.0037,57.3125,57.5186 ,57.7195,57.9208,58.1221,58.3238, 58.5256,58.7275,58.9297,59.1319,59.4334 ,59.6308,59.8283,60.0261,60.2241, 60.4222,60.6205,60.7789)
FOOTPRINT_POINT_LONGITUDE = (278.087,277.191,276.405,275.972, 275.501,275.538,275.574,275.61,275.645, 275.696,275.762,275.795,275.827,275.858 ,275.889,275.92,275.95,275.979,276.007, 276.035,276.063,276.091,276.131,276.157 ,276.196,276.221,276.257,276.282, 276.317,276.337,276.359,276.383,276.417 ,276.438,276.459,276.49,276.519,276.548 ,276.567,276.585,276.603,276.629, 276.646,276.663,276.679,276.695,276.71, 276.725,276.74,277.204,277.845,278.538, 278.974,279.395,279.381,279.36,279.346, 279.324,279.309,279.294,279.279,279.256 ,279.241,279.225,279.201,279.185, 279.169,279.153,279.136,279.119,279.102 ,279.085,279.059,279.041,279.023, 279.005,278.977,278.958,278.939,278.92, 278.901,278.881,278.851,278.83,278.81, 278.789,278.768,278.747,278.725,278.703 ,278.681,278.658,278.623,278.6,278.577, 278.553,278.529,278.504,278.479, 278.087)
ORBIT_NUMBER = 18048
ORBITAL_ECCENTRICITY = 0.571
ORBITAL_INCLINATION = 86.97
ORBITAL_SEMIMAJOR_AXIS = 8762.74
PERIAPSIS_ALTITUDE = 383.56
PERIAPSIS_ARGUMENT_ANGLE = 109.6
PERIAPSIS_TIME = 2018-04-06T02:49:46.000Z
SPACECRAFT_ORIENTATION = (0.0,-1.0,0.0)
^MEX_ORIENTATION_DESC = "MEX_ORIENTATION_DESC.TXT"
SPACECRAFT_POINTING_MODE = NADIR
^MEX_POINTING_DESC = "MEX_POINTING_DESC.TXT"
RIGHT_ASCENSION = -1e+32
DECLINATION = -1e+32
OFFSET_ANGLE = -1e+32
SPACECRAFT_SOLAR_DISTANCE = 2.28294e+08
TARGET_NAME = MARS
/* CAMERA DATA ELEMENTS */
DETECTOR_TEMPERATURE = 18.3705
FOCAL_PLANE_TEMPERATURE = 7.9716
INST_CMPRS_NAME = "DISCRETE COSINE TRANSFORMATION (DCT)"
INST_CMPRS_RATIO = 10.1637
INST_CMPRS_QUALITY = 0
INST_CMPRS_QUANTZ_TBL_ID = 0
INSTRUMENT_TEMPERATURE = 11.6418
LENS_TEMPERATURE = 8.5833
MACROPIXEL_SIZE = 2
MISSING_FRAMES = 0
PIXEL_SUBSAMPLING_FLAG = N
SIGNAL_CHAIN_ID = 3
/* RADIOMETRIC DATA ELEMENTS */
BANDWIDTH = 177.0
CENTER_FILTER_WAVELENGTH = 676.5
RADIANCE_OFFSET = 4.49699
RADIANCE_SCALING_FACTOR = 0.0178585
REFLECTANCE_SCALING_FACTOR = 0.000493503
MEX:REFLECTANCE_OFFSET = 0.12427
/* IMAGE OBJECT DEFINITIONS */
OBJECT = IMAGE
  INTERCHANGE_FORMAT = BINARY
  LINES = 24947
  LINE_SAMPLES = 4891
  SAMPLE_TYPE = UNSIGNED_INTEGER
  SAMPLE_BITS = 8
  BANDS = 1
  BAND_STORAGE_TYPE = BAND_SEQUENTIAL
  MAXIMUM = 255
  MEAN = 90.8251
  MINIMUM = 1
  STANDARD_DEVIATION = 26.3892
END_OBJECT = IMAGE
/* MAP OBJECT DEFINITIONS */
OBJECT = IMAGE_MAP_PROJECTION
  ^DATA_SET_MAP_PROJECTION_CATALOG= "DSMAP.CAT"
  A_AXIS_RADIUS = 3396.0
  B_AXIS_RADIUS = 3396.0
  C_AXIS_RADIUS = 3396.0
  CENTER_LATITUDE = 0.0
  CENTER_LONGITUDE = 278.0
  COORDINATE_SYSTEM_NAME = PLANETOGRAPHIC
  COORDINATE_SYSTEM_TYPE = "BODY-FIXED ROTATING"
  EASTERNMOST_LONGITUDE = 279.395
  FIRST_STANDARD_PARALLEL = "N/A"
  LINE_FIRST_PIXEL = 1
  LINE_LAST_PIXEL = 24947
  LINE_PROJECTION_OFFSET = 144263.75
  MAP_PROJECTION_ROTATION = 0.0
  MAP_PROJECTION_TYPE = SINUSOIDAL
  MAP_RESOLUTION = 2370.85521546667
  MAP_SCALE = 0.025
  MAXIMUM_LATITUDE = 60.7789
  MINIMUM_LATITUDE = 50.347
  POSITIVE_LONGITUDE_DIRECTION = EAST
  REFERENCE_LATITUDE = "N/A"
  REFERENCE_LONGITUDE = "N/A"
  SAMPLE_FIRST_PIXEL = 1
  SAMPLE_LAST_PIXEL = 4891
  SAMPLE_PROJECTION_OFFSET = 2844.75
  SECOND_STANDARD_PARALLEL = "N/A"
  WESTERNMOST_LONGITUDE = 275.501
END_OBJECT = IMAGE_MAP_PROJECTION
/* The JPEG2000 image data file associated with this label. */
OBJECT = COMPRESSED_FILE
  FILE_NAME = "HI048_0000_P23.JP2"
  RECORD_TYPE = UNDEFINED
  FILE_RECORDS = UNK
  ENCODING_TYPE = "JP2"
  INTERCHANGE_FORMAT = BINARY
  UNCOMPRESSED_FILE_NAME = "HI048_0000_P23.IMG"
  REQUIRED_STORAGE_BYTES = "122040232"
  ^DESCRIPTION = "JP2INFO.TXT"
END_OBJECT = COMPRESSED_FILE
END
