PDS_VERSION_ID = PDS3
/* FILE DATA ELEMENTS */
RECORD_TYPE = STREAM
/* POINTERS TO DATA OBJECTS */
^COMPRESSED_FILE = "HI053_0000_GR3.JP2"
/* IDENTIFICATION DATA ELEMENTS */
DATA_SET_ID = "MEX-M-HRSC-5-REFDR-MAPPROJECTED-V3.0"
DATA_SET_NAME = "MARS EXPRESS HRSC MAP PROJECTED REFDR V3.0"
DETECTOR_ID = MEX_HRSC_GREEN
EVENT_TYPE = "MARS-REGIONAL-MAPPING-Im-Pf-Eo"
INSTRUMENT_HOST_ID = MEX
INSTRUMENT_HOST_NAME = "MARS EXPRESS"
INSTRUMENT_ID = HRSC
INSTRUMENT_NAME = "HIGH RESOLUTION STEREO CAMERA"
MISSION_NAME = "MARS EXPRESS"
MISSION_PHASE_NAME = ME_Phase_38
PROCESSING_LEVEL_ID = 3
PRODUCT_CREATION_TIME = 2018-09-04T13:05:27.000Z
PRODUCT_ID = "HI053_0000_GR3.JP2"
RELEASE_ID = 0140
REVISION_ID = 0000
/* QUALITY DATA ELEMENTS */
DATA_QUALITY_ID = 1
DATA_QUALITY_DESC = "Data calculated based on original SPICE kernels"
/* TIME DATA ELEMENTS */
SPACECRAFT_CLOCK_START_COUNT = "1/0471188654.09076"
SPACECRAFT_CLOCK_STOP_COUNT = "1/0471188883.22406"
START_TIME = 2018-04-07T13:44:52.899Z
STOP_TIME = 2018-04-07T13:47:25.325Z
/* ORBITAL DATA ELEMENTS */
ASCENDING_NODE_LONGITUDE = 235.26
MAXIMUM_RESOLUTION = 61.9
FOOTPRINT_POINT_LATITUDE = (69.5358,69.5053,69.4509,69.2686, 69.0771,68.8855,68.6938,68.4062,68.1184 ,67.9265,67.7346,67.4466,67.2545, 67.0624,66.8703,66.6781,66.3898,66.1976 ,66.0054,65.8131,65.5247,65.2362, 65.0438,64.8515,64.6591,64.4668,64.2745 ,63.9859,63.7936,63.6013,63.409,63.2167 ,63.0244,62.8321,62.6399,62.4477, 62.2555,62.0633,61.8712,61.6791,61.487, 61.295,61.007,60.8151,60.6231,60.4313, 60.2395,59.856,59.7248,59.7506,59.7675, 59.7832,59.7985,59.8116,60.0144,60.2071 ,60.3999,60.5927,60.7857,61.0751, 61.2682,61.4612,61.6543,61.8476,62.0408 ,62.2341,62.4275,62.6208,62.8143, 63.0078,63.298,63.4916,63.6852,63.8788, 64.1693,64.363,64.5568,64.7505,64.9443, 65.138,65.3319,65.5257,65.8165,66.0104, 66.3011,66.495,66.6888,66.8827,67.0766, 67.2705,67.5613,67.7551,67.949,68.2397, 68.4335,68.7242,69.0148,69.2086,69.4023 ,69.5358)
FOOTPRINT_POINT_LONGITUDE = (124.688,124.015,122.941,121.843, 121.933,122.022,122.109,122.236,122.36, 122.44,122.518,122.633,122.707,122.781, 122.853,122.923,123.026,123.093,123.158 ,123.223,123.317,123.409,123.468, 123.526,123.583,123.64,123.695,123.776, 123.829,123.88,123.931,123.981,124.029, 124.077,124.125,124.171,124.216,124.261 ,124.304,124.347,124.39,124.431,124.492 ,124.531,124.57,124.608,124.645,124.718 ,125.115,125.671,126.067,126.463, 126.885,127.28,127.554,127.528,127.502, 127.476,127.449,127.408,127.38,127.352, 127.324,127.294,127.265,127.235,127.204 ,127.173,127.141,127.109,127.06,127.026 ,126.992,126.958,126.904,126.868, 126.831,126.794,126.756,126.717,126.678 ,126.638,126.576,126.534,126.47,126.426 ,126.382,126.336,126.29,126.243,126.171 ,126.121,126.071,125.993,125.94,125.859 ,125.776,125.719,125.66,124.688)
ORBIT_NUMBER = 18053
ORBITAL_ECCENTRICITY = 0.571
ORBITAL_INCLINATION = 86.98
ORBITAL_SEMIMAJOR_AXIS = 8763.58
PERIAPSIS_ALTITUDE = 384.07
PERIAPSIS_ARGUMENT_ANGLE = 108.73
PERIAPSIS_TIME = 2018-04-07T13:44:34.000Z
SPACECRAFT_ORIENTATION = (0.0,-1.0,0.0)
^MEX_ORIENTATION_DESC = "MEX_ORIENTATION_DESC.TXT"
SPACECRAFT_POINTING_MODE = ACROSSTRACK
^MEX_POINTING_DESC = "MEX_POINTING_DESC.TXT"
RIGHT_ASCENSION = -1e+32
DECLINATION = -1e+32
OFFSET_ANGLE = -0.18
SPACECRAFT_SOLAR_DISTANCE = 2.28011e+08
TARGET_NAME = MARS
/* CAMERA DATA ELEMENTS */
DETECTOR_TEMPERATURE = 18.9822
FOCAL_PLANE_TEMPERATURE = 10.4184
INST_CMPRS_NAME = "DISCRETE COSINE TRANSFORMATION (DCT)"
INST_CMPRS_RATIO = 20.3028
INST_CMPRS_QUALITY = 0
INST_CMPRS_QUANTZ_TBL_ID = 0
INSTRUMENT_TEMPERATURE = 11.234
LENS_TEMPERATURE = 10.8262
MACROPIXEL_SIZE = 4
MISSING_FRAMES = 0
PIXEL_SUBSAMPLING_FLAG = N
SIGNAL_CHAIN_ID = 2
/* RADIOMETRIC DATA ELEMENTS */
BANDWIDTH = 88.0
CENTER_FILTER_WAVELENGTH = 538.0
RADIANCE_OFFSET = 1.29025
RADIANCE_SCALING_FACTOR = 0.0025299
REFLECTANCE_SCALING_FACTOR = 0.000113242
MEX:REFLECTANCE_OFFSET = 0.0577534
/* IMAGE OBJECT DEFINITIONS */
OBJECT = IMAGE
  INTERCHANGE_FORMAT = BINARY
  LINES = 11674
  LINE_SAMPLES = 2824
  SAMPLE_TYPE = UNSIGNED_INTEGER
  SAMPLE_BITS = 8
  BANDS = 1
  BAND_STORAGE_TYPE = BAND_SEQUENTIAL
  MAXIMUM = 255
  MEAN = 128.718
  MINIMUM = 1
  STANDARD_DEVIATION = 31.0772
END_OBJECT = IMAGE
/* MAP OBJECT DEFINITIONS */
OBJECT = IMAGE_MAP_PROJECTION
  ^DATA_SET_MAP_PROJECTION_CATALOG= "DSMAP.CAT"
  A_AXIS_RADIUS = 3396.0
  B_AXIS_RADIUS = 3396.0
  C_AXIS_RADIUS = 3396.0
  CENTER_LATITUDE = 0.0
  CENTER_LONGITUDE = 125.0
  COORDINATE_SYSTEM_NAME = PLANETOGRAPHIC
  COORDINATE_SYSTEM_TYPE = "BODY-FIXED ROTATING"
  EASTERNMOST_LONGITUDE = 127.554
  FIRST_STANDARD_PARALLEL = "N/A"
  LINE_FIRST_PIXEL = 1
  LINE_LAST_PIXEL = 11674
  LINE_PROJECTION_OFFSET = 82457.625
  MAP_PROJECTION_ROTATION = 0.0
  MAP_PROJECTION_TYPE = SINUSOIDAL
  MAP_RESOLUTION = 1185.42760773333
  MAP_SCALE = 0.05
  MAXIMUM_LATITUDE = 69.53579999999999
  MINIMUM_LATITUDE = 59.7248
  POSITIVE_LONGITUDE_DIRECTION = EAST
  REFERENCE_LATITUDE = "N/A"
  REFERENCE_LONGITUDE = "N/A"
  SAMPLE_FIRST_PIXEL = 1
  SAMPLE_LAST_PIXEL = 2824
  SAMPLE_PROJECTION_OFFSET = 1296.875
  SECOND_STANDARD_PARALLEL = "N/A"
  WESTERNMOST_LONGITUDE = 121.843
END_OBJECT = IMAGE_MAP_PROJECTION
/* The JPEG2000 image data file associated with this label. */
OBJECT = COMPRESSED_FILE
  FILE_NAME = "HI053_0000_GR3.JP2"
  RECORD_TYPE = UNDEFINED
  FILE_RECORDS = UNK
  ENCODING_TYPE = "JP2"
  INTERCHANGE_FORMAT = BINARY
  UNCOMPRESSED_FILE_NAME = "HI053_0000_GR3.IMG"
  REQUIRED_STORAGE_BYTES = "32989968"
  ^DESCRIPTION = "JP2INFO.TXT"
END_OBJECT = COMPRESSED_FILE
END
