PDS_VERSION_ID = PDS3
/* FILE DATA ELEMENTS */
RECORD_TYPE = STREAM
/* POINTERS TO DATA OBJECTS */
^COMPRESSED_FILE = "HI053_0000_RE3.JP2"
/* IDENTIFICATION DATA ELEMENTS */
DATA_SET_ID = "MEX-M-HRSC-5-REFDR-MAPPROJECTED-V3.0"
DATA_SET_NAME = "MARS EXPRESS HRSC MAP PROJECTED REFDR V3.0"
DETECTOR_ID = MEX_HRSC_RED
EVENT_TYPE = "MARS-REGIONAL-MAPPING-Im-Pf-Eo"
INSTRUMENT_HOST_ID = MEX
INSTRUMENT_HOST_NAME = "MARS EXPRESS"
INSTRUMENT_ID = HRSC
INSTRUMENT_NAME = "HIGH RESOLUTION STEREO CAMERA"
MISSION_NAME = "MARS EXPRESS"
MISSION_PHASE_NAME = ME_Phase_38
PROCESSING_LEVEL_ID = 3
PRODUCT_CREATION_TIME = 2018-09-04T13:05:27.000Z
PRODUCT_ID = "HI053_0000_RE3.JP2"
RELEASE_ID = 0140
REVISION_ID = 0000
/* QUALITY DATA ELEMENTS */
DATA_QUALITY_ID = 1
DATA_QUALITY_DESC = "Data calculated based on original SPICE kernels"
/* TIME DATA ELEMENTS */
SPACECRAFT_CLOCK_START_COUNT = "1/0471188654.09076"
SPACECRAFT_CLOCK_STOP_COUNT = "1/0471188883.22406"
START_TIME = 2018-04-07T13:45:28.010Z
STOP_TIME = 2018-04-07T13:48:03.917Z
/* ORBITAL DATA ELEMENTS */
ASCENDING_NODE_LONGITUDE = 235.26
MAXIMUM_RESOLUTION = 65.2
FOOTPRINT_POINT_LATITUDE = (69.4392,69.4115,69.3627,69.3367, 69.2033,68.9123,68.7184,68.5245,68.3307 ,68.137,67.9434,67.6531,67.3628,67.1696 ,66.9762,66.7828,66.4934,66.3002, 66.0109,65.818,65.6252,65.4327,65.2402, 64.952,64.7599,64.5679,64.2797,64.088, 63.8964,63.7049,63.5135,63.3223,63.1312 ,62.8446,62.6538,62.4629,62.2725, 62.0821,61.892,61.6067,61.4169,61.2272, 61.0377,60.8483,60.6559,60.4618,60.1708 ,59.9772,59.7485,59.78,59.7977,59.8206, 59.9339,60.1285,60.3233,60.5183,60.7135 ,60.9081,61.0985,61.2892,61.4805, 61.6715,61.958,62.1494,62.3409,62.5325, 62.7243,62.9163,63.2046,63.3968,63.5895 ,63.7822,63.9749,64.1678,64.4575, 64.6507,64.9411,65.1347,65.3285,65.5222 ,65.7164,65.9103,66.2018,66.3963,66.591 ,66.7859,67.0782,67.2731,67.4683, 67.7613,67.9566,68.1522,68.3476,68.5431 ,68.7391,68.935,69.131,69.3271,69.5233, 69.4392)
FOOTPRINT_POINT_LONGITUDE = (125.077,124.364,123.243,122.699, 121.844,121.98,122.067,122.153,122.237, 122.319,122.399,122.516,122.63,122.704, 122.777,122.848,122.951,123.018,123.117 ,123.181,123.244,123.305,123.365, 123.453,123.51,123.566,123.649,123.702, 123.755,123.806,123.857,123.906,123.955 ,124.026,124.072,124.118,124.162, 124.206,124.249,124.312,124.352,124.392 ,124.432,124.47,124.509,124.547,124.603 ,124.639,124.93,125.757,126.279,127.048 ,127.62,127.594,127.567,127.54,127.513, 127.485,127.457,127.429,127.401,127.372 ,127.327,127.297,127.266,127.235, 127.203,127.171,127.122,127.088,127.054 ,127.019,126.984,126.948,126.893, 126.855,126.798,126.758,126.718,126.677 ,126.636,126.594,126.529,126.485,126.44 ,126.394,126.324,126.275,126.226, 126.151,126.1,126.047,125.994,125.939, 125.883,125.826,125.768,125.709,125.648 ,125.077)
ORBIT_NUMBER = 18053
ORBITAL_ECCENTRICITY = 0.571
ORBITAL_INCLINATION = 86.98
ORBITAL_SEMIMAJOR_AXIS = 8763.58
PERIAPSIS_ALTITUDE = 384.07
PERIAPSIS_ARGUMENT_ANGLE = 108.73
PERIAPSIS_TIME = 2018-04-07T13:44:34.000Z
SPACECRAFT_ORIENTATION = (0.0,-1.0,0.0)
^MEX_ORIENTATION_DESC = "MEX_ORIENTATION_DESC.TXT"
SPACECRAFT_POINTING_MODE = ACROSSTRACK
^MEX_POINTING_DESC = "MEX_POINTING_DESC.TXT"
RIGHT_ASCENSION = -1e+32
DECLINATION = -1e+32
OFFSET_ANGLE = -0.18
SPACECRAFT_SOLAR_DISTANCE = 2.28011e+08
TARGET_NAME = MARS
/* CAMERA DATA ELEMENTS */
DETECTOR_TEMPERATURE = 20.0017
FOCAL_PLANE_TEMPERATURE = 10.4184
INST_CMPRS_NAME = "DISCRETE COSINE TRANSFORMATION (DCT)"
INST_CMPRS_RATIO = 29.6251
INST_CMPRS_QUALITY = 0
INST_CMPRS_QUANTZ_TBL_ID = 0
INSTRUMENT_TEMPERATURE = 11.234
LENS_TEMPERATURE = 10.8262
MACROPIXEL_SIZE = 4
MISSING_FRAMES = 0
PIXEL_SUBSAMPLING_FLAG = N
SIGNAL_CHAIN_ID = 2
/* RADIOMETRIC DATA ELEMENTS */
BANDWIDTH = 48.0
CENTER_FILTER_WAVELENGTH = 748.0
RADIANCE_OFFSET = 1.07341
RADIANCE_SCALING_FACTOR = 0.00303327
REFLECTANCE_SCALING_FACTOR = 0.000359875
MEX:REFLECTANCE_OFFSET = 0.127352
/* IMAGE OBJECT DEFINITIONS */
OBJECT = IMAGE
  INTERCHANGE_FORMAT = BINARY
  LINES = 11674
  LINE_SAMPLES = 2824
  SAMPLE_TYPE = UNSIGNED_INTEGER
  SAMPLE_BITS = 8
  BANDS = 1
  BAND_STORAGE_TYPE = BAND_SEQUENTIAL
  MAXIMUM = 255
  MEAN = 110.395
  MINIMUM = 1
  STANDARD_DEVIATION = 39.3046
END_OBJECT = IMAGE
/* MAP OBJECT DEFINITIONS */
OBJECT = IMAGE_MAP_PROJECTION
  ^DATA_SET_MAP_PROJECTION_CATALOG= "DSMAP.CAT"
  A_AXIS_RADIUS = 3396.0
  B_AXIS_RADIUS = 3396.0
  C_AXIS_RADIUS = 3396.0
  CENTER_LATITUDE = 0.0
  CENTER_LONGITUDE = 125.0
  COORDINATE_SYSTEM_NAME = PLANETOGRAPHIC
  COORDINATE_SYSTEM_TYPE = "BODY-FIXED ROTATING"
  EASTERNMOST_LONGITUDE = 127.62
  FIRST_STANDARD_PARALLEL = "N/A"
  LINE_FIRST_PIXEL = 1
  LINE_LAST_PIXEL = 11674
  LINE_PROJECTION_OFFSET = 82457.625
  MAP_PROJECTION_ROTATION = 0.0
  MAP_PROJECTION_TYPE = SINUSOIDAL
  MAP_RESOLUTION = 1185.42760773333
  MAP_SCALE = 0.05
  MAXIMUM_LATITUDE = 69.52330000000001
  MINIMUM_LATITUDE = 59.7485
  POSITIVE_LONGITUDE_DIRECTION = EAST
  REFERENCE_LATITUDE = "N/A"
  REFERENCE_LONGITUDE = "N/A"
  SAMPLE_FIRST_PIXEL = 1
  SAMPLE_LAST_PIXEL = 2824
  SAMPLE_PROJECTION_OFFSET = 1296.875
  SECOND_STANDARD_PARALLEL = "N/A"
  WESTERNMOST_LONGITUDE = 121.844
END_OBJECT = IMAGE_MAP_PROJECTION
/* The JPEG2000 image data file associated with this label. */
OBJECT = COMPRESSED_FILE
  FILE_NAME = "HI053_0000_RE3.JP2"
  RECORD_TYPE = UNDEFINED
  FILE_RECORDS = UNK
  ENCODING_TYPE = "JP2"
  INTERCHANGE_FORMAT = BINARY
  UNCOMPRESSED_FILE_NAME = "HI053_0000_RE3.IMG"
  REQUIRED_STORAGE_BYTES = "32989968"
  ^DESCRIPTION = "JP2INFO.TXT"
END_OBJECT = COMPRESSED_FILE
END
