PDS_VERSION_ID = PDS3
/* FILE DATA ELEMENTS */
RECORD_TYPE = STREAM
/* POINTERS TO DATA OBJECTS */
^COMPRESSED_FILE = "HI053_0000_S13.JP2"
/* IDENTIFICATION DATA ELEMENTS */
DATA_SET_ID = "MEX-M-HRSC-5-REFDR-MAPPROJECTED-V3.0"
DATA_SET_NAME = "MARS EXPRESS HRSC MAP PROJECTED REFDR V3.0"
DETECTOR_ID = MEX_HRSC_S1
EVENT_TYPE = "MARS-REGIONAL-MAPPING-Im-Pf-Eo"
INSTRUMENT_HOST_ID = MEX
INSTRUMENT_HOST_NAME = "MARS EXPRESS"
INSTRUMENT_ID = HRSC
INSTRUMENT_NAME = "HIGH RESOLUTION STEREO CAMERA"
MISSION_NAME = "MARS EXPRESS"
MISSION_PHASE_NAME = ME_Phase_38
PROCESSING_LEVEL_ID = 3
PRODUCT_CREATION_TIME = 2018-09-04T13:05:27.000Z
PRODUCT_ID = "HI053_0000_S13.JP2"
RELEASE_ID = 0140
REVISION_ID = 0000
/* QUALITY DATA ELEMENTS */
DATA_QUALITY_ID = 1
DATA_QUALITY_DESC = "Data calculated based on original SPICE kernels"
/* TIME DATA ELEMENTS */
SPACECRAFT_CLOCK_START_COUNT = "1/0471188654.09076"
SPACECRAFT_CLOCK_STOP_COUNT = "1/0471188883.22406"
START_TIME = 2018-04-07T13:44:23.728Z
STOP_TIME = 2018-04-07T13:46:55.088Z
/* ORBITAL DATA ELEMENTS */
ASCENDING_NODE_LONGITUDE = 235.26
MAXIMUM_RESOLUTION = 32.8
FOOTPRINT_POINT_LATITUDE = (69.6787,69.6539,69.6271,69.5905, 69.5589,69.5252,69.4823,69.1569,68.7766 ,68.396,68.2053,68.0143,67.7278,67.441, 67.1539,66.8667,66.6749,66.3871,66.195, 66.0028,65.8109,65.6186,65.426,65.2334, 64.944,64.751,64.5581,64.3653,64.1721, 63.9789,63.7857,63.5923,63.3987,63.1084 ,62.9148,62.721,62.5275,62.3334,62.1396 ,61.9454,61.7515,61.5575,61.3633,61.165 ,60.9707,60.7762,60.4846,60.1928, 59.9982,59.8037,59.6948,59.7366,59.7643 ,59.7829,59.8054,60.0012,60.1967, 60.3924,60.6857,60.8812,61.1745,61.4709 ,61.7639,61.9592,62.252,62.4473,62.7398 ,62.935,63.1299,63.3248,63.6171,63.8118 ,64.0066,64.2013,64.3959,64.5905, 64.7848,64.9792,65.1734,65.3678,65.6591 ,65.8534,66.0474,66.2411,66.4349, 66.6285,66.8219,67.1123,67.3058,67.5955 ,67.7886,67.9818,68.1747,68.3677, 68.5606,68.7531,68.9455,69.2341,69.4261 ,69.6787)
FOOTPRINT_POINT_LONGITUDE = (125.513,124.947,124.382,123.676, 123.112,122.548,121.879,121.882,122.06, 122.231,122.313,122.395,122.513,122.629 ,122.741,122.85,122.92,123.024,123.092, 123.158,123.223,123.287,123.349,123.411 ,123.501,123.559,123.617,123.673, 123.729,123.783,123.837,123.889,123.94, 124.016,124.065,124.114,124.161,124.208 ,124.254,124.299,124.343,124.386, 124.429,124.472,124.513,124.553,124.612 ,124.67,124.708,124.744,125.148,125.935 ,126.53,126.963,127.568,127.543,127.517 ,127.491,127.452,127.425,127.384, 127.342,127.299,127.27,127.225,127.194, 127.148,127.116,127.084,127.051,127.001 ,126.967,126.933,126.897,126.862, 126.825,126.788,126.751,126.712,126.673 ,126.614,126.573,126.531,126.489, 126.446,126.403,126.359,126.291,126.244 ,126.173,126.124,126.075,126.024, 125.973,125.92,125.867,125.813,125.729, 125.673,125.513)
ORBIT_NUMBER = 18053
ORBITAL_ECCENTRICITY = 0.571
ORBITAL_INCLINATION = 86.98
ORBITAL_SEMIMAJOR_AXIS = 8763.58
PERIAPSIS_ALTITUDE = 384.07
PERIAPSIS_ARGUMENT_ANGLE = 108.73
PERIAPSIS_TIME = 2018-04-07T13:44:34.000Z
SPACECRAFT_ORIENTATION = (0.0,-1.0,0.0)
^MEX_ORIENTATION_DESC = "MEX_ORIENTATION_DESC.TXT"
SPACECRAFT_POINTING_MODE = ACROSSTRACK
^MEX_POINTING_DESC = "MEX_POINTING_DESC.TXT"
RIGHT_ASCENSION = -1e+32
DECLINATION = -1e+32
OFFSET_ANGLE = -0.18
SPACECRAFT_SOLAR_DISTANCE = 2.28011e+08
TARGET_NAME = MARS
/* CAMERA DATA ELEMENTS */
DETECTOR_TEMPERATURE = 18.1666
FOCAL_PLANE_TEMPERATURE = 10.4184
INST_CMPRS_NAME = "DISCRETE COSINE TRANSFORMATION (DCT)"
INST_CMPRS_RATIO = 10.4727
INST_CMPRS_QUALITY = 0
INST_CMPRS_QUANTZ_TBL_ID = 0
INSTRUMENT_TEMPERATURE = 11.234
LENS_TEMPERATURE = 10.8262
MACROPIXEL_SIZE = 2
MISSING_FRAMES = 1
PIXEL_SUBSAMPLING_FLAG = N
SIGNAL_CHAIN_ID = 1
/* RADIOMETRIC DATA ELEMENTS */
BANDWIDTH = 180.0
CENTER_FILTER_WAVELENGTH = 677.0
RADIANCE_OFFSET = 3.91264
RADIANCE_SCALING_FACTOR = 0.0103022
REFLECTANCE_SCALING_FACTOR = 0.000279438
MEX:REFLECTANCE_OFFSET = 0.106127
/* IMAGE OBJECT DEFINITIONS */
OBJECT = IMAGE
  INTERCHANGE_FORMAT = BINARY
  LINES = 23348
  LINE_SAMPLES = 5648
  SAMPLE_TYPE = UNSIGNED_INTEGER
  SAMPLE_BITS = 8
  BANDS = 1
  BAND_STORAGE_TYPE = BAND_SEQUENTIAL
  MAXIMUM = 255
  MEAN = 111.06
  MINIMUM = 1
  STANDARD_DEVIATION = 39.7543
END_OBJECT = IMAGE
/* MAP OBJECT DEFINITIONS */
OBJECT = IMAGE_MAP_PROJECTION
  ^DATA_SET_MAP_PROJECTION_CATALOG= "DSMAP.CAT"
  A_AXIS_RADIUS = 3396.0
  B_AXIS_RADIUS = 3396.0
  C_AXIS_RADIUS = 3396.0
  CENTER_LATITUDE = 0.0
  CENTER_LONGITUDE = 125.0
  COORDINATE_SYSTEM_NAME = PLANETOGRAPHIC
  COORDINATE_SYSTEM_TYPE = "BODY-FIXED ROTATING"
  EASTERNMOST_LONGITUDE = 127.568
  FIRST_STANDARD_PARALLEL = "N/A"
  LINE_FIRST_PIXEL = 1
  LINE_LAST_PIXEL = 23348
  LINE_PROJECTION_OFFSET = 164915.75
  MAP_PROJECTION_ROTATION = 0.0
  MAP_PROJECTION_TYPE = SINUSOIDAL
  MAP_RESOLUTION = 2370.85521546667
  MAP_SCALE = 0.025
  MAXIMUM_LATITUDE = 69.67870000000001
  MINIMUM_LATITUDE = 59.6948
  POSITIVE_LONGITUDE_DIRECTION = EAST
  REFERENCE_LATITUDE = "N/A"
  REFERENCE_LONGITUDE = "N/A"
  SAMPLE_FIRST_PIXEL = 1
  SAMPLE_LAST_PIXEL = 5648
  SAMPLE_PROJECTION_OFFSET = 2594.25
  SECOND_STANDARD_PARALLEL = "N/A"
  WESTERNMOST_LONGITUDE = 121.879
END_OBJECT = IMAGE_MAP_PROJECTION
/* The JPEG2000 image data file associated with this label. */
OBJECT = COMPRESSED_FILE
  FILE_NAME = "HI053_0000_S13.JP2"
  RECORD_TYPE = UNDEFINED
  FILE_RECORDS = UNK
  ENCODING_TYPE = "JP2"
  INTERCHANGE_FORMAT = BINARY
  UNCOMPRESSED_FILE_NAME = "HI053_0000_S13.IMG"
  REQUIRED_STORAGE_BYTES = "131897744"
  ^DESCRIPTION = "JP2INFO.TXT"
END_OBJECT = COMPRESSED_FILE
END
