PDS_VERSION_ID = PDS3
/* FILE DATA ELEMENTS */
RECORD_TYPE = STREAM
/* POINTERS TO DATA OBJECTS */
^COMPRESSED_FILE = "HI057_0000_P23.JP2"
/* IDENTIFICATION DATA ELEMENTS */
DATA_SET_ID = "MEX-M-HRSC-5-REFDR-MAPPROJECTED-V3.0"
DATA_SET_NAME = "MARS EXPRESS HRSC MAP PROJECTED REFDR V3.0"
DETECTOR_ID = MEX_HRSC_P2
EVENT_TYPE = "MARS-REGIONAL-MAPPING-Im-Pf-Eo"
INSTRUMENT_HOST_ID = MEX
INSTRUMENT_HOST_NAME = "MARS EXPRESS"
INSTRUMENT_ID = HRSC
INSTRUMENT_NAME = "HIGH RESOLUTION STEREO CAMERA"
MISSION_NAME = "MARS EXPRESS"
MISSION_PHASE_NAME = ME_Phase_38
PROCESSING_LEVEL_ID = 3
PRODUCT_CREATION_TIME = 2018-09-04T13:05:27.000Z
PRODUCT_ID = "HI057_0000_P23.JP2"
RELEASE_ID = 0140
REVISION_ID = 0000
/* QUALITY DATA ELEMENTS */
DATA_QUALITY_ID = 1
DATA_QUALITY_DESC = "Data calculated based on original SPICE kernels"
/* TIME DATA ELEMENTS */
SPACECRAFT_CLOCK_START_COUNT = "1/0471289169.07335"
SPACECRAFT_CLOCK_STOP_COUNT = "1/0471289379.39177"
START_TIME = 2018-04-08T17:40:30.467Z
STOP_TIME = 2018-04-08T17:42:56.838Z
/* ORBITAL DATA ELEMENTS */
ASCENDING_NODE_LONGITUDE = 235.17
MAXIMUM_RESOLUTION = 31.5
FOOTPRINT_POINT_LATITUDE = (73.0777,73.0326,72.9959,72.9291, 72.7714,72.5652,72.3593,72.1534,71.9473 ,71.7413,71.5351,71.329,71.1228,70.9167 ,70.7105,70.5043,70.2979,70.0919, 69.8857,69.6795,69.4734,69.2673,68.9581 ,68.7518,68.5456,68.3395,68.0302,67.721 ,67.5148,67.3087,66.9995,66.7932, 66.5871,66.381,66.1749,65.9688,65.7627, 65.4536,65.1445,64.9384,64.7324,64.5263 ,64.2173,64.0113,63.7022,63.3932, 63.1872,62.9811,62.6678,62.7035,62.7241 ,62.7498,62.7663,62.8903,63.0973, 63.3042,63.5112,63.7183,63.9253,64.1323 ,64.4429,64.7536,64.9609,65.2717,65.479 ,65.6861,65.8935,66.1009,66.3084, 66.5159,66.7233,66.9309,67.1384,67.346, 67.5537,67.8652,68.0731,68.3849,68.5927 ,68.8007,69.1126,69.3208,69.6329, 69.8411,70.0492,70.2575,70.4659,70.6744 ,70.8828,71.0914,71.4043,71.613,71.8216 ,72.0303,72.2392,72.448,72.6568,72.8657 ,73.0748,73.0777)
FOOTPRINT_POINT_LONGITUDE = (75.4904,74.4816,73.7283,72.4795, 71.9189,72.0608,72.1982,72.3322,72.4628 ,72.5901,72.7144,72.8356,72.9539, 73.0692,73.1818,73.2917,73.3994,73.5035 ,73.6058,73.7057,73.803,73.8981,74.0368 ,74.1271,74.215,74.301,74.4266,74.5479, 74.6267,74.7036,74.8161,74.8896,74.9611 ,75.0309,75.0994,75.1665,75.2322, 75.3284,75.4214,75.482,75.5414,75.5994, 75.6845,75.7396,75.8205,75.8991,75.9501 ,76.0003,76.4249,77.1189,77.553,78.1334 ,78.5401,79.0589,79.0265,78.9937, 78.9603,78.9264,78.8917,78.8566,78.8024 ,78.7471,78.7096,78.6515,78.6121, 78.5716,78.5307,78.489,78.4466,78.4033, 78.3591,78.3141,78.2681,78.2213,78.1735 ,78.1,78.05,77.9727,77.9198,77.8658, 77.7826,77.7259,77.6381,77.5779,77.5164 ,77.4536,77.3894,77.3238,77.2564, 77.1877,77.0814,77.0085,76.9336,76.857, 76.7784,76.6978,76.6152,76.5303,76.4435 ,75.4904)
ORBIT_NUMBER = 18057
ORBITAL_ECCENTRICITY = 0.571
ORBITAL_INCLINATION = 86.99
ORBITAL_SEMIMAJOR_AXIS = 8763.09
PERIAPSIS_ALTITUDE = 383.28
PERIAPSIS_ARGUMENT_ANGLE = 108.04
PERIAPSIS_TIME = 2018-04-08T17:40:29.000Z
SPACECRAFT_ORIENTATION = (0.0,-1.0,0.0)
^MEX_ORIENTATION_DESC = "MEX_ORIENTATION_DESC.TXT"
SPACECRAFT_POINTING_MODE = INERT
^MEX_POINTING_DESC = "MEX_POINTING_DESC.TXT"
RIGHT_ASCENSION = 166.657
DECLINATION = -63.291
OFFSET_ANGLE = -1e+32
SPACECRAFT_SOLAR_DISTANCE = 2.27785e+08
TARGET_NAME = MARS
/* CAMERA DATA ELEMENTS */
DETECTOR_TEMPERATURE = 18.5744
FOCAL_PLANE_TEMPERATURE = 8.5833
INST_CMPRS_NAME = "DISCRETE COSINE TRANSFORMATION (DCT)"
INST_CMPRS_RATIO = 9.24544
INST_CMPRS_QUALITY = 0
INST_CMPRS_QUANTZ_TBL_ID = 0
INSTRUMENT_TEMPERATURE = 12.0496
LENS_TEMPERATURE = 8.9911
MACROPIXEL_SIZE = 2
MISSING_FRAMES = 0
PIXEL_SUBSAMPLING_FLAG = N
SIGNAL_CHAIN_ID = 3
/* RADIOMETRIC DATA ELEMENTS */
BANDWIDTH = 177.0
CENTER_FILTER_WAVELENGTH = 676.5
RADIANCE_OFFSET = 3.37835
RADIANCE_SCALING_FACTOR = 0.0100763
REFLECTANCE_SCALING_FACTOR = 0.000277208
MEX:REFLECTANCE_OFFSET = 0.0929418
/* IMAGE OBJECT DEFINITIONS */
OBJECT = IMAGE
  INTERCHANGE_FORMAT = BINARY
  LINES = 24884
  LINE_SAMPLES = 6251
  SAMPLE_TYPE = UNSIGNED_INTEGER
  SAMPLE_BITS = 8
  BANDS = 1
  BAND_STORAGE_TYPE = BAND_SEQUENTIAL
  MAXIMUM = 255
  MEAN = 148.816
  MINIMUM = 1
  STANDARD_DEVIATION = 46.6643
END_OBJECT = IMAGE
/* MAP OBJECT DEFINITIONS */
OBJECT = IMAGE_MAP_PROJECTION
  ^DATA_SET_MAP_PROJECTION_CATALOG= "DSMAP.CAT"
  A_AXIS_RADIUS = 3396.0
  B_AXIS_RADIUS = 3396.0
  C_AXIS_RADIUS = 3396.0
  CENTER_LATITUDE = 0.0
  CENTER_LONGITUDE = 76.0
  COORDINATE_SYSTEM_NAME = PLANETOGRAPHIC
  COORDINATE_SYSTEM_TYPE = "BODY-FIXED ROTATING"
  EASTERNMOST_LONGITUDE = 79.05889999999999
  FIRST_STANDARD_PARALLEL = "N/A"
  LINE_FIRST_PIXEL = 1
  LINE_LAST_PIXEL = 24884
  LINE_PROJECTION_OFFSET = 173517.25
  MAP_PROJECTION_ROTATION = 0.0
  MAP_PROJECTION_TYPE = SINUSOIDAL
  MAP_RESOLUTION = 2370.85521546667
  MAP_SCALE = 0.025
  MAXIMUM_LATITUDE = 73.07769999999999
  MINIMUM_LATITUDE = 62.6678
  POSITIVE_LONGITUDE_DIRECTION = EAST
  REFERENCE_LATITUDE = "N/A"
  REFERENCE_LONGITUDE = "N/A"
  SAMPLE_FIRST_PIXEL = 1
  SAMPLE_LAST_PIXEL = 6251
  SAMPLE_PROJECTION_OFFSET = 2892.25
  SECOND_STANDARD_PARALLEL = "N/A"
  WESTERNMOST_LONGITUDE = 71.91889999999999
END_OBJECT = IMAGE_MAP_PROJECTION
/* The JPEG2000 image data file associated with this label. */
OBJECT = COMPRESSED_FILE
  FILE_NAME = "HI057_0000_P23.JP2"
  RECORD_TYPE = UNDEFINED
  FILE_RECORDS = UNK
  ENCODING_TYPE = "JP2"
  INTERCHANGE_FORMAT = BINARY
  UNCOMPRESSED_FILE_NAME = "HI057_0000_P23.IMG"
  REQUIRED_STORAGE_BYTES = "155581139"
  ^DESCRIPTION = "JP2INFO.TXT"
END_OBJECT = COMPRESSED_FILE
END
