PDS_VERSION_ID = PDS3
/* FILE DATA ELEMENTS */
RECORD_TYPE = STREAM
/* POINTERS TO DATA OBJECTS */
^COMPRESSED_FILE = "HI057_0000_S23.JP2"
/* IDENTIFICATION DATA ELEMENTS */
DATA_SET_ID = "MEX-M-HRSC-5-REFDR-MAPPROJECTED-V3.0"
DATA_SET_NAME = "MARS EXPRESS HRSC MAP PROJECTED REFDR V3.0"
DETECTOR_ID = MEX_HRSC_S2
EVENT_TYPE = "MARS-REGIONAL-MAPPING-Im-Pf-Eo"
INSTRUMENT_HOST_ID = MEX
INSTRUMENT_HOST_NAME = "MARS EXPRESS"
INSTRUMENT_ID = HRSC
INSTRUMENT_NAME = "HIGH RESOLUTION STEREO CAMERA"
MISSION_NAME = "MARS EXPRESS"
MISSION_PHASE_NAME = ME_Phase_38
PROCESSING_LEVEL_ID = 3
PRODUCT_CREATION_TIME = 2018-09-04T13:05:27.000Z
PRODUCT_ID = "HI057_0000_S23.JP2"
RELEASE_ID = 0140
REVISION_ID = 0000
/* QUALITY DATA ELEMENTS */
DATA_QUALITY_ID = 1
DATA_QUALITY_DESC = "Data calculated based on original SPICE kernels"
/* TIME DATA ELEMENTS */
SPACECRAFT_CLOCK_START_COUNT = "1/0471289169.07335"
SPACECRAFT_CLOCK_STOP_COUNT = "1/0471289379.39177"
START_TIME = 2018-04-08T17:40:40.950Z
STOP_TIME = 2018-04-08T17:43:07.195Z
/* ORBITAL DATA ELEMENTS */
ASCENDING_NODE_LONGITUDE = 235.17
MAXIMUM_RESOLUTION = 32.3
FOOTPRINT_POINT_LATITUDE = (73.0648,73.0173,72.9605,72.8788, 72.5814,72.2707,71.9602,71.7532,71.4426 ,71.2355,70.925,70.7179,70.5111,70.3039 ,70.0974,69.8904,69.6837,69.4772, 69.2706,69.0642,68.8573,68.6507,68.4443 ,68.1345,67.9282,67.7219,67.5155, 67.3094,67.0002,66.7938,66.5876,66.3817 ,66.1758,65.9699,65.764,65.4552,65.2496 ,65.0438,64.8381,64.6325,64.4269, 64.2214,64.016,63.8105,63.6052,63.3998, 63.1945,62.9893,62.687,62.7215,62.7431, 62.7799,62.8027,63.0088,63.215,63.4212, 63.6276,63.9371,64.1436,64.3498,64.5563 ,64.7634,64.9702,65.1769,65.3838, 65.6941,65.9012,66.1085,66.3158,66.5232 ,66.7306,66.9381,67.1456,67.3532, 67.5611,67.7687,67.9769,68.2889,68.6014 ,68.8096,69.0178,69.2264,69.5393, 69.8522,70.0608,70.2698,70.4791,70.6882 ,71.0022,71.2114,71.4212,71.6307, 71.8402,72.05,72.2599,72.4698,72.6798, 72.8899,73.1003,73.0648)
FOOTPRINT_POINT_LONGITUDE = (75.7496,74.6573,73.4882,71.9939, 72.0472,72.254,72.4526,72.5808,72.7672, 72.8877,73.0628,73.1762,73.2864,73.3946 ,73.4992,73.602,73.7022,73.7998,73.8953 ,73.9883,74.08,74.1693,74.2565,74.3837, 74.466,74.5466,74.6257,74.7026,74.8151, 74.8886,74.9603,75.0301,75.0986,75.1657 ,75.2313,75.3275,75.3896,75.4508, 75.5108,75.5695,75.6269,75.6833,75.7383 ,75.7925,75.8455,75.8975,75.9484, 75.9984,76.4454,77.1314,77.589,78.4497, 79.0352,79.0036,78.9716,78.9389,78.9059 ,78.8549,78.8203,78.7848,78.7487, 78.7125,78.6754,78.6374,78.5988,78.5393 ,78.4989,78.4578,78.4158,78.3731, 78.3294,78.2849,78.2394,78.193,78.1459, 78.0975,78.0485,77.9727,77.8948,77.8412 ,77.7865,77.7308,77.6447,77.5556, 77.4945,77.4322,77.3686,77.3033,77.2024 ,77.1331,77.0624,76.9897,76.9151, 76.8388,76.7606,76.6803,76.5979,76.5134 ,76.4268,75.7496)
ORBIT_NUMBER = 18057
ORBITAL_ECCENTRICITY = 0.571
ORBITAL_INCLINATION = 86.99
ORBITAL_SEMIMAJOR_AXIS = 8763.09
PERIAPSIS_ALTITUDE = 383.28
PERIAPSIS_ARGUMENT_ANGLE = 108.04
PERIAPSIS_TIME = 2018-04-08T17:40:29.000Z
SPACECRAFT_ORIENTATION = (0.0,-1.0,0.0)
^MEX_ORIENTATION_DESC = "MEX_ORIENTATION_DESC.TXT"
SPACECRAFT_POINTING_MODE = INERT
^MEX_POINTING_DESC = "MEX_POINTING_DESC.TXT"
RIGHT_ASCENSION = 166.657
DECLINATION = -63.291
OFFSET_ANGLE = -1e+32
SPACECRAFT_SOLAR_DISTANCE = 2.27785e+08
TARGET_NAME = MARS
/* CAMERA DATA ELEMENTS */
DETECTOR_TEMPERATURE = 18.5744
FOCAL_PLANE_TEMPERATURE = 8.5833
INST_CMPRS_NAME = "DISCRETE COSINE TRANSFORMATION (DCT)"
INST_CMPRS_RATIO = 15.3542
INST_CMPRS_QUALITY = 0
INST_CMPRS_QUANTZ_TBL_ID = 0
INSTRUMENT_TEMPERATURE = 12.0496
LENS_TEMPERATURE = 8.9911
MACROPIXEL_SIZE = 2
MISSING_FRAMES = 0
PIXEL_SUBSAMPLING_FLAG = N
SIGNAL_CHAIN_ID = 1
/* RADIOMETRIC DATA ELEMENTS */
BANDWIDTH = 178.0
CENTER_FILTER_WAVELENGTH = 679.0
RADIANCE_OFFSET = 3.62828
RADIANCE_SCALING_FACTOR = 0.0103891
REFLECTANCE_SCALING_FACTOR = 0.000285469
MEX:REFLECTANCE_OFFSET = 0.0996969
/* IMAGE OBJECT DEFINITIONS */
OBJECT = IMAGE
  INTERCHANGE_FORMAT = BINARY
  LINES = 24884
  LINE_SAMPLES = 6251
  SAMPLE_TYPE = UNSIGNED_INTEGER
  SAMPLE_BITS = 8
  BANDS = 1
  BAND_STORAGE_TYPE = BAND_SEQUENTIAL
  MAXIMUM = 255
  MEAN = 149.441
  MINIMUM = 1
  STANDARD_DEVIATION = 48.0947
END_OBJECT = IMAGE
/* MAP OBJECT DEFINITIONS */
OBJECT = IMAGE_MAP_PROJECTION
  ^DATA_SET_MAP_PROJECTION_CATALOG= "DSMAP.CAT"
  A_AXIS_RADIUS = 3396.0
  B_AXIS_RADIUS = 3396.0
  C_AXIS_RADIUS = 3396.0
  CENTER_LATITUDE = 0.0
  CENTER_LONGITUDE = 76.0
  COORDINATE_SYSTEM_NAME = PLANETOGRAPHIC
  COORDINATE_SYSTEM_TYPE = "BODY-FIXED ROTATING"
  EASTERNMOST_LONGITUDE = 79.0352
  FIRST_STANDARD_PARALLEL = "N/A"
  LINE_FIRST_PIXEL = 1
  LINE_LAST_PIXEL = 24884
  LINE_PROJECTION_OFFSET = 173517.25
  MAP_PROJECTION_ROTATION = 0.0
  MAP_PROJECTION_TYPE = SINUSOIDAL
  MAP_RESOLUTION = 2370.85521546667
  MAP_SCALE = 0.025
  MAXIMUM_LATITUDE = 73.1003
  MINIMUM_LATITUDE = 62.687
  POSITIVE_LONGITUDE_DIRECTION = EAST
  REFERENCE_LATITUDE = "N/A"
  REFERENCE_LONGITUDE = "N/A"
  SAMPLE_FIRST_PIXEL = 1
  SAMPLE_LAST_PIXEL = 6251
  SAMPLE_PROJECTION_OFFSET = 2892.25
  SECOND_STANDARD_PARALLEL = "N/A"
  WESTERNMOST_LONGITUDE = 71.9939
END_OBJECT = IMAGE_MAP_PROJECTION
/* The JPEG2000 image data file associated with this label. */
OBJECT = COMPRESSED_FILE
  FILE_NAME = "HI057_0000_S23.JP2"
  RECORD_TYPE = UNDEFINED
  FILE_RECORDS = UNK
  ENCODING_TYPE = "JP2"
  INTERCHANGE_FORMAT = BINARY
  UNCOMPRESSED_FILE_NAME = "HI057_0000_S23.IMG"
  REQUIRED_STORAGE_BYTES = "155581139"
  ^DESCRIPTION = "JP2INFO.TXT"
END_OBJECT = COMPRESSED_FILE
END
