PDS_VERSION_ID = PDS3
/* FILE DATA ELEMENTS */
RECORD_TYPE = STREAM
/* POINTERS TO DATA OBJECTS */
^COMPRESSED_FILE = "HI058_0000_S13.JP2"
/* IDENTIFICATION DATA ELEMENTS */
DATA_SET_ID = "MEX-M-HRSC-5-REFDR-MAPPROJECTED-V3.0"
DATA_SET_NAME = "MARS EXPRESS HRSC MAP PROJECTED REFDR V3.0"
DETECTOR_ID = MEX_HRSC_S1
EVENT_TYPE = "MARS-REGIONAL-MAPPING-Gl-Pf-Eo"
INSTRUMENT_HOST_ID = MEX
INSTRUMENT_HOST_NAME = "MARS EXPRESS"
INSTRUMENT_ID = HRSC
INSTRUMENT_NAME = "HIGH RESOLUTION STEREO CAMERA"
MISSION_NAME = "MARS EXPRESS"
MISSION_PHASE_NAME = ME_Phase_38
PROCESSING_LEVEL_ID = 3
PRODUCT_CREATION_TIME = 2018-09-04T13:05:27.000Z
PRODUCT_ID = "HI058_0000_S13.JP2"
RELEASE_ID = 0140
REVISION_ID = 0000
/* QUALITY DATA ELEMENTS */
DATA_QUALITY_ID = 1
DATA_QUALITY_DESC = "Data calculated based on original SPICE kernels"
/* TIME DATA ELEMENTS */
SPACECRAFT_CLOCK_START_COUNT = "1/0471314298.09053"
SPACECRAFT_CLOCK_STOP_COUNT = "1/0471314496.31409"
START_TIME = 2018-04-09T00:38:27.693Z
STOP_TIME = 2018-04-09T00:40:40.108Z
/* ORBITAL DATA ELEMENTS */
ASCENDING_NODE_LONGITUDE = 235.16
MAXIMUM_RESOLUTION = 32.2
FOOTPRINT_POINT_LATITUDE = (74.1804,74.1279,74.0725,74.0305, 73.9855,73.699,73.3304,73.0532,72.8682, 72.6831,72.4979,72.3126,72.1268,71.941, 71.755,71.4757,71.1959,71.0094,70.8226, 70.6356,70.4486,70.2616,70.0736,69.886, 69.6978,69.5094,69.2269,68.9442,68.7557 ,68.4726,68.2838,68.0943,67.9048, 67.7153,67.5254,67.3356,67.1455,66.8601 ,66.6697,66.3836,66.1927,66.0016, 65.7147,65.5232,65.3315,65.1395,64.8514 ,64.6592,64.4311,64.4616,64.5053, 64.5252,64.5523,64.5676,64.8577,65.0509 ,65.2439,65.4374,65.6298,65.9187, 66.2072,66.3995,66.5914,66.7833,66.9752 ,67.1668,67.4542,67.741,67.932,68.2183, 68.4091,68.6951,68.9806,69.1708,69.361, 69.551,69.7409,69.9305,70.1201,70.3094, 70.4988,70.688,70.8771,71.066,71.2548, 71.4436,71.7271,72.0092,72.1973,72.3854 ,72.5733,72.7612,72.9489,73.1365, 73.3241,73.5115,73.6987,73.8859,74.073, 74.1804)
FOOTPRINT_POINT_LONGITUDE = (333.024,331.794,330.66,329.879,329.101 ,329.157,329.438,329.641,329.772, 329.901,330.026,330.149,330.268,330.385 ,330.5,330.667,330.829,330.934,331.037, 331.137,331.236,331.332,331.426,331.519 ,331.609,331.698,331.828,331.954, 332.035,332.155,332.233,332.31,332.385, 332.458,332.53,332.601,332.67,332.772, 332.838,332.935,332.999,333.061,333.151 ,333.211,333.269,333.326,333.41,333.464 ,333.654,334.219,335.13,335.603,336.329 ,336.784,336.728,336.689,336.651, 336.611,336.571,336.51,336.448,336.405, 336.362,336.318,336.273,336.227,336.157 ,336.086,336.037,335.963,335.912, 335.833,335.753,335.698,335.643,335.586 ,335.528,335.469,335.409,335.348, 335.285,335.221,335.156,335.09,335.023, 334.953,334.846,334.737,334.662,334.585 ,334.507,334.427,334.345,334.261, 334.175,334.088,333.998,333.906,333.812 ,333.024)
ORBIT_NUMBER = 18058
ORBITAL_ECCENTRICITY = 0.57
ORBITAL_INCLINATION = 86.99
ORBITAL_SEMIMAJOR_AXIS = 8759.93
PERIAPSIS_ALTITUDE = 384.28
PERIAPSIS_ARGUMENT_ANGLE = 107.86
PERIAPSIS_TIME = 2018-04-09T00:39:25.000Z
SPACECRAFT_ORIENTATION = (0.0,-1.0,0.0)
^MEX_ORIENTATION_DESC = "MEX_ORIENTATION_DESC.TXT"
SPACECRAFT_POINTING_MODE = INERT
^MEX_POINTING_DESC = "MEX_POINTING_DESC.TXT"
RIGHT_ASCENSION = 166.327
DECLINATION = -63.198
OFFSET_ANGLE = -1e+32
SPACECRAFT_SOLAR_DISTANCE = 2.27728e+08
TARGET_NAME = MARS
/* CAMERA DATA ELEMENTS */
DETECTOR_TEMPERATURE = 17.7588
FOCAL_PLANE_TEMPERATURE = 8.5833
INST_CMPRS_NAME = "DISCRETE COSINE TRANSFORMATION (DCT)"
INST_CMPRS_RATIO = 13.0114
INST_CMPRS_QUALITY = 0
INST_CMPRS_QUANTZ_TBL_ID = 0
INSTRUMENT_TEMPERATURE = 11.234
LENS_TEMPERATURE = 8.9911
MACROPIXEL_SIZE = 2
MISSING_FRAMES = 0
PIXEL_SUBSAMPLING_FLAG = N
SIGNAL_CHAIN_ID = 1
/* RADIOMETRIC DATA ELEMENTS */
BANDWIDTH = 180.0
CENTER_FILTER_WAVELENGTH = 677.0
RADIANCE_OFFSET = 3.46548
RADIANCE_SCALING_FACTOR = 0.0146861
REFLECTANCE_SCALING_FACTOR = 0.00039736
MEX:REFLECTANCE_OFFSET = 0.0937651
/* IMAGE OBJECT DEFINITIONS */
OBJECT = IMAGE
  INTERCHANGE_FORMAT = BINARY
  LINES = 22846
  LINE_SAMPLES = 5887
  SAMPLE_TYPE = UNSIGNED_INTEGER
  SAMPLE_BITS = 8
  BANDS = 1
  BAND_STORAGE_TYPE = BAND_SEQUENTIAL
  MAXIMUM = 255
  MEAN = 112.066
  MINIMUM = 1
  STANDARD_DEVIATION = 46.1838
END_OBJECT = IMAGE
/* MAP OBJECT DEFINITIONS */
OBJECT = IMAGE_MAP_PROJECTION
  ^DATA_SET_MAP_PROJECTION_CATALOG= "DSMAP.CAT"
  A_AXIS_RADIUS = 3396.0
  B_AXIS_RADIUS = 3396.0
  C_AXIS_RADIUS = 3396.0
  CENTER_LATITUDE = 0.0
  CENTER_LONGITUDE = 334.0
  COORDINATE_SYSTEM_NAME = PLANETOGRAPHIC
  COORDINATE_SYSTEM_TYPE = "BODY-FIXED ROTATING"
  EASTERNMOST_LONGITUDE = 336.784
  FIRST_STANDARD_PARALLEL = "N/A"
  LINE_FIRST_PIXEL = 1
  LINE_LAST_PIXEL = 22846
  LINE_PROJECTION_OFFSET = 175672.25
  MAP_PROJECTION_ROTATION = 0.0
  MAP_PROJECTION_TYPE = SINUSOIDAL
  MAP_RESOLUTION = 2370.85521546667
  MAP_SCALE = 0.025
  MAXIMUM_LATITUDE = 74.18040000000001
  MINIMUM_LATITUDE = 64.4311
  POSITIVE_LONGITUDE_DIRECTION = EAST
  REFERENCE_LATITUDE = "N/A"
  REFERENCE_LONGITUDE = "N/A"
  SAMPLE_FIRST_PIXEL = 1
  SAMPLE_LAST_PIXEL = 5887
  SAMPLE_PROJECTION_OFFSET = 3186.25
  SECOND_STANDARD_PARALLEL = "N/A"
  WESTERNMOST_LONGITUDE = 329.101
END_OBJECT = IMAGE_MAP_PROJECTION
/* The JPEG2000 image data file associated with this label. */
OBJECT = COMPRESSED_FILE
  FILE_NAME = "HI058_0000_S13.JP2"
  RECORD_TYPE = UNDEFINED
  FILE_RECORDS = UNK
  ENCODING_TYPE = "JP2"
  INTERCHANGE_FORMAT = BINARY
  UNCOMPRESSED_FILE_NAME = "HI058_0000_S13.IMG"
  REQUIRED_STORAGE_BYTES = "134523837"
  ^DESCRIPTION = "JP2INFO.TXT"
END_OBJECT = COMPRESSED_FILE
END
