PDS_VERSION_ID = PDS3
/* FILE DATA ELEMENTS */
RECORD_TYPE = STREAM
/* POINTERS TO DATA OBJECTS */
^COMPRESSED_FILE = "HI058_0000_S23.JP2"
/* IDENTIFICATION DATA ELEMENTS */
DATA_SET_ID = "MEX-M-HRSC-5-REFDR-MAPPROJECTED-V3.0"
DATA_SET_NAME = "MARS EXPRESS HRSC MAP PROJECTED REFDR V3.0"
DETECTOR_ID = MEX_HRSC_S2
EVENT_TYPE = "MARS-REGIONAL-MAPPING-Gl-Pf-Eo"
INSTRUMENT_HOST_ID = MEX
INSTRUMENT_HOST_NAME = "MARS EXPRESS"
INSTRUMENT_ID = HRSC
INSTRUMENT_NAME = "HIGH RESOLUTION STEREO CAMERA"
MISSION_NAME = "MARS EXPRESS"
MISSION_PHASE_NAME = ME_Phase_38
PROCESSING_LEVEL_ID = 3
PRODUCT_CREATION_TIME = 2018-09-04T13:05:27.000Z
PRODUCT_ID = "HI058_0000_S23.JP2"
RELEASE_ID = 0140
REVISION_ID = 0000
/* QUALITY DATA ELEMENTS */
DATA_QUALITY_ID = 1
DATA_QUALITY_DESC = "Data calculated based on original SPICE kernels"
/* TIME DATA ELEMENTS */
SPACECRAFT_CLOCK_START_COUNT = "1/0471314298.09053"
SPACECRAFT_CLOCK_STOP_COUNT = "1/0471314496.31409"
START_TIME = 2018-04-09T00:39:30.463Z
STOP_TIME = 2018-04-09T00:41:44.078Z
/* ORBITAL DATA ELEMENTS */
ASCENDING_NODE_LONGITUDE = 235.16
MAXIMUM_RESOLUTION = 32.9
FOOTPRINT_POINT_LATITUDE = (73.9781,73.9293,73.8706,73.8342, 73.8365,73.6472,73.4573,73.2675,73.0779 ,72.8882,72.6986,72.5089,72.319,72.1295 ,71.9399,71.7504,71.5609,71.3714, 71.0872,70.8031,70.5191,70.3297,70.0458 ,69.8571,69.5741,69.3851,69.1019, 68.9131,68.7241,68.5351,68.3464,68.1577 ,67.9692,67.7807,67.498,67.3096,67.1211 ,66.8386,66.6504,66.4622,66.2741,65.992 ,65.804,65.6161,65.4281,65.1464,64.9586 ,64.7709,64.4894,64.5208,64.568,64.5975 ,64.7066,64.8954,65.0843,65.2732, 65.4618,65.6511,65.8402,66.0295,66.2187 ,66.4081,66.5975,66.7869,67.0713, 67.3557,67.5454,67.7353,68.0203,68.3056 ,68.4957,68.686,68.8764,69.1621,69.3526 ,69.5434,69.7342,69.925,70.116,70.3072, 70.4984,70.6897,70.881,71.1683,71.3599, 71.5513,71.7427,71.9354,72.1271,72.3193 ,72.5116,72.7039,72.8964,73.089,73.2816 ,73.4743,73.6672,73.86,74.053,73.9781)
FOOTPRINT_POINT_LONGITUDE = (333.295,332.119,330.861,330.146, 329.044,329.193,329.34,329.482,329.62, 329.756,329.888,330.016,330.142,330.265 ,330.385,330.502,330.616,330.727,330.89 ,331.047,331.199,331.298,331.441, 331.534,331.669,331.757,331.886,331.969 ,332.051,332.132,332.21,332.287,332.362 ,332.436,332.544,332.614,332.683, 332.784,332.849,332.913,332.976,333.068 ,333.128,333.187,333.245,333.329, 333.385,333.439,333.518,334.442,335.519 ,336.29,336.687,336.654,336.62,336.586, 336.551,336.516,336.479,336.443,336.405 ,336.367,336.329,336.289,336.229, 336.167,336.124,336.081,336.015,335.947 ,335.9,335.853,335.804,335.73,335.679, 335.627,335.574,335.52,335.465,335.409, 335.352,335.293,335.233,335.141,335.078 ,335.013,334.946,334.879,334.81,334.739 ,334.667,334.593,334.517,334.439, 334.359,334.278,334.194,334.108,334.02, 333.295)
ORBIT_NUMBER = 18058
ORBITAL_ECCENTRICITY = 0.57
ORBITAL_INCLINATION = 86.99
ORBITAL_SEMIMAJOR_AXIS = 8759.93
PERIAPSIS_ALTITUDE = 384.28
PERIAPSIS_ARGUMENT_ANGLE = 107.86
PERIAPSIS_TIME = 2018-04-09T00:39:25.000Z
SPACECRAFT_ORIENTATION = (0.0,-1.0,0.0)
^MEX_ORIENTATION_DESC = "MEX_ORIENTATION_DESC.TXT"
SPACECRAFT_POINTING_MODE = INERT
^MEX_POINTING_DESC = "MEX_POINTING_DESC.TXT"
RIGHT_ASCENSION = 166.327
DECLINATION = -63.198
OFFSET_ANGLE = -1e+32
SPACECRAFT_SOLAR_DISTANCE = 2.27728e+08
TARGET_NAME = MARS
/* CAMERA DATA ELEMENTS */
DETECTOR_TEMPERATURE = 19.1861
FOCAL_PLANE_TEMPERATURE = 8.5833
INST_CMPRS_NAME = "DISCRETE COSINE TRANSFORMATION (DCT)"
INST_CMPRS_RATIO = 16.1144
INST_CMPRS_QUALITY = 0
INST_CMPRS_QUANTZ_TBL_ID = 0
INSTRUMENT_TEMPERATURE = 11.234
LENS_TEMPERATURE = 8.9911
MACROPIXEL_SIZE = 2
MISSING_FRAMES = 0
PIXEL_SUBSAMPLING_FLAG = N
SIGNAL_CHAIN_ID = 1
/* RADIOMETRIC DATA ELEMENTS */
BANDWIDTH = 178.0
CENTER_FILTER_WAVELENGTH = 679.0
RADIANCE_OFFSET = 3.22514
RADIANCE_SCALING_FACTOR = 0.0124218
REFLECTANCE_SCALING_FACTOR = 0.000341151
MEX:REFLECTANCE_OFFSET = 0.0885752
/* IMAGE OBJECT DEFINITIONS */
OBJECT = IMAGE
  INTERCHANGE_FORMAT = BINARY
  LINES = 22846
  LINE_SAMPLES = 5887
  SAMPLE_TYPE = UNSIGNED_INTEGER
  SAMPLE_BITS = 8
  BANDS = 1
  BAND_STORAGE_TYPE = BAND_SEQUENTIAL
  MAXIMUM = 255
  MEAN = 113.717
  MINIMUM = 1
  STANDARD_DEVIATION = 49.5915
END_OBJECT = IMAGE
/* MAP OBJECT DEFINITIONS */
OBJECT = IMAGE_MAP_PROJECTION
  ^DATA_SET_MAP_PROJECTION_CATALOG= "DSMAP.CAT"
  A_AXIS_RADIUS = 3396.0
  B_AXIS_RADIUS = 3396.0
  C_AXIS_RADIUS = 3396.0
  CENTER_LATITUDE = 0.0
  CENTER_LONGITUDE = 334.0
  COORDINATE_SYSTEM_NAME = PLANETOGRAPHIC
  COORDINATE_SYSTEM_TYPE = "BODY-FIXED ROTATING"
  EASTERNMOST_LONGITUDE = 336.687
  FIRST_STANDARD_PARALLEL = "N/A"
  LINE_FIRST_PIXEL = 1
  LINE_LAST_PIXEL = 22846
  LINE_PROJECTION_OFFSET = 175672.25
  MAP_PROJECTION_ROTATION = 0.0
  MAP_PROJECTION_TYPE = SINUSOIDAL
  MAP_RESOLUTION = 2370.85521546667
  MAP_SCALE = 0.025
  MAXIMUM_LATITUDE = 74.053
  MINIMUM_LATITUDE = 64.4894
  POSITIVE_LONGITUDE_DIRECTION = EAST
  REFERENCE_LATITUDE = "N/A"
  REFERENCE_LONGITUDE = "N/A"
  SAMPLE_FIRST_PIXEL = 1
  SAMPLE_LAST_PIXEL = 5887
  SAMPLE_PROJECTION_OFFSET = 3186.25
  SECOND_STANDARD_PARALLEL = "N/A"
  WESTERNMOST_LONGITUDE = 329.044
END_OBJECT = IMAGE_MAP_PROJECTION
/* The JPEG2000 image data file associated with this label. */
OBJECT = COMPRESSED_FILE
  FILE_NAME = "HI058_0000_S23.JP2"
  RECORD_TYPE = UNDEFINED
  FILE_RECORDS = UNK
  ENCODING_TYPE = "JP2"
  INTERCHANGE_FORMAT = BINARY
  UNCOMPRESSED_FILE_NAME = "HI058_0000_S23.IMG"
  REQUIRED_STORAGE_BYTES = "134523837"
  ^DESCRIPTION = "JP2INFO.TXT"
END_OBJECT = COMPRESSED_FILE
END
