PDS_VERSION_ID = PDS3
/* FILE DATA ELEMENTS */
RECORD_TYPE = STREAM
/* POINTERS TO DATA OBJECTS */
^COMPRESSED_FILE = "HI059_0001_SR3.JP2"
/* IDENTIFICATION DATA ELEMENTS */
DATA_SET_ID = "MEX-M-HRSC-5-REFDR-MAPPROJECTED-V3.0"
DATA_SET_NAME = "MARS EXPRESS HRSC MAP PROJECTED REFDR V3.0"
DETECTOR_ID = MEX_HRSC_SRC
EVENT_TYPE = "MARS-LOCAL-CARTOGRAPHY-Pf-Ot"
INSTRUMENT_HOST_ID = MEX
INSTRUMENT_HOST_NAME = "MARS EXPRESS"
INSTRUMENT_ID = HRSC
INSTRUMENT_NAME = "HIGH RESOLUTION STEREO CAMERA"
MISSION_NAME = "MARS EXPRESS"
MISSION_PHASE_NAME = ME_Phase_38
PROCESSING_LEVEL_ID = 3
PRODUCT_CREATION_TIME = 2018-09-04T13:05:27.000Z
PRODUCT_ID = "HI059_0001_SR3.JP2"
RELEASE_ID = 0140
REVISION_ID = 0000
/* QUALITY DATA ELEMENTS */
DATA_QUALITY_ID = 1
DATA_QUALITY_DESC = "Data calculated based on original SPICE kernels"
/* TIME DATA ELEMENTS */
SPACECRAFT_CLOCK_START_COUNT = "1/0471339441.07302"
SPACECRAFT_CLOCK_STOP_COUNT = "1/0471339628.33010"
IMAGE_TIME = 2018-04-09T07:39:21.059Z
START_TIME = 2018-04-09T07:39:20.801Z
STOP_TIME = 2018-04-09T07:39:21.317Z
/* ORBITAL DATA ELEMENTS */
ASCENDING_NODE_LONGITUDE = 235.14
MAXIMUM_RESOLUTION = 3.581
FOOTPRINT_POINT_LATITUDE = (68.3125,68.3148,68.3165,68.3182, 68.3207,68.3227,68.3242,68.3262,68.3292 ,68.3328,68.3348,68.3373,68.3391, 68.3412,68.343,68.3448,68.3467,68.3503, 68.3526,68.3543,68.3571,68.3595,68.3623 ,68.3643,68.3672,68.3701,68.3704, 68.3706,68.3708,68.371,68.3712,68.3714, 68.3717,68.3719,68.3721,68.3723,68.3725 ,68.3727,68.3729,68.3731,68.3733, 68.3735,68.3737,68.3739,68.3741,68.3743 ,68.3745,68.3747,68.3749,68.3751, 68.3749,68.3725,68.3705,68.368,68.366, 68.3633,68.3614,68.359,68.3561,68.354, 68.3507,68.3489,68.3463,68.3433,68.3408 ,68.3381,68.3362,68.3332,68.3301, 68.3281,68.3245,68.3221,68.3191,68.315, 68.3141,68.3139,68.3137,68.3135,68.3133 ,68.3131,68.3129,68.3127,68.3125, 68.3123,68.3121,68.3119,68.3117,68.3115 ,68.3113,68.3111,68.3109,68.3107, 68.3105,68.3103,68.3101,68.3099,68.3097 ,68.3095,68.3092,68.3125)
FOOTPRINT_POINT_LONGITUDE = (234.169,234.169,234.168,234.168, 234.167,234.167,234.167,234.166,234.166 ,234.165,234.164,234.164,234.163, 234.163,234.162,234.162,234.162,234.161 ,234.16,234.16,234.159,234.159,234.158, 234.158,234.157,234.156,234.163,234.17, 234.178,234.184,234.191,234.198,234.204 ,234.211,234.218,234.224,234.231, 234.238,234.244,234.251,234.257,234.264 ,234.271,234.277,234.284,234.291, 234.297,234.304,234.311,234.317,234.325 ,234.326,234.326,234.327,234.327, 234.328,234.328,234.329,234.329,234.33, 234.33,234.331,234.331,234.332,234.333, 234.333,234.334,234.334,234.335,234.335 ,234.336,234.337,234.337,234.338,234.33 ,234.323,234.317,234.31,234.304,234.297 ,234.29,234.284,234.277,234.27,234.264, 234.257,234.25,234.244,234.237,234.231, 234.224,234.217,234.211,234.204,234.197 ,234.191,234.184,234.178,234.171, 234.169)
ORBIT_NUMBER = 18059
ORBITAL_ECCENTRICITY = 0.571
ORBITAL_INCLINATION = 86.99
ORBITAL_SEMIMAJOR_AXIS = 8759.07
PERIAPSIS_ALTITUDE = 383.5
PERIAPSIS_ARGUMENT_ANGLE = 107.68
PERIAPSIS_TIME = 2018-04-09T07:38:21.000Z
SPACECRAFT_ORIENTATION = (0.0,-1.0,0.0)
^MEX_ORIENTATION_DESC = "MEX_ORIENTATION_DESC.TXT"
SPACECRAFT_POINTING_MODE = ACROSSTRACK
^MEX_POINTING_DESC = "MEX_POINTING_DESC.TXT"
RIGHT_ASCENSION = -1e+32
DECLINATION = -1e+32
OFFSET_ANGLE = 0.79
SPACECRAFT_SOLAR_DISTANCE = 2.27672e+08
TARGET_NAME = MARS
/* CAMERA DATA ELEMENTS */
BUFFER_MODE_ID = BUFFER_8
EXPOSURE_DURATION = 516.096
INST_CMPRS_NAME = NONE
INST_CMPRS_RATIO = 1.0
INST_CMPRS_QUALITY = -2147483648
INST_CMPRS_QUANTZ_TBL_ID = -2147483648
INSTRUMENT_TEMPERATURE = 7.31737
MISSING_FRAMES = 0
START_BIT = 0
/* RADIOMETRIC DATA ELEMENTS */
BANDWIDTH = 250.0
CENTER_FILTER_WAVELENGTH = 600.0
RADIANCE_OFFSET = -9.99e+31
RADIANCE_SCALING_FACTOR = -9.99e+31
REFLECTANCE_SCALING_FACTOR = -9.99e+31
MEX:REFLECTANCE_OFFSET = -9.99e+31
/* IMAGE OBJECT DEFINITIONS */
OBJECT = IMAGE
  INTERCHANGE_FORMAT = BINARY
  LINES = 1677
  LINE_SAMPLES = 1712
  SAMPLE_TYPE = UNSIGNED_INTEGER
  SAMPLE_BITS = 8
  BANDS = 1
  BAND_STORAGE_TYPE = BAND_SEQUENTIAL
  MAXIMUM = 255
  MEAN = 254.995
  MINIMUM = 35
  STANDARD_DEVIATION = 0.648353
END_OBJECT = IMAGE
/* MAP OBJECT DEFINITIONS */
OBJECT = IMAGE_MAP_PROJECTION
  ^DATA_SET_MAP_PROJECTION_CATALOG= "DSMAP.CAT"
  A_AXIS_RADIUS = 3396.19
  B_AXIS_RADIUS = 3396.19
  C_AXIS_RADIUS = 3396.19
  CENTER_LATITUDE = 0.0
  CENTER_LONGITUDE = 234.0
  COORDINATE_SYSTEM_NAME = PLANETOGRAPHIC
  COORDINATE_SYSTEM_TYPE = "BODY-FIXED ROTATING"
  EASTERNMOST_LONGITUDE = 234.338
  FIRST_STANDARD_PARALLEL = "N/A"
  LINE_FIRST_PIXEL = 1
  LINE_LAST_PIXEL = 1677
  LINE_PROJECTION_OFFSET = 1617920.0
  MAP_PROJECTION_ROTATION = 0.0
  MAP_PROJECTION_TYPE = SINUSOIDAL
  MAP_RESOLUTION = 23709.8786048756
  MAP_SCALE = 0.0025
  MAXIMUM_LATITUDE = 68.3751
  MINIMUM_LATITUDE = 68.3092
  POSITIVE_LONGITUDE_DIRECTION = EAST
  REFERENCE_LATITUDE = "N/A"
  REFERENCE_LONGITUDE = "N/A"
  SAMPLE_FIRST_PIXEL = 1
  SAMPLE_LAST_PIXEL = 1712
  SAMPLE_PROJECTION_OFFSET = -2279.0
  SECOND_STANDARD_PARALLEL = "N/A"
  WESTERNMOST_LONGITUDE = 234.156
END_OBJECT = IMAGE_MAP_PROJECTION
/* The JPEG2000 image data file associated with this label. */
OBJECT = COMPRESSED_FILE
  FILE_NAME = "HI059_0001_SR3.JP2"
  RECORD_TYPE = UNDEFINED
  FILE_RECORDS = UNK
  ENCODING_TYPE = "JP2"
  INTERCHANGE_FORMAT = BINARY
  UNCOMPRESSED_FILE_NAME = "HI059_0001_SR3.IMG"
  REQUIRED_STORAGE_BYTES = "2891568"
  ^DESCRIPTION = "JP2INFO.TXT"
END_OBJECT = COMPRESSED_FILE
END
