PDS_VERSION_ID = PDS3
/* FILE DATA ELEMENTS */
RECORD_TYPE = STREAM
/* POINTERS TO DATA OBJECTS */
^COMPRESSED_FILE = "HI060_0000_P23.JP2"
/* IDENTIFICATION DATA ELEMENTS */
DATA_SET_ID = "MEX-M-HRSC-5-REFDR-MAPPROJECTED-V3.0"
DATA_SET_NAME = "MARS EXPRESS HRSC MAP PROJECTED REFDR V3.0"
DETECTOR_ID = MEX_HRSC_P2
EVENT_TYPE = "MARS-REGIONAL-MAPPING-Im-Pf-Eo"
INSTRUMENT_HOST_ID = MEX
INSTRUMENT_HOST_NAME = "MARS EXPRESS"
INSTRUMENT_ID = HRSC
INSTRUMENT_NAME = "HIGH RESOLUTION STEREO CAMERA"
MISSION_NAME = "MARS EXPRESS"
MISSION_PHASE_NAME = ME_Phase_38
PROCESSING_LEVEL_ID = 3
PRODUCT_CREATION_TIME = 2018-09-04T13:05:27.000Z
PRODUCT_ID = "HI060_0000_P23.JP2"
RELEASE_ID = 0140
REVISION_ID = 0000
/* QUALITY DATA ELEMENTS */
DATA_QUALITY_ID = 1
DATA_QUALITY_DESC = "Data calculated based on original SPICE kernels"
/* TIME DATA ELEMENTS */
SPACECRAFT_CLOCK_START_COUNT = "1/0471364634.09051"
SPACECRAFT_CLOCK_STOP_COUNT = "1/0471364922.62843"
START_TIME = 2018-04-09T14:38:22.232Z
STOP_TIME = 2018-04-09T14:41:55.299Z
/* ORBITAL DATA ELEMENTS */
ASCENDING_NODE_LONGITUDE = 235.13
MAXIMUM_RESOLUTION = 64.3
FOOTPRINT_POINT_LATITUDE = (69.8737,69.8259,69.7716,69.5534, 69.2926,69.0318,68.6404,68.3796,68.1189 ,67.8587,67.5982,67.3381,66.9477, 66.6877,66.4278,66.168,65.908,65.6484, 65.2612,65.0002,64.6128,64.3542,64.0958 ,63.8376,63.5798,63.3221,63.0648,62.679 ,62.422,62.1653,61.9089,61.517,61.2542, 60.9917,60.7295,60.467,60.2061,59.9441, 59.5429,59.2754,59.0084,58.7416,58.4753 ,58.0693,57.7972,57.5252,57.2535, 56.9825,56.7065,56.7138,56.7313,56.7448 ,56.7555,56.7722,57.0497,57.3225, 57.5953,57.8683,58.1421,58.5503,58.818, 59.2201,59.4884,59.7575,60.1589,60.4216 ,60.6847,60.9482,61.2121,61.4761, 61.7405,62.0031,62.261,62.5192,62.7777, 63.0364,63.2957,63.6842,64.0746,64.3345 ,64.5946,64.8552,65.1161,65.5077, 65.7688,66.0303,66.292,66.685,66.9473, 67.2099,67.4724,67.7351,67.998,68.3929, 68.6562,68.9196,69.1832,69.5789,69.8428 ,69.8737)
FOOTPRINT_POINT_LONGITUDE = (129.574,128.464,127.353,126.655, 126.782,126.907,127.086,127.202,127.314 ,127.422,127.528,127.631,127.78,127.876 ,127.97,128.061,128.15,128.236,128.358, 128.442,128.557,128.633,128.706,128.777 ,128.847,128.915,128.98,129.076,129.138 ,129.199,129.257,129.345,129.401, 129.457,129.51,129.564,129.614,129.664, 129.738,129.786,129.832,129.878,129.922 ,129.987,130.029,130.071,130.111,130.15 ,130.189,130.995,131.53,131.984,132.384 ,133.058,133.028,132.997,132.966, 132.934,132.901,132.851,132.818,132.766 ,132.731,132.695,132.639,132.602, 132.564,132.526,132.486,132.445,132.404 ,132.362,132.32,132.277,132.233,132.188 ,132.142,132.07,131.997,131.947,131.895 ,131.842,131.788,131.704,131.647, 131.588,131.527,131.434,131.37,131.304, 131.236,131.167,131.095,130.985,130.908 ,130.83,130.749,130.624,130.538, 129.574)
ORBIT_NUMBER = 18060
ORBITAL_ECCENTRICITY = 0.571
ORBITAL_INCLINATION = 86.98
ORBITAL_SEMIMAJOR_AXIS = 8762.13
PERIAPSIS_ALTITUDE = 384.74
PERIAPSIS_ARGUMENT_ANGLE = 107.52
PERIAPSIS_TIME = 2018-04-09T14:37:23.000Z
SPACECRAFT_ORIENTATION = (0.0,-1.0,0.0)
^MEX_ORIENTATION_DESC = "MEX_ORIENTATION_DESC.TXT"
SPACECRAFT_POINTING_MODE = ACROSSTRACK
^MEX_POINTING_DESC = "MEX_POINTING_DESC.TXT"
RIGHT_ASCENSION = -1e+32
DECLINATION = -1e+32
OFFSET_ANGLE = -0.23
SPACECRAFT_SOLAR_DISTANCE = 2.27615e+08
TARGET_NAME = MARS
/* CAMERA DATA ELEMENTS */
DETECTOR_TEMPERATURE = 19.7978
FOCAL_PLANE_TEMPERATURE = 10.4184
INST_CMPRS_NAME = "DISCRETE COSINE TRANSFORMATION (DCT)"
INST_CMPRS_RATIO = 15.1562
INST_CMPRS_QUALITY = 0
INST_CMPRS_QUANTZ_TBL_ID = 0
INSTRUMENT_TEMPERATURE = 12.2535
LENS_TEMPERATURE = 9.6028
MACROPIXEL_SIZE = 4
MISSING_FRAMES = 0
PIXEL_SUBSAMPLING_FLAG = N
SIGNAL_CHAIN_ID = 3
/* RADIOMETRIC DATA ELEMENTS */
BANDWIDTH = 177.0
CENTER_FILTER_WAVELENGTH = 676.5
RADIANCE_OFFSET = 3.76594
RADIANCE_SCALING_FACTOR = 0.0127314
REFLECTANCE_SCALING_FACTOR = 0.000349729
MEX:REFLECTANCE_OFFSET = 0.10345
/* IMAGE OBJECT DEFINITIONS */
OBJECT = IMAGE
  INTERCHANGE_FORMAT = BINARY
  LINES = 15812
  LINE_SAMPLES = 3085
  SAMPLE_TYPE = UNSIGNED_INTEGER
  SAMPLE_BITS = 8
  BANDS = 1
  BAND_STORAGE_TYPE = BAND_SEQUENTIAL
  MAXIMUM = 255
  MEAN = 111.508
  MINIMUM = 1
  STANDARD_DEVIATION = 25.691
END_OBJECT = IMAGE
/* MAP OBJECT DEFINITIONS */
OBJECT = IMAGE_MAP_PROJECTION
  ^DATA_SET_MAP_PROJECTION_CATALOG= "DSMAP.CAT"
  A_AXIS_RADIUS = 3396.0
  B_AXIS_RADIUS = 3396.0
  C_AXIS_RADIUS = 3396.0
  CENTER_LATITUDE = 0.0
  CENTER_LONGITUDE = 131.0
  COORDINATE_SYSTEM_NAME = PLANETOGRAPHIC
  COORDINATE_SYSTEM_TYPE = "BODY-FIXED ROTATING"
  EASTERNMOST_LONGITUDE = 133.058
  FIRST_STANDARD_PARALLEL = "N/A"
  LINE_FIRST_PIXEL = 1
  LINE_LAST_PIXEL = 15812
  LINE_PROJECTION_OFFSET = 82975.875
  MAP_PROJECTION_ROTATION = 0.0
  MAP_PROJECTION_TYPE = SINUSOIDAL
  MAP_RESOLUTION = 1185.42760773333
  MAP_SCALE = 0.05
  MAXIMUM_LATITUDE = 69.8737
  MINIMUM_LATITUDE = 56.7065
  POSITIVE_LONGITUDE_DIRECTION = EAST
  REFERENCE_LATITUDE = "N/A"
  REFERENCE_LONGITUDE = "N/A"
  SAMPLE_FIRST_PIXEL = 1
  SAMPLE_LAST_PIXEL = 3085
  SAMPLE_PROJECTION_OFFSET = 1792.875
  SECOND_STANDARD_PARALLEL = "N/A"
  WESTERNMOST_LONGITUDE = 126.655
END_OBJECT = IMAGE_MAP_PROJECTION
/* The JPEG2000 image data file associated with this label. */
OBJECT = COMPRESSED_FILE
  FILE_NAME = "HI060_0000_P23.JP2"
  RECORD_TYPE = UNDEFINED
  FILE_RECORDS = UNK
  ENCODING_TYPE = "JP2"
  INTERCHANGE_FORMAT = BINARY
  UNCOMPRESSED_FILE_NAME = "HI060_0000_P23.IMG"
  REQUIRED_STORAGE_BYTES = "48801615"
  ^DESCRIPTION = "JP2INFO.TXT"
END_OBJECT = COMPRESSED_FILE
END
