PDS_VERSION_ID = PDS3
/* FILE DATA ELEMENTS */
RECORD_TYPE = STREAM
/* POINTERS TO DATA OBJECTS */
^COMPRESSED_FILE = "HI065_0000_P23.JP2"
/* IDENTIFICATION DATA ELEMENTS */
DATA_SET_ID = "MEX-M-HRSC-5-REFDR-MAPPROJECTED-V3.0"
DATA_SET_NAME = "MARS EXPRESS HRSC MAP PROJECTED REFDR V3.0"
DETECTOR_ID = MEX_HRSC_P2
EVENT_TYPE = "MARS-REGIONAL-MAPPING-Im-Pf-Eo"
INSTRUMENT_HOST_ID = MEX
INSTRUMENT_HOST_NAME = "MARS EXPRESS"
INSTRUMENT_ID = HRSC
INSTRUMENT_NAME = "HIGH RESOLUTION STEREO CAMERA"
MISSION_NAME = "MARS EXPRESS"
MISSION_PHASE_NAME = ME_Phase_38
PROCESSING_LEVEL_ID = 3
PRODUCT_CREATION_TIME = 2018-09-04T13:05:27.000Z
PRODUCT_ID = "HI065_0000_P23.JP2"
RELEASE_ID = 0140
REVISION_ID = 0000
/* QUALITY DATA ELEMENTS */
DATA_QUALITY_ID = 1
DATA_QUALITY_DESC = "Data calculated based on original SPICE kernels"
/* TIME DATA ELEMENTS */
SPACECRAFT_CLOCK_START_COUNT = "1/0471490390.09061"
SPACECRAFT_CLOCK_STOP_COUNT = "1/0471490604.55800"
START_TIME = 2018-04-11T01:34:19.233Z
STOP_TIME = 2018-04-11T01:36:37.336Z
/* ORBITAL DATA ELEMENTS */
ASCENDING_NODE_LONGITUDE = 235.03
MAXIMUM_RESOLUTION = 33.1
FOOTPRINT_POINT_LATITUDE = (66.6224,66.6032,66.5826,66.5607, 66.5373,66.5125,66.334,66.1665,65.999, 65.8311,65.6643,65.497,65.2464,64.9958, 64.7457,64.579,64.4124,64.0793,63.7467, 63.4144,63.0825,62.7512,62.5812,62.4114 ,62.2416,62.0719,61.9025,61.7331, 61.5637,61.3946,61.2257,61.0568,60.888, 60.6293,60.4565,60.284,60.1114,59.939, 59.7666,59.5942,59.422,59.2501,59.0741, 58.8101,58.6344,58.4588,58.2834,58.1082 ,58.106,58.1219,58.1388,58.1547,58.1658 ,58.1811,58.2799,58.4559,58.6321, 58.8969,59.0734,59.2502,59.5117,59.6843 ,59.9438,60.1169,60.2902,60.4636, 60.6372,60.8109,60.9847,61.1542,61.4088 ,61.5787,61.7487,61.9189,62.0891, 62.2595,62.5154,62.6862,62.9407,63.274, 63.6076,63.7746,63.9418,64.1091,64.2764 ,64.4438,64.6952,64.8629,65.0307, 65.1986,65.3667,65.5348,65.7031,65.8714 ,66.0399,66.2084,66.377,66.5458,66.7146 ,66.6224)
FOOTPRINT_POINT_LONGITUDE = (341.955,341.43,340.908,340.389,339.874 ,339.362,339.102,339.148,339.193, 339.238,339.282,339.324,339.387,339.448 ,339.508,339.546,339.585,339.659,339.73 ,339.799,339.866,339.931,339.963, 339.994,340.025,340.056,340.086,340.115 ,340.144,340.172,340.2,340.228,340.255, 340.295,340.321,340.347,340.372,340.397 ,340.422,340.446,340.47,340.493,340.516 ,340.55,340.572,340.594,340.616,340.637 ,341.036,341.436,341.895,342.356, 342.703,343.227,343.611,343.596,343.581 ,343.559,343.543,343.528,343.504, 343.488,343.464,343.447,343.431,343.414 ,343.397,343.379,343.362,343.344, 343.317,343.299,343.281,343.262,343.243 ,343.224,343.194,343.174,343.144, 343.103,343.061,343.04,343.018,342.996, 342.973,342.95,342.916,342.892,342.868, 342.843,342.818,342.793,342.767,342.741 ,342.715,342.688,342.66,342.632,342.604 ,341.955)
ORBIT_NUMBER = 18065
ORBITAL_ECCENTRICITY = 0.57
ORBITAL_INCLINATION = 86.99
ORBITAL_SEMIMAJOR_AXIS = 8758.99
PERIAPSIS_ALTITUDE = 384.65
PERIAPSIS_ARGUMENT_ANGLE = 106.65
PERIAPSIS_TIME = 2018-04-11T01:32:13.000Z
SPACECRAFT_ORIENTATION = (0.0,-1.0,0.0)
^MEX_ORIENTATION_DESC = "MEX_ORIENTATION_DESC.TXT"
SPACECRAFT_POINTING_MODE = ACROSSTRACK
^MEX_POINTING_DESC = "MEX_POINTING_DESC.TXT"
RIGHT_ASCENSION = -1e+32
DECLINATION = -1e+32
OFFSET_ANGLE = 0.4
SPACECRAFT_SOLAR_DISTANCE = 2.27331e+08
TARGET_NAME = MARS
/* CAMERA DATA ELEMENTS */
DETECTOR_TEMPERATURE = 19.39
FOCAL_PLANE_TEMPERATURE = 10.2145
INST_CMPRS_NAME = "DISCRETE COSINE TRANSFORMATION (DCT)"
INST_CMPRS_RATIO = 11.0065
INST_CMPRS_QUALITY = 0
INST_CMPRS_QUANTZ_TBL_ID = 0
INSTRUMENT_TEMPERATURE = 11.6418
LENS_TEMPERATURE = 10.6223
MACROPIXEL_SIZE = 2
MISSING_FRAMES = 0
PIXEL_SUBSAMPLING_FLAG = N
SIGNAL_CHAIN_ID = 3
/* RADIOMETRIC DATA ELEMENTS */
BANDWIDTH = 177.0
CENTER_FILTER_WAVELENGTH = 676.5
RADIANCE_OFFSET = 3.69718
RADIANCE_SCALING_FACTOR = 0.0081124
REFLECTANCE_SCALING_FACTOR = 0.000222292
MEX:REFLECTANCE_OFFSET = 0.101308
/* IMAGE OBJECT DEFINITIONS */
OBJECT = IMAGE
  INTERCHANGE_FORMAT = BINARY
  LINES = 20456
  LINE_SAMPLES = 4698
  SAMPLE_TYPE = UNSIGNED_INTEGER
  SAMPLE_BITS = 8
  BANDS = 1
  BAND_STORAGE_TYPE = BAND_SEQUENTIAL
  MAXIMUM = 254
  MEAN = 146.689
  MINIMUM = 1
  STANDARD_DEVIATION = 30.6661
END_OBJECT = IMAGE
/* MAP OBJECT DEFINITIONS */
OBJECT = IMAGE_MAP_PROJECTION
  ^DATA_SET_MAP_PROJECTION_CATALOG= "DSMAP.CAT"
  A_AXIS_RADIUS = 3396.0
  B_AXIS_RADIUS = 3396.0
  C_AXIS_RADIUS = 3396.0
  CENTER_LATITUDE = 0.0
  CENTER_LONGITUDE = 342.0
  COORDINATE_SYSTEM_NAME = PLANETOGRAPHIC
  COORDINATE_SYSTEM_TYPE = "BODY-FIXED ROTATING"
  EASTERNMOST_LONGITUDE = 343.611
  FIRST_STANDARD_PARALLEL = "N/A"
  LINE_FIRST_PIXEL = 1
  LINE_LAST_PIXEL = 20456
  LINE_PROJECTION_OFFSET = 158136.25
  MAP_PROJECTION_ROTATION = 0.0
  MAP_PROJECTION_TYPE = SINUSOIDAL
  MAP_RESOLUTION = 2370.85521546667
  MAP_SCALE = 0.025
  MAXIMUM_LATITUDE = 66.7146
  MINIMUM_LATITUDE = 58.106
  POSITIVE_LONGITUDE_DIRECTION = EAST
  REFERENCE_LATITUDE = "N/A"
  REFERENCE_LONGITUDE = "N/A"
  SAMPLE_FIRST_PIXEL = 1
  SAMPLE_LAST_PIXEL = 4698
  SAMPLE_PROJECTION_OFFSET = 2762.25
  SECOND_STANDARD_PARALLEL = "N/A"
  WESTERNMOST_LONGITUDE = 339.102
END_OBJECT = IMAGE_MAP_PROJECTION
/* The JPEG2000 image data file associated with this label. */
OBJECT = COMPRESSED_FILE
  FILE_NAME = "HI065_0000_P23.JP2"
  RECORD_TYPE = UNDEFINED
  FILE_RECORDS = UNK
  ENCODING_TYPE = "JP2"
  INTERCHANGE_FORMAT = BINARY
  UNCOMPRESSED_FILE_NAME = "HI065_0000_P23.IMG"
  REQUIRED_STORAGE_BYTES = "96125778"
  ^DESCRIPTION = "JP2INFO.TXT"
END_OBJECT = COMPRESSED_FILE
END
