PDS_VERSION_ID = PDS3
/* FILE DATA ELEMENTS */
RECORD_TYPE = STREAM
/* POINTERS TO DATA OBJECTS */
^COMPRESSED_FILE = "HI070_0000_BL3.JP2"
/* IDENTIFICATION DATA ELEMENTS */
DATA_SET_ID = "MEX-M-HRSC-5-REFDR-MAPPROJECTED-V3.0"
DATA_SET_NAME = "MARS EXPRESS HRSC MAP PROJECTED REFDR V3.0"
DETECTOR_ID = MEX_HRSC_BLUE
EVENT_TYPE = "MARS-REGIONAL-MAPPING-Im-Pf-Eo"
INSTRUMENT_HOST_ID = MEX
INSTRUMENT_HOST_NAME = "MARS EXPRESS"
INSTRUMENT_ID = HRSC
INSTRUMENT_NAME = "HIGH RESOLUTION STEREO CAMERA"
MISSION_NAME = "MARS EXPRESS"
MISSION_PHASE_NAME = ME_Phase_38
PROCESSING_LEVEL_ID = 3
PRODUCT_CREATION_TIME = 2018-09-04T13:05:27.000Z
PRODUCT_ID = "HI070_0000_BL3.JP2"
RELEASE_ID = 0140
REVISION_ID = 0000
/* QUALITY DATA ELEMENTS */
DATA_QUALITY_ID = 1
DATA_QUALITY_DESC = "Data calculated based on original SPICE kernels"
/* TIME DATA ELEMENTS */
SPACECRAFT_CLOCK_START_COUNT = "1/0471615970.09086"
SPACECRAFT_CLOCK_STOP_COUNT = "1/0471616233.24958"
START_TIME = 2018-04-12T12:26:56.124Z
STOP_TIME = 2018-04-12T12:30:13.740Z
/* ORBITAL DATA ELEMENTS */
ASCENDING_NODE_LONGITUDE = 234.93
MAXIMUM_RESOLUTION = 62.1
FOOTPRINT_POINT_LATITUDE = (74.9563,74.8836,74.8055,74.7836, 74.5107,74.1009,73.6905,73.4167,73.1427 ,72.8684,72.594,72.3194,71.9072,71.6321 ,71.2193,70.9439,70.6683,70.3926, 70.1168,69.8408,69.5647,69.1503,68.8739 ,68.5973,68.3206,68.0438,67.7668, 67.3512,67.074,66.7966,66.5192,66.1027, 65.8249,65.547,65.1299,64.8517,64.5733, 64.295,64.0164,63.7377,63.3195,62.9008, 62.6216,62.339,62.0518,61.6208,61.3334, 61.0457,60.8272,60.8582,60.8849,60.9143 ,60.9474,61.1147,61.4034,61.8359, 62.1242,62.4124,62.6984,62.9788,63.259, 63.5391,63.9592,64.3792,64.7988,65.0785 ,65.3581,65.6376,66.0568,66.3362, 66.6155,66.8947,67.3135,67.5926,67.8716 ,68.2901,68.5689,68.8478,69.1266, 69.4053,69.684,69.9627,70.2413,70.5199, 70.7984,71.0769,71.3554,71.6338,71.9122 ,72.1905,72.4688,72.7471,73.1643, 73.5816,73.8597,74.1377,74.4158,74.6938 ,74.9717,74.9563)
FOOTPRINT_POINT_LONGITUDE = (186.31,184.922,183.592,182.783,183.026 ,183.373,183.701,183.91,184.112,184.306 ,184.494,184.675,184.936,185.103, 185.343,185.496,185.645,185.789,185.928 ,186.063,186.194,186.384,186.505, 186.623,186.737,186.848,186.956,187.111 ,187.212,187.309,187.404,187.541,187.63 ,187.716,187.841,187.921,187.999, 188.075,188.15,188.222,188.327,188.428, 188.493,188.557,188.62,188.712,188.772, 188.829,189.123,189.625,190.099,190.657 ,191.358,191.852,191.81,191.747,191.704 ,191.66,191.615,191.57,191.524,191.477, 191.405,191.33,191.252,191.199,191.145, 191.089,191.003,190.944,190.883,190.821 ,190.724,190.657,190.589,190.483, 190.411,190.336,190.259,190.18,190.099, 190.015,189.928,189.839,189.748,189.654 ,189.556,189.456,189.353,189.246, 189.135,189.021,188.841,188.654,188.523 ,188.387,188.247,188.1,187.949,186.31)
ORBIT_NUMBER = 18070
ORBITAL_ECCENTRICITY = 0.57
ORBITAL_INCLINATION = 86.98
ORBITAL_SEMIMAJOR_AXIS = 8757.77
PERIAPSIS_ALTITUDE = 384.92
PERIAPSIS_ARGUMENT_ANGLE = 105.8
PERIAPSIS_TIME = 2018-04-12T12:27:05.000Z
SPACECRAFT_ORIENTATION = (0.0,-1.0,0.0)
^MEX_ORIENTATION_DESC = "MEX_ORIENTATION_DESC.TXT"
SPACECRAFT_POINTING_MODE = INERT
^MEX_POINTING_DESC = "MEX_POINTING_DESC.TXT"
RIGHT_ASCENSION = 162.611
DECLINATION = -62.018
OFFSET_ANGLE = -1e+32
SPACECRAFT_SOLAR_DISTANCE = 2.27047e+08
TARGET_NAME = MARS
/* CAMERA DATA ELEMENTS */
DETECTOR_TEMPERATURE = 18.3705
FOCAL_PLANE_TEMPERATURE = 8.5833
INST_CMPRS_NAME = "DISCRETE COSINE TRANSFORMATION (DCT)"
INST_CMPRS_RATIO = 8.87824
INST_CMPRS_QUALITY = 0
INST_CMPRS_QUANTZ_TBL_ID = 0
INSTRUMENT_TEMPERATURE = 11.8457
LENS_TEMPERATURE = 9.195
MACROPIXEL_SIZE = 4
MISSING_FRAMES = 0
PIXEL_SUBSAMPLING_FLAG = N
SIGNAL_CHAIN_ID = 2
/* RADIOMETRIC DATA ELEMENTS */
BANDWIDTH = 76.0
CENTER_FILTER_WAVELENGTH = 444.0
RADIANCE_OFFSET = 0.530028
RADIANCE_SCALING_FACTOR = 0.0030425
REFLECTANCE_SCALING_FACTOR = 0.000161147
MEX:REFLECTANCE_OFFSET = 0.028073
/* IMAGE OBJECT DEFINITIONS */
OBJECT = IMAGE
  INTERCHANGE_FORMAT = BINARY
  LINES = 16782
  LINE_SAMPLES = 3565
  SAMPLE_TYPE = UNSIGNED_INTEGER
  SAMPLE_BITS = 8
  BANDS = 1
  BAND_STORAGE_TYPE = BAND_SEQUENTIAL
  MAXIMUM = 255
  MEAN = 47.1639
  MINIMUM = 1
  STANDARD_DEVIATION = 13.4254
END_OBJECT = IMAGE
/* MAP OBJECT DEFINITIONS */
OBJECT = IMAGE_MAP_PROJECTION
  ^DATA_SET_MAP_PROJECTION_CATALOG= "DSMAP.CAT"
  A_AXIS_RADIUS = 3396.0
  B_AXIS_RADIUS = 3396.0
  C_AXIS_RADIUS = 3396.0
  CENTER_LATITUDE = 0.0
  CENTER_LONGITUDE = 189.0
  COORDINATE_SYSTEM_NAME = PLANETOGRAPHIC
  COORDINATE_SYSTEM_TYPE = "BODY-FIXED ROTATING"
  EASTERNMOST_LONGITUDE = 191.852
  FIRST_STANDARD_PARALLEL = "N/A"
  LINE_FIRST_PIXEL = 1
  LINE_LAST_PIXEL = 16782
  LINE_PROJECTION_OFFSET = 88954.625
  MAP_PROJECTION_ROTATION = 0.0
  MAP_PROJECTION_TYPE = SINUSOIDAL
  MAP_RESOLUTION = 1185.42760773333
  MAP_SCALE = 0.05
  MAXIMUM_LATITUDE = 74.9717
  MINIMUM_LATITUDE = 60.8272
  POSITIVE_LONGITUDE_DIRECTION = EAST
  REFERENCE_LATITUDE = "N/A"
  REFERENCE_LONGITUDE = "N/A"
  SAMPLE_FIRST_PIXEL = 1
  SAMPLE_LAST_PIXEL = 3565
  SAMPLE_PROJECTION_OFFSET = 1890.125
  SECOND_STANDARD_PARALLEL = "N/A"
  WESTERNMOST_LONGITUDE = 182.783
END_OBJECT = IMAGE_MAP_PROJECTION
/* The JPEG2000 image data file associated with this label. */
OBJECT = COMPRESSED_FILE
  FILE_NAME = "HI070_0000_BL3.JP2"
  RECORD_TYPE = UNDEFINED
  FILE_RECORDS = UNK
  ENCODING_TYPE = "JP2"
  INTERCHANGE_FORMAT = BINARY
  UNCOMPRESSED_FILE_NAME = "HI070_0000_BL3.IMG"
  REQUIRED_STORAGE_BYTES = "59849220"
  ^DESCRIPTION = "JP2INFO.TXT"
END_OBJECT = COMPRESSED_FILE
END
